Workbook
Name og_list_1: 'Table Dictionary'!$A$7:$A$39
Name og_list_10: 'Pass Definitions'!$C$7:$C$1200
Name og_list_11: 'Table Dictionary'!$C$7:$C$1200
Name og_list_12: 'Field Dictionary'!$C$7:$C$1200
Name og_list_13: 'Content Items'!$C$7:$C$1200
Name og_list_14: 'Figure Contracts'!$C$7:$C$1200
Name og_list_15: 'Figure Outputs'!$C$7:$C$1200
Name og_list_16: 'Document Plans'!$C$7:$C$1200
Name og_list_17: 'Template Slots'!$C$7:$C$1200
Name og_list_18: Checks!$C$7:$C$1200
Name og_list_19: Instructions!$C$7:$C$1200
Name og_list_2: Releases!$C$7:$C$1200
Name og_list_20: Approvals!$C$7:$C$1200
Name og_list_21: Sources!$C$7:$C$1200
Name og_list_22: 'Asset Requirements'!$C$7:$C$1200
Name og_list_23: 'Asset Lifecycle'!$C$7:$C$1200
Name og_list_3: 'Pass Runs'!$C$7:$C$1200
Name og_list_4: 'File Revisions'!$C$7:$C$1200
Name og_list_5: Templates!$C$7:$C$1200
Name og_list_6: Rulesets!$C$7:$C$1200
Name og_list_7: Themes!$C$7:$C$1200
Name og_list_8: 'Record Revisions'!$C$7:$C$1200
Name og_list_9: Projects!$C$7:$C$1200

Sheet Home
A1: OCTOGROOVE / Worked Example
A2: 33 linked Tables • sandbox execution • stable identities • local instructions
A3: =HYPERLINK("#'Reader'!A1","OPEN RECORD READER") -> OPEN RECORD READER
A5: Table | B5: Symbol | C5: Records
A6: =HYPERLINK("#'Projects'!A1","Projects") -> Projects | B6: 🐙📁 | C6: =COUNTA(Projects!C7:C1200) -> 3 | D6: Start with Guide, then use Reader to inspect records. Amber cells in Reader are controls. The 33 Tables retain stable IDs and numbered fields.
A7: =HYPERLINK("#'Pass Definitions'!A1","Pass Definitions") -> Pass Definitions | B7: 🐙📋 | C7: =COUNTA('Pass Definitions'!C7:C1200) -> 8
A8: =HYPERLINK("#'Pass Runs'!A1","Pass Runs") -> Pass Runs | B8: 🐙▶️ | C8: =COUNTA('Pass Runs'!C7:C1200) -> 22
A9: =HYPERLINK("#'Instructions'!A1","Instructions") -> Instructions | B9: 📖🧭 | C9: =COUNTA(Instructions!C7:C1200) -> 420
A10: =HYPERLINK("#'Record Revisions'!A1","Record Revisions") -> Record Revisions | B10: 🧩🔢 | C10: =COUNTA('Record Revisions'!C7:C1200) -> 644
A11: =HYPERLINK("#'Sources'!A1","Sources") -> Sources | B11: 📚🔎 | C11: =COUNTA(Sources!C7:C1200) -> 4 | D11: =HYPERLINK("#Guide!A1","READ AND USE GUIDE") -> READ AND USE GUIDE
A12: =HYPERLINK("#'Content Items'!A1","Content Items") -> Content Items | B12: 📄🧩 | C12: =COUNTA('Content Items'!C7:C1200) -> 32
A13: =HYPERLINK("#'Figure Contracts'!A1","Figure Contracts") -> Figure Contracts | B13: 🖼️📋 | C13: =COUNTA('Figure Contracts'!C7:C1200) -> 15
A14: =HYPERLINK("#'Asset Requirements'!A1","Asset Requirements") -> Asset Requirements | B14: 🧰📋 | C14: =COUNTA('Asset Requirements'!C7:C1200) -> 34
A15: =HYPERLINK("#'File Revisions'!A1","File Revisions") -> File Revisions | B15: 📎🔢 | C15: =COUNTA('File Revisions'!C7:C1200) -> 62
A16: =HYPERLINK("#'Figure Outputs'!A1","Figure Outputs") -> Figure Outputs | B16: 🖼️📦 | C16: =COUNTA('Figure Outputs'!C7:C1200) -> 15
A17: =HYPERLINK("#'Document Placements'!A1","Document Placements") -> Document Placements | B17: 📄📐 | C17: =COUNTA('Document Placements'!C7:C1200) -> 39
A18: =HYPERLINK("#'Dependencies'!A1","Dependencies") -> Dependencies | B18: 🔗🧭 | C18: =COUNTA(Dependencies!C7:C1200) -> 217
A19: =HYPERLINK("#'Checks'!A1","Checks") -> Checks | B19: 🔍✅ | C19: =COUNTA(Checks!C7:C1200) -> 55
A20: =HYPERLINK("#'Issues'!A1","Issues") -> Issues | B20: 🔧⚠️ | C20: =COUNTA(Issues!C7:C1200) -> 6
A21: =HYPERLINK("#'Approvals'!A1","Approvals") -> Approvals | B21: 👤✅ | C21: =COUNTA(Approvals!C7:C1200) -> 0
A22: =HYPERLINK("#'Releases'!A1","Releases") -> Releases | B22: 📦🏁 | C22: =COUNTA(Releases!C7:C1200) -> 2
A23: =HYPERLINK("#'Table Dictionary'!A1","Table Dictionary") -> Table Dictionary | B23: 🗂️📖 | C23: =COUNTA('Table Dictionary'!C7:C1200) -> 33
A24: =HYPERLINK("#'Field Dictionary'!A1","Field Dictionary") -> Field Dictionary | B24: 🔢📖 | C24: =COUNTA('Field Dictionary'!C7:C1200) -> 382
A25: =HYPERLINK("#'Source Support'!A1","Source Support") -> Source Support | B25: 📚🔗 | C25: =COUNTA('Source Support'!C7:C1200) -> 32
A26: =HYPERLINK("#'Figure Coverage'!A1","Figure Coverage") -> Figure Coverage | B26: 🖼️🔗 | C26: =COUNTA('Figure Coverage'!C7:C1200) -> 15
A27: =HYPERLINK("#'Figure Requirements'!A1","Figure Requirements") -> Figure Requirements | B27: 🧰🔗 | C27: =COUNTA('Figure Requirements'!C7:C1200) -> 59
A28: =HYPERLINK("#'Requirement Fulfillment'!A1","Requirement Fulfillment") -> Requirement Fulfillment | B28: 📎🔗 | C28: =COUNTA('Requirement Fulfillment'!C7:C1200) -> 29
A29: =HYPERLINK("#'Run Artifacts'!A1","Run Artifacts") -> Run Artifacts | B29: 🐙🔗 | C29: =COUNTA('Run Artifacts'!C7:C1200) -> 264
A30: =HYPERLINK("#'Document Plans'!A1","Document Plans") -> Document Plans | B30: 📄🗺️ | C30: =COUNTA('Document Plans'!C7:C1200) -> 2
A31: =HYPERLINK("#'Templates'!A1","Templates") -> Templates | B31: 📄🧱 | C31: =COUNTA(Templates!C7:C1200) -> 1
A32: =HYPERLINK("#'Template Slots'!A1","Template Slots") -> Template Slots | B32: 📄🕳️ | C32: =COUNTA('Template Slots'!C7:C1200) -> 3
A33: =HYPERLINK("#'Rulesets'!A1","Rulesets") -> Rulesets | B33: 📋⚙️ | C33: =COUNTA(Rulesets!C7:C1200) -> 1
A34: =HYPERLINK("#'Rules'!A1","Rules") -> Rules | B34: 📏⚙️ | C34: =COUNTA(Rules!C7:C1200) -> 3
A35: =HYPERLINK("#'Themes'!A1","Themes") -> Themes | B35: 🎨🧬 | C35: =COUNTA(Themes!C7:C1200) -> 1
A36: =HYPERLINK("#'Assembly Components'!A1","Assembly Components") -> Assembly Components | B36: 🧩📐 | C36: =COUNTA('Assembly Components'!C7:C1200) -> 1
A37: =HYPERLINK("#'Generation Requests'!A1","Generation Requests") -> Generation Requests | B37: ✨📋 | C37: =COUNTA('Generation Requests'!C7:C1200) -> 1
A38: =HYPERLINK("#'Asset Lifecycle'!A1","Asset Lifecycle") -> Asset Lifecycle | B38: 📦♻️ | C38: =COUNTA('Asset Lifecycle'!C7:C1200) -> 1

Sheet Reader
A1: OCTOGROOVE / Record reader
A2: =HYPERLINK("#'Home'!A1","Home") -> Home
A3: Table | B3: Figure Outputs | D3: Choose a Table and enter its Record ID. To follow a link, enter its Field Number and array member (1 for a single link). Open the target row below, or copy the target Table and ID into B3/B4 to continue reading.
A4: Record ID | B4: OUTPUT-F01
A5: Link field number | B5: 5
A6: Link member number | B6: 1
A8: Field | B8: Name | C8: Value | D8: Type | E8: Target Table | F8: Instructions
A9: 1 | B9: =IFERROR(INDEX(CHOOSE(MATCH($B$3,'Table Dictionary'!$A$7:$A$39,0),Projects!A5:P5,'Pass Definitions'!A5:P5,'Pass Runs'!A5:P5,Instructions!A5:P5,'Record Revisions'!A5:P5,Sources!A5:P5,'Content Items'!A5:P5,'Figure Contracts'!A5:P5,'Asset Requirements'!A5:P5,'File Revisions'!A5:P5,'Figure Outputs'!A5:P5,'Document Placements'!A5:P5,Dependencies!A5:P5,Checks!A5:P5,Issues!A5:P5,Approvals!A5:P5,Releases!A5:P5,'Table Dictionary'!A5:P5,'Field Dictionary'!A5:P5,'Source Support'!A5:P5,'Figure Coverage'!A5:P5,'Figure Requirements'!A5:P5,'Requirement Fulfillment'!A5:P5,'Run Artifacts'!A5:P5,'Document Plans'!A5:P5,Templates!A5:P5,'Template Slots'!A5:P5,Rulesets!A5:P5,Rules!A5:P5,Themes!A5:P5,'Assembly Components'!A5:P5,'Generation Requests'!A5:P5,'Asset Lifecycle'!A5:P5),1,A9),"") -> 1 — Name | C9: =IF(B9="","",IF(COUNTIFS(CHOOSE(MATCH($B$3,'Table Dictionary'!$A$7:$A$39,0),Projects!C7:C1200,'Pass Definitions'!C7:C1200,'Pass Runs'!C7:C1200,Instructions!C7:C1200,'Record Revisions'!C7:C1200,Sources!C7:C1200,'Content Items'!C7:C1200,'Figure Contracts'!C7:C1200,'Asset Requirements'!C7:C1200,'File Revisions'!C7:C1200,'Figure Outputs'!C7:C1200,'Document Placements'!C7:C1200,Dependencies!C7:C1200,Checks!C7:C1200,Issues!C7:C1200,Approvals!C7:C1200,Releases!C7:C1200,'Table Dictionary'!C7:C1200,'Field Dictionary'!C7:C1200,'Source Support'!C7:C1200,'Figure Coverage'!C7:C1200,'Figure Requirements'!C7:C1200,'Requirement Fulfillment'!C7:C1200,'Run Artifacts'!C7:C1200,'Document Plans'!C7:C1200,Templates!C7:C1200,'Template Slots'!C7:C1200,Rulesets!C7:C1200,Rules!C7:C1200,Themes!C7:C1200,'Assembly Components'!C7:C1200,'Generation Requests'!C7:C1200,'Asset Lifecycle'!C7:C1200),$B$4)<>1,"SELECT UNIQUE ID",IF(INDEX(CHOOSE(MATCH($B$3,'Table Dictionary'!$A$7:$A$39,0),Projects!A7:P1200,'Pass Definitions'!A7:P1200,'Pass Runs'!A7:P1200,Instructions!A7:P1200,'Record Revisions'!A7:P1200,Sources!A7:P1200,'Content Items'!A7:P1200,'Figure Contracts'!A7:P1200,'Asset Requirements'!A7:P1200,'File Revisions'!A7:P1200,'Figure Outputs'!A7:P1200,'Document Placements'!A7:P1200,Dependencies!A7:P1200,Checks!A7:P1200,Issues!A7:P1200,Approvals!A7:P1200,Releases!A7:P1200,'Table Dictionary'!A7:P1200,'Field Dictionary'!A7:P1200,'Source Support'!A7:P1200,'Figure Coverage'!A7:P1200,'Figure Requirements'!A7:P1200,'Requirement Fulfillment'!A7:P1200,'Run Artifacts'!A7:P1200,'Document Plans'!A7:P1200,Templates!A7:P1200,'Template Slots'!A7:P1200,Rulesets!A7:P1200,Rules!A7:P1200,Themes!A7:P1200,'Assembly Components'!A7:P1200,'Generation Requests'!A7:P1200,'Asset Lifecycle'!A7:P1200),MATCH($B$4,CHOOSE(MATCH($B$3,'Table Dictionary'!$A$7:$A$39,0),Projects!C7:C1200,'Pass Definitions'!C7:C1200,'Pass Runs'!C7:C1200,Instructions!C7:C1200,'Record Revisions'!C7:C1200,Sources!C7:C1200,'Content Items'!C7:C1200,'Figure Contracts'!C7:C1200,'Asset Requirements'!C7:C1200,'File Revisions'!C7:C1200,'Figure Outputs'!C7:C1200,'Document Placements'!C7:C1200,Dependencies!C7:C1200,Checks!C7:C1200,Issues!C7:C1200,Approvals!C7:C1200,Releases!C7:C1200,'Table Dictionary'!C7:C1200,'Field Dictionary'!C7:C1200,'Source Support'!C7:C1200,'Figure Coverage'!C7:C1200,'Figure Requirements'!C7:C1200,'Requirement Fulfillment'!C7:C1200,'Run Artifacts'!C7:C1200,'Document Plans'!C7:C1200,Templates!C7:C1200,'Template Slots'!C7:C1200,Rulesets!C7:C1200,Rules!C7:C1200,Themes!C7:C1200,'Assembly Components'!C7:C1200,'Generation Requests'!C7:C1200,'Asset Lifecycle'!C7:C1200),0),A9)="","",INDEX(CHOOSE(MATCH($B$3,'Table Dictionary'!$A$7:$A$39,0),Projects!A7:P1200,'Pass Definitions'!A7:P1200,'Pass Runs'!A7:P1200,Instructions!A7:P1200,'Record Revisions'!A7:P1200,Sources!A7:P1200,'Content Items'!A7:P1200,'Figure Contracts'!A7:P1200,'Asset Requirements'!A7:P1200,'File Revisions'!A7:P1200,'Figure Outputs'!A7:P1200,'Document Placements'!A7:P1200,Dependencies!A7:P1200,Checks!A7:P1200,Issues!A7:P1200,Approvals!A7:P1200,Releases!A7:P1200,'Table Dictionary'!A7:P1200,'Field Dictionary'!A7:P1200,'Source Support'!A7:P1200,'Figure Coverage'!A7:P1200,'Figure Requirements'!A7:P1200,'Requirement Fulfillment'!A7:P1200,'Run Artifacts'!A7:P1200,'Document Plans'!A7:P1200,Templates!A7:P1200,'Template Slots'!A7:P1200,Rulesets!A7:P1200,Rules!A7:P1200,Themes!A7:P1200,'Assembly Components'!A7:P1200,'Generation Requests'!A7:P1200,'Asset Lifecycle'!A7:P1200),MATCH($B$4,CHOOSE(MATCH($B$3,'Table Dictionary'!$A$7:$A$39,0),Projects!C7:C1200,'Pass Definitions'!C7:C1200,'Pass Runs'!C7:C1200,Instructions!C7:C1200,'Record Revisions'!C7:C1200,Sources!C7:C1200,'Content Items'!C7:C1200,'Figure Contracts'!C7:C1200,'Asset Requirements'!C7:C1200,'File Revisions'!C7:C1200,'Figure Outputs'!C7:C1200,'Document Placements'!C7:C1200,Dependencies!C7:C1200,Checks!C7:C1200,Issues!C7:C1200,Approvals!C7:C1200,Releases!C7:C1200,'Table Dictionary'!C7:C1200,'Field Dictionary'!C7:C1200,'Source Support'!C7:C1200,'Figure Coverage'!C7:C1200,'Figure Requirements'!C7:C1200,'Requirement Fulfillment'!C7:C1200,'Run Artifacts'!C7:C1200,'Document Plans'!C7:C1200,Templates!C7:C1200,'Template Slots'!C7:C1200,Rulesets!C7:C1200,Rules!C7:C1200,Themes!C7:C1200,'Assembly Components'!C7:C1200,'Generation Requests'!C7:C1200,'Asset Lifecycle'!C7:C1200),0),A9)))) -> F01 approved output | D9: =IF(B9="","",INDEX('Field Dictionary'!$G$7:$G$500,MATCH(INDEX('Table Dictionary'!$C$7:$C$39,MATCH($B$3,'Table Dictionary'!$A$7:$A$39,0))&"-F"&TEXT(A9,"00"),'Field Dictionary'!$C$7:$C$500,0))) -> SHORT TEXT | E9: =IF(OR(D9="LINKED RECORD",D9="LINKED RECORDS"),INDEX('Table Dictionary'!$A$7:$A$39,MATCH(INDEX('Field Dictionary'!$J$7:$J$500,MATCH(INDEX('Table Dictionary'!$C$7:$C$39,MATCH($B$3,'Table Dictionary'!$A$7:$A$39,0))&"-F"&TEXT(A9,"00"),'Field Dictionary'!$C$7:$C$500,0)),'Table Dictionary'!$C$7:$C$39,0)),"") | F9: =IF(B9="","",HYPERLINK("#'Field Dictionary'!A"&(MATCH(INDEX('Table Dictionary'!$C$7:$C$39,MATCH($B$3,'Table Dictionary'!$A$7:$A$39,0))&"-F"&TEXT(A9,"00"),'Field Dictionary'!$C$7:$C$500,0)+6),"Read field rule")) -> Read field rule
A10: 2 | B10: =IFERROR(INDEX(CHOOSE(MATCH($B$3,'Table Dictionary'!$A$7:$A$39,0),Projects!A5:P5,'Pass Definitions'!A5:P5,'Pass Runs'!A5:P5,Instructions!A5:P5,'Record Revisions'!A5:P5,Sources!A5:P5,'Content Items'!A5:P5,'Figure Contracts'!A5:P5,'Asset Requirements'!A5:P5,'File Revisions'!A5:P5,'Figure Outputs'!A5:P5,'Document Placements'!A5:P5,Dependencies!A5:P5,Checks!A5:P5,Issues!A5:P5,Approvals!A5:P5,Releases!A5:P5,'Table Dictionary'!A5:P5,'Field Dictionary'!A5:P5,'Source Support'!A5:P5,'Figure Coverage'!A5:P5,'Figure Requirements'!A5:P5,'Requirement Fulfillment'!A5:P5,'Run Artifacts'!A5:P5,'Document Plans'!A5:P5,Templates!A5:P5,'Template Slots'!A5:P5,Rulesets!A5:P5,Rules!A5:P5,Themes!A5:P5,'Assembly Components'!A5:P5,'Generation Requests'!A5:P5,'Asset Lifecycle'!A5:P5),1,A10),"") -> 2 — Description | C10: =IF(B10="","",IF(COUNTIFS(CHOOSE(MATCH($B$3,'Table Dictionary'!$A$7:$A$39,0),Projects!C7:C1200,'Pass Definitions'!C7:C1200,'Pass Runs'!C7:C1200,Instructions!C7:C1200,'Record Revisions'!C7:C1200,Sources!C7:C1200,'Content Items'!C7:C1200,'Figure Contracts'!C7:C1200,'Asset Requirements'!C7:C1200,'File Revisions'!C7:C1200,'Figure Outputs'!C7:C1200,'Document Placements'!C7:C1200,Dependencies!C7:C1200,Checks!C7:C1200,Issues!C7:C1200,Approvals!C7:C1200,Releases!C7:C1200,'Table Dictionary'!C7:C1200,'Field Dictionary'!C7:C1200,'Source Support'!C7:C1200,'Figure Coverage'!C7:C1200,'Figure Requirements'!C7:C1200,'Requirement Fulfillment'!C7:C1200,'Run Artifacts'!C7:C1200,'Document Plans'!C7:C1200,Templates!C7:C1200,'Template Slots'!C7:C1200,Rulesets!C7:C1200,Rules!C7:C1200,Themes!C7:C1200,'Assembly Components'!C7:C1200,'Generation Requests'!C7:C1200,'Asset Lifecycle'!C7:C1200),$B$4)<>1,"SELECT UNIQUE ID",IF(INDEX(CHOOSE(MATCH($B$3,'Table Dictionary'!$A$7:$A$39,0),Projects!A7:P1200,'Pass Definitions'!A7:P1200,'Pass Runs'!A7:P1200,Instructions!A7:P1200,'Record Revisions'!A7:P1200,Sources!A7:P1200,'Content Items'!A7:P1200,'Figure Contracts'!A7:P1200,'Asset Requirements'!A7:P1200,'File Revisions'!A7:P1200,'Figure Outputs'!A7:P1200,'Document Placements'!A7:P1200,Dependencies!A7:P1200,Checks!A7:P1200,Issues!A7:P1200,Approvals!A7:P1200,Releases!A7:P1200,'Table Dictionary'!A7:P1200,'Field Dictionary'!A7:P1200,'Source Support'!A7:P1200,'Figure Coverage'!A7:P1200,'Figure Requirements'!A7:P1200,'Requirement Fulfillment'!A7:P1200,'Run Artifacts'!A7:P1200,'Document Plans'!A7:P1200,Templates!A7:P1200,'Template Slots'!A7:P1200,Rulesets!A7:P1200,Rules!A7:P1200,Themes!A7:P1200,'Assembly Components'!A7:P1200,'Generation Requests'!A7:P1200,'Asset Lifecycle'!A7:P1200),MATCH($B$4,CHOOSE(MATCH($B$3,'Table Dictionary'!$A$7:$A$39,0),Projects!C7:C1200,'Pass Definitions'!C7:C1200,'Pass Runs'!C7:C1200,Instructions!C7:C1200,'Record Revisions'!C7:C1200,Sources!C7:C1200,'Content Items'!C7:C1200,'Figure Contracts'!C7:C1200,'Asset Requirements'!C7:C1200,'File Revisions'!C7:C1200,'Figure Outputs'!C7:C1200,'Document Placements'!C7:C1200,Dependencies!C7:C1200,Checks!C7:C1200,Issues!C7:C1200,Approvals!C7:C1200,Releases!C7:C1200,'Table Dictionary'!C7:C1200,'Field Dictionary'!C7:C1200,'Source Support'!C7:C1200,'Figure Coverage'!C7:C1200,'Figure Requirements'!C7:C1200,'Requirement Fulfillment'!C7:C1200,'Run Artifacts'!C7:C1200,'Document Plans'!C7:C1200,Templates!C7:C1200,'Template Slots'!C7:C1200,Rulesets!C7:C1200,Rules!C7:C1200,Themes!C7:C1200,'Assembly Components'!C7:C1200,'Generation Requests'!C7:C1200,'Asset Lifecycle'!C7:C1200),0),A10)="","",INDEX(CHOOSE(MATCH($B$3,'Table Dictionary'!$A$7:$A$39,0),Projects!A7:P1200,'Pass Definitions'!A7:P1200,'Pass Runs'!A7:P1200,Instructions!A7:P1200,'Record Revisions'!A7:P1200,Sources!A7:P1200,'Content Items'!A7:P1200,'Figure Contracts'!A7:P1200,'Asset Requirements'!A7:P1200,'File Revisions'!A7:P1200,'Figure Outputs'!A7:P1200,'Document Placements'!A7:P1200,Dependencies!A7:P1200,Checks!A7:P1200,Issues!A7:P1200,Approvals!A7:P1200,Releases!A7:P1200,'Table Dictionary'!A7:P1200,'Field Dictionary'!A7:P1200,'Source Support'!A7:P1200,'Figure Coverage'!A7:P1200,'Figure Requirements'!A7:P1200,'Requirement Fulfillment'!A7:P1200,'Run Artifacts'!A7:P1200,'Document Plans'!A7:P1200,Templates!A7:P1200,'Template Slots'!A7:P1200,Rulesets!A7:P1200,Rules!A7:P1200,Themes!A7:P1200,'Assembly Components'!A7:P1200,'Generation Requests'!A7:P1200,'Asset Lifecycle'!A7:P1200),MATCH($B$4,CHOOSE(MATCH($B$3,'Table Dictionary'!$A$7:$A$39,0),Projects!C7:C1200,'Pass Definitions'!C7:C1200,'Pass Runs'!C7:C1200,Instructions!C7:C1200,'Record Revisions'!C7:C1200,Sources!C7:C1200,'Content Items'!C7:C1200,'Figure Contracts'!C7:C1200,'Asset Requirements'!C7:C1200,'File Revisions'!C7:C1200,'Figure Outputs'!C7:C1200,'Document Placements'!C7:C1200,Dependencies!C7:C1200,Checks!C7:C1200,Issues!C7:C1200,Approvals!C7:C1200,Releases!C7:C1200,'Table Dictionary'!C7:C1200,'Field Dictionary'!C7:C1200,'Source Support'!C7:C1200,'Figure Coverage'!C7:C1200,'Figure Requirements'!C7:C1200,'Requirement Fulfillment'!C7:C1200,'Run Artifacts'!C7:C1200,'Document Plans'!C7:C1200,Templates!C7:C1200,'Template Slots'!C7:C1200,Rulesets!C7:C1200,Rules!C7:C1200,Themes!C7:C1200,'Assembly Components'!C7:C1200,'Generation Requests'!C7:C1200,'Asset Lifecycle'!C7:C1200),0),A10)))) -> Registered preserved figure implementation. | D10: =IF(B10="","",INDEX('Field Dictionary'!$G$7:$G$500,MATCH(INDEX('Table Dictionary'!$C$7:$C$39,MATCH($B$3,'Table Dictionary'!$A$7:$A$39,0))&"-F"&TEXT(A10,"00"),'Field Dictionary'!$C$7:$C$500,0))) -> LONG TEXT | E10: =IF(OR(D10="LINKED RECORD",D10="LINKED RECORDS"),INDEX('Table Dictionary'!$A$7:$A$39,MATCH(INDEX('Field Dictionary'!$J$7:$J$500,MATCH(INDEX('Table Dictionary'!$C$7:$C$39,MATCH($B$3,'Table Dictionary'!$A$7:$A$39,0))&"-F"&TEXT(A10,"00"),'Field Dictionary'!$C$7:$C$500,0)),'Table Dictionary'!$C$7:$C$39,0)),"") | F10: =IF(B10="","",HYPERLINK("#'Field Dictionary'!A"&(MATCH(INDEX('Table Dictionary'!$C$7:$C$39,MATCH($B$3,'Table Dictionary'!$A$7:$A$39,0))&"-F"&TEXT(A10,"00"),'Field Dictionary'!$C$7:$C$500,0)+6),"Read field rule")) -> Read field rule
A11: 3 | B11: =IFERROR(INDEX(CHOOSE(MATCH($B$3,'Table Dictionary'!$A$7:$A$39,0),Projects!A5:P5,'Pass Definitions'!A5:P5,'Pass Runs'!A5:P5,Instructions!A5:P5,'Record Revisions'!A5:P5,Sources!A5:P5,'Content Items'!A5:P5,'Figure Contracts'!A5:P5,'Asset Requirements'!A5:P5,'File Revisions'!A5:P5,'Figure Outputs'!A5:P5,'Document Placements'!A5:P5,Dependencies!A5:P5,Checks!A5:P5,Issues!A5:P5,Approvals!A5:P5,Releases!A5:P5,'Table Dictionary'!A5:P5,'Field Dictionary'!A5:P5,'Source Support'!A5:P5,'Figure Coverage'!A5:P5,'Figure Requirements'!A5:P5,'Requirement Fulfillment'!A5:P5,'Run Artifacts'!A5:P5,'Document Plans'!A5:P5,Templates!A5:P5,'Template Slots'!A5:P5,Rulesets!A5:P5,Rules!A5:P5,Themes!A5:P5,'Assembly Components'!A5:P5,'Generation Requests'!A5:P5,'Asset Lifecycle'!A5:P5),1,A11),"") -> 3 — Record ID | C11: =IF(B11="","",IF(COUNTIFS(CHOOSE(MATCH($B$3,'Table Dictionary'!$A$7:$A$39,0),Projects!C7:C1200,'Pass Definitions'!C7:C1200,'Pass Runs'!C7:C1200,Instructions!C7:C1200,'Record Revisions'!C7:C1200,Sources!C7:C1200,'Content Items'!C7:C1200,'Figure Contracts'!C7:C1200,'Asset Requirements'!C7:C1200,'File Revisions'!C7:C1200,'Figure Outputs'!C7:C1200,'Document Placements'!C7:C1200,Dependencies!C7:C1200,Checks!C7:C1200,Issues!C7:C1200,Approvals!C7:C1200,Releases!C7:C1200,'Table Dictionary'!C7:C1200,'Field Dictionary'!C7:C1200,'Source Support'!C7:C1200,'Figure Coverage'!C7:C1200,'Figure Requirements'!C7:C1200,'Requirement Fulfillment'!C7:C1200,'Run Artifacts'!C7:C1200,'Document Plans'!C7:C1200,Templates!C7:C1200,'Template Slots'!C7:C1200,Rulesets!C7:C1200,Rules!C7:C1200,Themes!C7:C1200,'Assembly Components'!C7:C1200,'Generation Requests'!C7:C1200,'Asset Lifecycle'!C7:C1200),$B$4)<>1,"SELECT UNIQUE ID",IF(INDEX(CHOOSE(MATCH($B$3,'Table Dictionary'!$A$7:$A$39,0),Projects!A7:P1200,'Pass Definitions'!A7:P1200,'Pass Runs'!A7:P1200,Instructions!A7:P1200,'Record Revisions'!A7:P1200,Sources!A7:P1200,'Content Items'!A7:P1200,'Figure Contracts'!A7:P1200,'Asset Requirements'!A7:P1200,'File Revisions'!A7:P1200,'Figure Outputs'!A7:P1200,'Document Placements'!A7:P1200,Dependencies!A7:P1200,Checks!A7:P1200,Issues!A7:P1200,Approvals!A7:P1200,Releases!A7:P1200,'Table Dictionary'!A7:P1200,'Field Dictionary'!A7:P1200,'Source Support'!A7:P1200,'Figure Coverage'!A7:P1200,'Figure Requirements'!A7:P1200,'Requirement Fulfillment'!A7:P1200,'Run Artifacts'!A7:P1200,'Document Plans'!A7:P1200,Templates!A7:P1200,'Template Slots'!A7:P1200,Rulesets!A7:P1200,Rules!A7:P1200,Themes!A7:P1200,'Assembly Components'!A7:P1200,'Generation Requests'!A7:P1200,'Asset Lifecycle'!A7:P1200),MATCH($B$4,CHOOSE(MATCH($B$3,'Table Dictionary'!$A$7:$A$39,0),Projects!C7:C1200,'Pass Definitions'!C7:C1200,'Pass Runs'!C7:C1200,Instructions!C7:C1200,'Record Revisions'!C7:C1200,Sources!C7:C1200,'Content Items'!C7:C1200,'Figure Contracts'!C7:C1200,'Asset Requirements'!C7:C1200,'File Revisions'!C7:C1200,'Figure Outputs'!C7:C1200,'Document Placements'!C7:C1200,Dependencies!C7:C1200,Checks!C7:C1200,Issues!C7:C1200,Approvals!C7:C1200,Releases!C7:C1200,'Table Dictionary'!C7:C1200,'Field Dictionary'!C7:C1200,'Source Support'!C7:C1200,'Figure Coverage'!C7:C1200,'Figure Requirements'!C7:C1200,'Requirement Fulfillment'!C7:C1200,'Run Artifacts'!C7:C1200,'Document Plans'!C7:C1200,Templates!C7:C1200,'Template Slots'!C7:C1200,Rulesets!C7:C1200,Rules!C7:C1200,Themes!C7:C1200,'Assembly Components'!C7:C1200,'Generation Requests'!C7:C1200,'Asset Lifecycle'!C7:C1200),0),A11)="","",INDEX(CHOOSE(MATCH($B$3,'Table Dictionary'!$A$7:$A$39,0),Projects!A7:P1200,'Pass Definitions'!A7:P1200,'Pass Runs'!A7:P1200,Instructions!A7:P1200,'Record Revisions'!A7:P1200,Sources!A7:P1200,'Content Items'!A7:P1200,'Figure Contracts'!A7:P1200,'Asset Requirements'!A7:P1200,'File Revisions'!A7:P1200,'Figure Outputs'!A7:P1200,'Document Placements'!A7:P1200,Dependencies!A7:P1200,Checks!A7:P1200,Issues!A7:P1200,Approvals!A7:P1200,Releases!A7:P1200,'Table Dictionary'!A7:P1200,'Field Dictionary'!A7:P1200,'Source Support'!A7:P1200,'Figure Coverage'!A7:P1200,'Figure Requirements'!A7:P1200,'Requirement Fulfillment'!A7:P1200,'Run Artifacts'!A7:P1200,'Document Plans'!A7:P1200,Templates!A7:P1200,'Template Slots'!A7:P1200,Rulesets!A7:P1200,Rules!A7:P1200,Themes!A7:P1200,'Assembly Components'!A7:P1200,'Generation Requests'!A7:P1200,'Asset Lifecycle'!A7:P1200),MATCH($B$4,CHOOSE(MATCH($B$3,'Table Dictionary'!$A$7:$A$39,0),Projects!C7:C1200,'Pass Definitions'!C7:C1200,'Pass Runs'!C7:C1200,Instructions!C7:C1200,'Record Revisions'!C7:C1200,Sources!C7:C1200,'Content Items'!C7:C1200,'Figure Contracts'!C7:C1200,'Asset Requirements'!C7:C1200,'File Revisions'!C7:C1200,'Figure Outputs'!C7:C1200,'Document Placements'!C7:C1200,Dependencies!C7:C1200,Checks!C7:C1200,Issues!C7:C1200,Approvals!C7:C1200,Releases!C7:C1200,'Table Dictionary'!C7:C1200,'Field Dictionary'!C7:C1200,'Source Support'!C7:C1200,'Figure Coverage'!C7:C1200,'Figure Requirements'!C7:C1200,'Requirement Fulfillment'!C7:C1200,'Run Artifacts'!C7:C1200,'Document Plans'!C7:C1200,Templates!C7:C1200,'Template Slots'!C7:C1200,Rulesets!C7:C1200,Rules!C7:C1200,Themes!C7:C1200,'Assembly Components'!C7:C1200,'Generation Requests'!C7:C1200,'Asset Lifecycle'!C7:C1200),0),A11)))) -> OUTPUT-F01 | D11: =IF(B11="","",INDEX('Field Dictionary'!$G$7:$G$500,MATCH(INDEX('Table Dictionary'!$C$7:$C$39,MATCH($B$3,'Table Dictionary'!$A$7:$A$39,0))&"-F"&TEXT(A11,"00"),'Field Dictionary'!$C$7:$C$500,0))) -> SHORT TEXT | E11: =IF(OR(D11="LINKED RECORD",D11="LINKED RECORDS"),INDEX('Table Dictionary'!$A$7:$A$39,MATCH(INDEX('Field Dictionary'!$J$7:$J$500,MATCH(INDEX('Table Dictionary'!$C$7:$C$39,MATCH($B$3,'Table Dictionary'!$A$7:$A$39,0))&"-F"&TEXT(A11,"00"),'Field Dictionary'!$C$7:$C$500,0)),'Table Dictionary'!$C$7:$C$39,0)),"") | F11: =IF(B11="","",HYPERLINK("#'Field Dictionary'!A"&(MATCH(INDEX('Table Dictionary'!$C$7:$C$39,MATCH($B$3,'Table Dictionary'!$A$7:$A$39,0))&"-F"&TEXT(A11,"00"),'Field Dictionary'!$C$7:$C$500,0)+6),"Read field rule")) -> Read field rule
A12: 4 | B12: =IFERROR(INDEX(CHOOSE(MATCH($B$3,'Table Dictionary'!$A$7:$A$39,0),Projects!A5:P5,'Pass Definitions'!A5:P5,'Pass Runs'!A5:P5,Instructions!A5:P5,'Record Revisions'!A5:P5,Sources!A5:P5,'Content Items'!A5:P5,'Figure Contracts'!A5:P5,'Asset Requirements'!A5:P5,'File Revisions'!A5:P5,'Figure Outputs'!A5:P5,'Document Placements'!A5:P5,Dependencies!A5:P5,Checks!A5:P5,Issues!A5:P5,Approvals!A5:P5,Releases!A5:P5,'Table Dictionary'!A5:P5,'Field Dictionary'!A5:P5,'Source Support'!A5:P5,'Figure Coverage'!A5:P5,'Figure Requirements'!A5:P5,'Requirement Fulfillment'!A5:P5,'Run Artifacts'!A5:P5,'Document Plans'!A5:P5,Templates!A5:P5,'Template Slots'!A5:P5,Rulesets!A5:P5,Rules!A5:P5,Themes!A5:P5,'Assembly Components'!A5:P5,'Generation Requests'!A5:P5,'Asset Lifecycle'!A5:P5),1,A12),"") -> 4 — Revision | C12: =IF(B12="","",IF(COUNTIFS(CHOOSE(MATCH($B$3,'Table Dictionary'!$A$7:$A$39,0),Projects!C7:C1200,'Pass Definitions'!C7:C1200,'Pass Runs'!C7:C1200,Instructions!C7:C1200,'Record Revisions'!C7:C1200,Sources!C7:C1200,'Content Items'!C7:C1200,'Figure Contracts'!C7:C1200,'Asset Requirements'!C7:C1200,'File Revisions'!C7:C1200,'Figure Outputs'!C7:C1200,'Document Placements'!C7:C1200,Dependencies!C7:C1200,Checks!C7:C1200,Issues!C7:C1200,Approvals!C7:C1200,Releases!C7:C1200,'Table Dictionary'!C7:C1200,'Field Dictionary'!C7:C1200,'Source Support'!C7:C1200,'Figure Coverage'!C7:C1200,'Figure Requirements'!C7:C1200,'Requirement Fulfillment'!C7:C1200,'Run Artifacts'!C7:C1200,'Document Plans'!C7:C1200,Templates!C7:C1200,'Template Slots'!C7:C1200,Rulesets!C7:C1200,Rules!C7:C1200,Themes!C7:C1200,'Assembly Components'!C7:C1200,'Generation Requests'!C7:C1200,'Asset Lifecycle'!C7:C1200),$B$4)<>1,"SELECT UNIQUE ID",IF(INDEX(CHOOSE(MATCH($B$3,'Table Dictionary'!$A$7:$A$39,0),Projects!A7:P1200,'Pass Definitions'!A7:P1200,'Pass Runs'!A7:P1200,Instructions!A7:P1200,'Record Revisions'!A7:P1200,Sources!A7:P1200,'Content Items'!A7:P1200,'Figure Contracts'!A7:P1200,'Asset Requirements'!A7:P1200,'File Revisions'!A7:P1200,'Figure Outputs'!A7:P1200,'Document Placements'!A7:P1200,Dependencies!A7:P1200,Checks!A7:P1200,Issues!A7:P1200,Approvals!A7:P1200,Releases!A7:P1200,'Table Dictionary'!A7:P1200,'Field Dictionary'!A7:P1200,'Source Support'!A7:P1200,'Figure Coverage'!A7:P1200,'Figure Requirements'!A7:P1200,'Requirement Fulfillment'!A7:P1200,'Run Artifacts'!A7:P1200,'Document Plans'!A7:P1200,Templates!A7:P1200,'Template Slots'!A7:P1200,Rulesets!A7:P1200,Rules!A7:P1200,Themes!A7:P1200,'Assembly Components'!A7:P1200,'Generation Requests'!A7:P1200,'Asset Lifecycle'!A7:P1200),MATCH($B$4,CHOOSE(MATCH($B$3,'Table Dictionary'!$A$7:$A$39,0),Projects!C7:C1200,'Pass Definitions'!C7:C1200,'Pass Runs'!C7:C1200,Instructions!C7:C1200,'Record Revisions'!C7:C1200,Sources!C7:C1200,'Content Items'!C7:C1200,'Figure Contracts'!C7:C1200,'Asset Requirements'!C7:C1200,'File Revisions'!C7:C1200,'Figure Outputs'!C7:C1200,'Document Placements'!C7:C1200,Dependencies!C7:C1200,Checks!C7:C1200,Issues!C7:C1200,Approvals!C7:C1200,Releases!C7:C1200,'Table Dictionary'!C7:C1200,'Field Dictionary'!C7:C1200,'Source Support'!C7:C1200,'Figure Coverage'!C7:C1200,'Figure Requirements'!C7:C1200,'Requirement Fulfillment'!C7:C1200,'Run Artifacts'!C7:C1200,'Document Plans'!C7:C1200,Templates!C7:C1200,'Template Slots'!C7:C1200,Rulesets!C7:C1200,Rules!C7:C1200,Themes!C7:C1200,'Assembly Components'!C7:C1200,'Generation Requests'!C7:C1200,'Asset Lifecycle'!C7:C1200),0),A12)="","",INDEX(CHOOSE(MATCH($B$3,'Table Dictionary'!$A$7:$A$39,0),Projects!A7:P1200,'Pass Definitions'!A7:P1200,'Pass Runs'!A7:P1200,Instructions!A7:P1200,'Record Revisions'!A7:P1200,Sources!A7:P1200,'Content Items'!A7:P1200,'Figure Contracts'!A7:P1200,'Asset Requirements'!A7:P1200,'File Revisions'!A7:P1200,'Figure Outputs'!A7:P1200,'Document Placements'!A7:P1200,Dependencies!A7:P1200,Checks!A7:P1200,Issues!A7:P1200,Approvals!A7:P1200,Releases!A7:P1200,'Table Dictionary'!A7:P1200,'Field Dictionary'!A7:P1200,'Source Support'!A7:P1200,'Figure Coverage'!A7:P1200,'Figure Requirements'!A7:P1200,'Requirement Fulfillment'!A7:P1200,'Run Artifacts'!A7:P1200,'Document Plans'!A7:P1200,Templates!A7:P1200,'Template Slots'!A7:P1200,Rulesets!A7:P1200,Rules!A7:P1200,Themes!A7:P1200,'Assembly Components'!A7:P1200,'Generation Requests'!A7:P1200,'Asset Lifecycle'!A7:P1200),MATCH($B$4,CHOOSE(MATCH($B$3,'Table Dictionary'!$A$7:$A$39,0),Projects!C7:C1200,'Pass Definitions'!C7:C1200,'Pass Runs'!C7:C1200,Instructions!C7:C1200,'Record Revisions'!C7:C1200,Sources!C7:C1200,'Content Items'!C7:C1200,'Figure Contracts'!C7:C1200,'Asset Requirements'!C7:C1200,'File Revisions'!C7:C1200,'Figure Outputs'!C7:C1200,'Document Placements'!C7:C1200,Dependencies!C7:C1200,Checks!C7:C1200,Issues!C7:C1200,Approvals!C7:C1200,Releases!C7:C1200,'Table Dictionary'!C7:C1200,'Field Dictionary'!C7:C1200,'Source Support'!C7:C1200,'Figure Coverage'!C7:C1200,'Figure Requirements'!C7:C1200,'Requirement Fulfillment'!C7:C1200,'Run Artifacts'!C7:C1200,'Document Plans'!C7:C1200,Templates!C7:C1200,'Template Slots'!C7:C1200,Rulesets!C7:C1200,Rules!C7:C1200,Themes!C7:C1200,'Assembly Components'!C7:C1200,'Generation Requests'!C7:C1200,'Asset Lifecycle'!C7:C1200),0),A12)))) -> R-OUTPUT-F01 | D12: =IF(B12="","",INDEX('Field Dictionary'!$G$7:$G$500,MATCH(INDEX('Table Dictionary'!$C$7:$C$39,MATCH($B$3,'Table Dictionary'!$A$7:$A$39,0))&"-F"&TEXT(A12,"00"),'Field Dictionary'!$C$7:$C$500,0))) -> LINKED RECORD | E12: =IF(OR(D12="LINKED RECORD",D12="LINKED RECORDS"),INDEX('Table Dictionary'!$A$7:$A$39,MATCH(INDEX('Field Dictionary'!$J$7:$J$500,MATCH(INDEX('Table Dictionary'!$C$7:$C$39,MATCH($B$3,'Table Dictionary'!$A$7:$A$39,0))&"-F"&TEXT(A12,"00"),'Field Dictionary'!$C$7:$C$500,0)),'Table Dictionary'!$C$7:$C$39,0)),"") -> Record Revisions | F12: =IF(B12="","",HYPERLINK("#'Field Dictionary'!A"&(MATCH(INDEX('Table Dictionary'!$C$7:$C$39,MATCH($B$3,'Table Dictionary'!$A$7:$A$39,0))&"-F"&TEXT(A12,"00"),'Field Dictionary'!$C$7:$C$500,0)+6),"Read field rule")) -> Read field rule
A13: 5 | B13: =IFERROR(INDEX(CHOOSE(MATCH($B$3,'Table Dictionary'!$A$7:$A$39,0),Projects!A5:P5,'Pass Definitions'!A5:P5,'Pass Runs'!A5:P5,Instructions!A5:P5,'Record Revisions'!A5:P5,Sources!A5:P5,'Content Items'!A5:P5,'Figure Contracts'!A5:P5,'Asset Requirements'!A5:P5,'File Revisions'!A5:P5,'Figure Outputs'!A5:P5,'Document Placements'!A5:P5,Dependencies!A5:P5,Checks!A5:P5,Issues!A5:P5,Approvals!A5:P5,Releases!A5:P5,'Table Dictionary'!A5:P5,'Field Dictionary'!A5:P5,'Source Support'!A5:P5,'Figure Coverage'!A5:P5,'Figure Requirements'!A5:P5,'Requirement Fulfillment'!A5:P5,'Run Artifacts'!A5:P5,'Document Plans'!A5:P5,Templates!A5:P5,'Template Slots'!A5:P5,Rulesets!A5:P5,Rules!A5:P5,Themes!A5:P5,'Assembly Components'!A5:P5,'Generation Requests'!A5:P5,'Asset Lifecycle'!A5:P5),1,A13),"") -> 5 — Figure Contract | C13: =IF(B13="","",IF(COUNTIFS(CHOOSE(MATCH($B$3,'Table Dictionary'!$A$7:$A$39,0),Projects!C7:C1200,'Pass Definitions'!C7:C1200,'Pass Runs'!C7:C1200,Instructions!C7:C1200,'Record Revisions'!C7:C1200,Sources!C7:C1200,'Content Items'!C7:C1200,'Figure Contracts'!C7:C1200,'Asset Requirements'!C7:C1200,'File Revisions'!C7:C1200,'Figure Outputs'!C7:C1200,'Document Placements'!C7:C1200,Dependencies!C7:C1200,Checks!C7:C1200,Issues!C7:C1200,Approvals!C7:C1200,Releases!C7:C1200,'Table Dictionary'!C7:C1200,'Field Dictionary'!C7:C1200,'Source Support'!C7:C1200,'Figure Coverage'!C7:C1200,'Figure Requirements'!C7:C1200,'Requirement Fulfillment'!C7:C1200,'Run Artifacts'!C7:C1200,'Document Plans'!C7:C1200,Templates!C7:C1200,'Template Slots'!C7:C1200,Rulesets!C7:C1200,Rules!C7:C1200,Themes!C7:C1200,'Assembly Components'!C7:C1200,'Generation Requests'!C7:C1200,'Asset Lifecycle'!C7:C1200),$B$4)<>1,"SELECT UNIQUE ID",IF(INDEX(CHOOSE(MATCH($B$3,'Table Dictionary'!$A$7:$A$39,0),Projects!A7:P1200,'Pass Definitions'!A7:P1200,'Pass Runs'!A7:P1200,Instructions!A7:P1200,'Record Revisions'!A7:P1200,Sources!A7:P1200,'Content Items'!A7:P1200,'Figure Contracts'!A7:P1200,'Asset Requirements'!A7:P1200,'File Revisions'!A7:P1200,'Figure Outputs'!A7:P1200,'Document Placements'!A7:P1200,Dependencies!A7:P1200,Checks!A7:P1200,Issues!A7:P1200,Approvals!A7:P1200,Releases!A7:P1200,'Table Dictionary'!A7:P1200,'Field Dictionary'!A7:P1200,'Source Support'!A7:P1200,'Figure Coverage'!A7:P1200,'Figure Requirements'!A7:P1200,'Requirement Fulfillment'!A7:P1200,'Run Artifacts'!A7:P1200,'Document Plans'!A7:P1200,Templates!A7:P1200,'Template Slots'!A7:P1200,Rulesets!A7:P1200,Rules!A7:P1200,Themes!A7:P1200,'Assembly Components'!A7:P1200,'Generation Requests'!A7:P1200,'Asset Lifecycle'!A7:P1200),MATCH($B$4,CHOOSE(MATCH($B$3,'Table Dictionary'!$A$7:$A$39,0),Projects!C7:C1200,'Pass Definitions'!C7:C1200,'Pass Runs'!C7:C1200,Instructions!C7:C1200,'Record Revisions'!C7:C1200,Sources!C7:C1200,'Content Items'!C7:C1200,'Figure Contracts'!C7:C1200,'Asset Requirements'!C7:C1200,'File Revisions'!C7:C1200,'Figure Outputs'!C7:C1200,'Document Placements'!C7:C1200,Dependencies!C7:C1200,Checks!C7:C1200,Issues!C7:C1200,Approvals!C7:C1200,Releases!C7:C1200,'Table Dictionary'!C7:C1200,'Field Dictionary'!C7:C1200,'Source Support'!C7:C1200,'Figure Coverage'!C7:C1200,'Figure Requirements'!C7:C1200,'Requirement Fulfillment'!C7:C1200,'Run Artifacts'!C7:C1200,'Document Plans'!C7:C1200,Templates!C7:C1200,'Template Slots'!C7:C1200,Rulesets!C7:C1200,Rules!C7:C1200,Themes!C7:C1200,'Assembly Components'!C7:C1200,'Generation Requests'!C7:C1200,'Asset Lifecycle'!C7:C1200),0),A13)="","",INDEX(CHOOSE(MATCH($B$3,'Table Dictionary'!$A$7:$A$39,0),Projects!A7:P1200,'Pass Definitions'!A7:P1200,'Pass Runs'!A7:P1200,Instructions!A7:P1200,'Record Revisions'!A7:P1200,Sources!A7:P1200,'Content Items'!A7:P1200,'Figure Contracts'!A7:P1200,'Asset Requirements'!A7:P1200,'File Revisions'!A7:P1200,'Figure Outputs'!A7:P1200,'Document Placements'!A7:P1200,Dependencies!A7:P1200,Checks!A7:P1200,Issues!A7:P1200,Approvals!A7:P1200,Releases!A7:P1200,'Table Dictionary'!A7:P1200,'Field Dictionary'!A7:P1200,'Source Support'!A7:P1200,'Figure Coverage'!A7:P1200,'Figure Requirements'!A7:P1200,'Requirement Fulfillment'!A7:P1200,'Run Artifacts'!A7:P1200,'Document Plans'!A7:P1200,Templates!A7:P1200,'Template Slots'!A7:P1200,Rulesets!A7:P1200,Rules!A7:P1200,Themes!A7:P1200,'Assembly Components'!A7:P1200,'Generation Requests'!A7:P1200,'Asset Lifecycle'!A7:P1200),MATCH($B$4,CHOOSE(MATCH($B$3,'Table Dictionary'!$A$7:$A$39,0),Projects!C7:C1200,'Pass Definitions'!C7:C1200,'Pass Runs'!C7:C1200,Instructions!C7:C1200,'Record Revisions'!C7:C1200,Sources!C7:C1200,'Content Items'!C7:C1200,'Figure Contracts'!C7:C1200,'Asset Requirements'!C7:C1200,'File Revisions'!C7:C1200,'Figure Outputs'!C7:C1200,'Document Placements'!C7:C1200,Dependencies!C7:C1200,Checks!C7:C1200,Issues!C7:C1200,Approvals!C7:C1200,Releases!C7:C1200,'Table Dictionary'!C7:C1200,'Field Dictionary'!C7:C1200,'Source Support'!C7:C1200,'Figure Coverage'!C7:C1200,'Figure Requirements'!C7:C1200,'Requirement Fulfillment'!C7:C1200,'Run Artifacts'!C7:C1200,'Document Plans'!C7:C1200,Templates!C7:C1200,'Template Slots'!C7:C1200,Rulesets!C7:C1200,Rules!C7:C1200,Themes!C7:C1200,'Assembly Components'!C7:C1200,'Generation Requests'!C7:C1200,'Asset Lifecycle'!C7:C1200),0),A13)))) -> CONTRACT-F01 | D13: =IF(B13="","",INDEX('Field Dictionary'!$G$7:$G$500,MATCH(INDEX('Table Dictionary'!$C$7:$C$39,MATCH($B$3,'Table Dictionary'!$A$7:$A$39,0))&"-F"&TEXT(A13,"00"),'Field Dictionary'!$C$7:$C$500,0))) -> LINKED RECORD | E13: =IF(OR(D13="LINKED RECORD",D13="LINKED RECORDS"),INDEX('Table Dictionary'!$A$7:$A$39,MATCH(INDEX('Field Dictionary'!$J$7:$J$500,MATCH(INDEX('Table Dictionary'!$C$7:$C$39,MATCH($B$3,'Table Dictionary'!$A$7:$A$39,0))&"-F"&TEXT(A13,"00"),'Field Dictionary'!$C$7:$C$500,0)),'Table Dictionary'!$C$7:$C$39,0)),"") -> Figure Contracts | F13: =IF(B13="","",HYPERLINK("#'Field Dictionary'!A"&(MATCH(INDEX('Table Dictionary'!$C$7:$C$39,MATCH($B$3,'Table Dictionary'!$A$7:$A$39,0))&"-F"&TEXT(A13,"00"),'Field Dictionary'!$C$7:$C$500,0)+6),"Read field rule")) -> Read field rule
A14: 6 | B14: =IFERROR(INDEX(CHOOSE(MATCH($B$3,'Table Dictionary'!$A$7:$A$39,0),Projects!A5:P5,'Pass Definitions'!A5:P5,'Pass Runs'!A5:P5,Instructions!A5:P5,'Record Revisions'!A5:P5,Sources!A5:P5,'Content Items'!A5:P5,'Figure Contracts'!A5:P5,'Asset Requirements'!A5:P5,'File Revisions'!A5:P5,'Figure Outputs'!A5:P5,'Document Placements'!A5:P5,Dependencies!A5:P5,Checks!A5:P5,Issues!A5:P5,Approvals!A5:P5,Releases!A5:P5,'Table Dictionary'!A5:P5,'Field Dictionary'!A5:P5,'Source Support'!A5:P5,'Figure Coverage'!A5:P5,'Figure Requirements'!A5:P5,'Requirement Fulfillment'!A5:P5,'Run Artifacts'!A5:P5,'Document Plans'!A5:P5,Templates!A5:P5,'Template Slots'!A5:P5,Rulesets!A5:P5,Rules!A5:P5,Themes!A5:P5,'Assembly Components'!A5:P5,'Generation Requests'!A5:P5,'Asset Lifecycle'!A5:P5),1,A14),"") -> 6 — Display File | C14: =IF(B14="","",IF(COUNTIFS(CHOOSE(MATCH($B$3,'Table Dictionary'!$A$7:$A$39,0),Projects!C7:C1200,'Pass Definitions'!C7:C1200,'Pass Runs'!C7:C1200,Instructions!C7:C1200,'Record Revisions'!C7:C1200,Sources!C7:C1200,'Content Items'!C7:C1200,'Figure Contracts'!C7:C1200,'Asset Requirements'!C7:C1200,'File Revisions'!C7:C1200,'Figure Outputs'!C7:C1200,'Document Placements'!C7:C1200,Dependencies!C7:C1200,Checks!C7:C1200,Issues!C7:C1200,Approvals!C7:C1200,Releases!C7:C1200,'Table Dictionary'!C7:C1200,'Field Dictionary'!C7:C1200,'Source Support'!C7:C1200,'Figure Coverage'!C7:C1200,'Figure Requirements'!C7:C1200,'Requirement Fulfillment'!C7:C1200,'Run Artifacts'!C7:C1200,'Document Plans'!C7:C1200,Templates!C7:C1200,'Template Slots'!C7:C1200,Rulesets!C7:C1200,Rules!C7:C1200,Themes!C7:C1200,'Assembly Components'!C7:C1200,'Generation Requests'!C7:C1200,'Asset Lifecycle'!C7:C1200),$B$4)<>1,"SELECT UNIQUE ID",IF(INDEX(CHOOSE(MATCH($B$3,'Table Dictionary'!$A$7:$A$39,0),Projects!A7:P1200,'Pass Definitions'!A7:P1200,'Pass Runs'!A7:P1200,Instructions!A7:P1200,'Record Revisions'!A7:P1200,Sources!A7:P1200,'Content Items'!A7:P1200,'Figure Contracts'!A7:P1200,'Asset Requirements'!A7:P1200,'File Revisions'!A7:P1200,'Figure Outputs'!A7:P1200,'Document Placements'!A7:P1200,Dependencies!A7:P1200,Checks!A7:P1200,Issues!A7:P1200,Approvals!A7:P1200,Releases!A7:P1200,'Table Dictionary'!A7:P1200,'Field Dictionary'!A7:P1200,'Source Support'!A7:P1200,'Figure Coverage'!A7:P1200,'Figure Requirements'!A7:P1200,'Requirement Fulfillment'!A7:P1200,'Run Artifacts'!A7:P1200,'Document Plans'!A7:P1200,Templates!A7:P1200,'Template Slots'!A7:P1200,Rulesets!A7:P1200,Rules!A7:P1200,Themes!A7:P1200,'Assembly Components'!A7:P1200,'Generation Requests'!A7:P1200,'Asset Lifecycle'!A7:P1200),MATCH($B$4,CHOOSE(MATCH($B$3,'Table Dictionary'!$A$7:$A$39,0),Projects!C7:C1200,'Pass Definitions'!C7:C1200,'Pass Runs'!C7:C1200,Instructions!C7:C1200,'Record Revisions'!C7:C1200,Sources!C7:C1200,'Content Items'!C7:C1200,'Figure Contracts'!C7:C1200,'Asset Requirements'!C7:C1200,'File Revisions'!C7:C1200,'Figure Outputs'!C7:C1200,'Document Placements'!C7:C1200,Dependencies!C7:C1200,Checks!C7:C1200,Issues!C7:C1200,Approvals!C7:C1200,Releases!C7:C1200,'Table Dictionary'!C7:C1200,'Field Dictionary'!C7:C1200,'Source Support'!C7:C1200,'Figure Coverage'!C7:C1200,'Figure Requirements'!C7:C1200,'Requirement Fulfillment'!C7:C1200,'Run Artifacts'!C7:C1200,'Document Plans'!C7:C1200,Templates!C7:C1200,'Template Slots'!C7:C1200,Rulesets!C7:C1200,Rules!C7:C1200,Themes!C7:C1200,'Assembly Components'!C7:C1200,'Generation Requests'!C7:C1200,'Asset Lifecycle'!C7:C1200),0),A14)="","",INDEX(CHOOSE(MATCH($B$3,'Table Dictionary'!$A$7:$A$39,0),Projects!A7:P1200,'Pass Definitions'!A7:P1200,'Pass Runs'!A7:P1200,Instructions!A7:P1200,'Record Revisions'!A7:P1200,Sources!A7:P1200,'Content Items'!A7:P1200,'Figure Contracts'!A7:P1200,'Asset Requirements'!A7:P1200,'File Revisions'!A7:P1200,'Figure Outputs'!A7:P1200,'Document Placements'!A7:P1200,Dependencies!A7:P1200,Checks!A7:P1200,Issues!A7:P1200,Approvals!A7:P1200,Releases!A7:P1200,'Table Dictionary'!A7:P1200,'Field Dictionary'!A7:P1200,'Source Support'!A7:P1200,'Figure Coverage'!A7:P1200,'Figure Requirements'!A7:P1200,'Requirement Fulfillment'!A7:P1200,'Run Artifacts'!A7:P1200,'Document Plans'!A7:P1200,Templates!A7:P1200,'Template Slots'!A7:P1200,Rulesets!A7:P1200,Rules!A7:P1200,Themes!A7:P1200,'Assembly Components'!A7:P1200,'Generation Requests'!A7:P1200,'Asset Lifecycle'!A7:P1200),MATCH($B$4,CHOOSE(MATCH($B$3,'Table Dictionary'!$A$7:$A$39,0),Projects!C7:C1200,'Pass Definitions'!C7:C1200,'Pass Runs'!C7:C1200,Instructions!C7:C1200,'Record Revisions'!C7:C1200,Sources!C7:C1200,'Content Items'!C7:C1200,'Figure Contracts'!C7:C1200,'Asset Requirements'!C7:C1200,'File Revisions'!C7:C1200,'Figure Outputs'!C7:C1200,'Document Placements'!C7:C1200,Dependencies!C7:C1200,Checks!C7:C1200,Issues!C7:C1200,Approvals!C7:C1200,Releases!C7:C1200,'Table Dictionary'!C7:C1200,'Field Dictionary'!C7:C1200,'Source Support'!C7:C1200,'Figure Coverage'!C7:C1200,'Figure Requirements'!C7:C1200,'Requirement Fulfillment'!C7:C1200,'Run Artifacts'!C7:C1200,'Document Plans'!C7:C1200,Templates!C7:C1200,'Template Slots'!C7:C1200,Rulesets!C7:C1200,Rules!C7:C1200,Themes!C7:C1200,'Assembly Components'!C7:C1200,'Generation Requests'!C7:C1200,'Asset Lifecycle'!C7:C1200),0),A14)))) -> F01-PNG | D14: =IF(B14="","",INDEX('Field Dictionary'!$G$7:$G$500,MATCH(INDEX('Table Dictionary'!$C$7:$C$39,MATCH($B$3,'Table Dictionary'!$A$7:$A$39,0))&"-F"&TEXT(A14,"00"),'Field Dictionary'!$C$7:$C$500,0))) -> LINKED RECORD | E14: =IF(OR(D14="LINKED RECORD",D14="LINKED RECORDS"),INDEX('Table Dictionary'!$A$7:$A$39,MATCH(INDEX('Field Dictionary'!$J$7:$J$500,MATCH(INDEX('Table Dictionary'!$C$7:$C$39,MATCH($B$3,'Table Dictionary'!$A$7:$A$39,0))&"-F"&TEXT(A14,"00"),'Field Dictionary'!$C$7:$C$500,0)),'Table Dictionary'!$C$7:$C$39,0)),"") -> File Revisions | F14: =IF(B14="","",HYPERLINK("#'Field Dictionary'!A"&(MATCH(INDEX('Table Dictionary'!$C$7:$C$39,MATCH($B$3,'Table Dictionary'!$A$7:$A$39,0))&"-F"&TEXT(A14,"00"),'Field Dictionary'!$C$7:$C$500,0)+6),"Read field rule")) -> Read field rule
A15: 7 | B15: =IFERROR(INDEX(CHOOSE(MATCH($B$3,'Table Dictionary'!$A$7:$A$39,0),Projects!A5:P5,'Pass Definitions'!A5:P5,'Pass Runs'!A5:P5,Instructions!A5:P5,'Record Revisions'!A5:P5,Sources!A5:P5,'Content Items'!A5:P5,'Figure Contracts'!A5:P5,'Asset Requirements'!A5:P5,'File Revisions'!A5:P5,'Figure Outputs'!A5:P5,'Document Placements'!A5:P5,Dependencies!A5:P5,Checks!A5:P5,Issues!A5:P5,Approvals!A5:P5,Releases!A5:P5,'Table Dictionary'!A5:P5,'Field Dictionary'!A5:P5,'Source Support'!A5:P5,'Figure Coverage'!A5:P5,'Figure Requirements'!A5:P5,'Requirement Fulfillment'!A5:P5,'Run Artifacts'!A5:P5,'Document Plans'!A5:P5,Templates!A5:P5,'Template Slots'!A5:P5,Rulesets!A5:P5,Rules!A5:P5,Themes!A5:P5,'Assembly Components'!A5:P5,'Generation Requests'!A5:P5,'Asset Lifecycle'!A5:P5),1,A15),"") -> 7 — Editable Files | C15: =IF(B15="","",IF(COUNTIFS(CHOOSE(MATCH($B$3,'Table Dictionary'!$A$7:$A$39,0),Projects!C7:C1200,'Pass Definitions'!C7:C1200,'Pass Runs'!C7:C1200,Instructions!C7:C1200,'Record Revisions'!C7:C1200,Sources!C7:C1200,'Content Items'!C7:C1200,'Figure Contracts'!C7:C1200,'Asset Requirements'!C7:C1200,'File Revisions'!C7:C1200,'Figure Outputs'!C7:C1200,'Document Placements'!C7:C1200,Dependencies!C7:C1200,Checks!C7:C1200,Issues!C7:C1200,Approvals!C7:C1200,Releases!C7:C1200,'Table Dictionary'!C7:C1200,'Field Dictionary'!C7:C1200,'Source Support'!C7:C1200,'Figure Coverage'!C7:C1200,'Figure Requirements'!C7:C1200,'Requirement Fulfillment'!C7:C1200,'Run Artifacts'!C7:C1200,'Document Plans'!C7:C1200,Templates!C7:C1200,'Template Slots'!C7:C1200,Rulesets!C7:C1200,Rules!C7:C1200,Themes!C7:C1200,'Assembly Components'!C7:C1200,'Generation Requests'!C7:C1200,'Asset Lifecycle'!C7:C1200),$B$4)<>1,"SELECT UNIQUE ID",IF(INDEX(CHOOSE(MATCH($B$3,'Table Dictionary'!$A$7:$A$39,0),Projects!A7:P1200,'Pass Definitions'!A7:P1200,'Pass Runs'!A7:P1200,Instructions!A7:P1200,'Record Revisions'!A7:P1200,Sources!A7:P1200,'Content Items'!A7:P1200,'Figure Contracts'!A7:P1200,'Asset Requirements'!A7:P1200,'File Revisions'!A7:P1200,'Figure Outputs'!A7:P1200,'Document Placements'!A7:P1200,Dependencies!A7:P1200,Checks!A7:P1200,Issues!A7:P1200,Approvals!A7:P1200,Releases!A7:P1200,'Table Dictionary'!A7:P1200,'Field Dictionary'!A7:P1200,'Source Support'!A7:P1200,'Figure Coverage'!A7:P1200,'Figure Requirements'!A7:P1200,'Requirement Fulfillment'!A7:P1200,'Run Artifacts'!A7:P1200,'Document Plans'!A7:P1200,Templates!A7:P1200,'Template Slots'!A7:P1200,Rulesets!A7:P1200,Rules!A7:P1200,Themes!A7:P1200,'Assembly Components'!A7:P1200,'Generation Requests'!A7:P1200,'Asset Lifecycle'!A7:P1200),MATCH($B$4,CHOOSE(MATCH($B$3,'Table Dictionary'!$A$7:$A$39,0),Projects!C7:C1200,'Pass Definitions'!C7:C1200,'Pass Runs'!C7:C1200,Instructions!C7:C1200,'Record Revisions'!C7:C1200,Sources!C7:C1200,'Content Items'!C7:C1200,'Figure Contracts'!C7:C1200,'Asset Requirements'!C7:C1200,'File Revisions'!C7:C1200,'Figure Outputs'!C7:C1200,'Document Placements'!C7:C1200,Dependencies!C7:C1200,Checks!C7:C1200,Issues!C7:C1200,Approvals!C7:C1200,Releases!C7:C1200,'Table Dictionary'!C7:C1200,'Field Dictionary'!C7:C1200,'Source Support'!C7:C1200,'Figure Coverage'!C7:C1200,'Figure Requirements'!C7:C1200,'Requirement Fulfillment'!C7:C1200,'Run Artifacts'!C7:C1200,'Document Plans'!C7:C1200,Templates!C7:C1200,'Template Slots'!C7:C1200,Rulesets!C7:C1200,Rules!C7:C1200,Themes!C7:C1200,'Assembly Components'!C7:C1200,'Generation Requests'!C7:C1200,'Asset Lifecycle'!C7:C1200),0),A15)="","",INDEX(CHOOSE(MATCH($B$3,'Table Dictionary'!$A$7:$A$39,0),Projects!A7:P1200,'Pass Definitions'!A7:P1200,'Pass Runs'!A7:P1200,Instructions!A7:P1200,'Record Revisions'!A7:P1200,Sources!A7:P1200,'Content Items'!A7:P1200,'Figure Contracts'!A7:P1200,'Asset Requirements'!A7:P1200,'File Revisions'!A7:P1200,'Figure Outputs'!A7:P1200,'Document Placements'!A7:P1200,Dependencies!A7:P1200,Checks!A7:P1200,Issues!A7:P1200,Approvals!A7:P1200,Releases!A7:P1200,'Table Dictionary'!A7:P1200,'Field Dictionary'!A7:P1200,'Source Support'!A7:P1200,'Figure Coverage'!A7:P1200,'Figure Requirements'!A7:P1200,'Requirement Fulfillment'!A7:P1200,'Run Artifacts'!A7:P1200,'Document Plans'!A7:P1200,Templates!A7:P1200,'Template Slots'!A7:P1200,Rulesets!A7:P1200,Rules!A7:P1200,Themes!A7:P1200,'Assembly Components'!A7:P1200,'Generation Requests'!A7:P1200,'Asset Lifecycle'!A7:P1200),MATCH($B$4,CHOOSE(MATCH($B$3,'Table Dictionary'!$A$7:$A$39,0),Projects!C7:C1200,'Pass Definitions'!C7:C1200,'Pass Runs'!C7:C1200,Instructions!C7:C1200,'Record Revisions'!C7:C1200,Sources!C7:C1200,'Content Items'!C7:C1200,'Figure Contracts'!C7:C1200,'Asset Requirements'!C7:C1200,'File Revisions'!C7:C1200,'Figure Outputs'!C7:C1200,'Document Placements'!C7:C1200,Dependencies!C7:C1200,Checks!C7:C1200,Issues!C7:C1200,Approvals!C7:C1200,Releases!C7:C1200,'Table Dictionary'!C7:C1200,'Field Dictionary'!C7:C1200,'Source Support'!C7:C1200,'Figure Coverage'!C7:C1200,'Figure Requirements'!C7:C1200,'Requirement Fulfillment'!C7:C1200,'Run Artifacts'!C7:C1200,'Document Plans'!C7:C1200,Templates!C7:C1200,'Template Slots'!C7:C1200,Rulesets!C7:C1200,Rules!C7:C1200,Themes!C7:C1200,'Assembly Components'!C7:C1200,'Generation Requests'!C7:C1200,'Asset Lifecycle'!C7:C1200),0),A15)))) -> ["F01-SVG"] | D15: =IF(B15="","",INDEX('Field Dictionary'!$G$7:$G$500,MATCH(INDEX('Table Dictionary'!$C$7:$C$39,MATCH($B$3,'Table Dictionary'!$A$7:$A$39,0))&"-F"&TEXT(A15,"00"),'Field Dictionary'!$C$7:$C$500,0))) -> LINKED RECORDS | E15: =IF(OR(D15="LINKED RECORD",D15="LINKED RECORDS"),INDEX('Table Dictionary'!$A$7:$A$39,MATCH(INDEX('Field Dictionary'!$J$7:$J$500,MATCH(INDEX('Table Dictionary'!$C$7:$C$39,MATCH($B$3,'Table Dictionary'!$A$7:$A$39,0))&"-F"&TEXT(A15,"00"),'Field Dictionary'!$C$7:$C$500,0)),'Table Dictionary'!$C$7:$C$39,0)),"") -> File Revisions | F15: =IF(B15="","",HYPERLINK("#'Field Dictionary'!A"&(MATCH(INDEX('Table Dictionary'!$C$7:$C$39,MATCH($B$3,'Table Dictionary'!$A$7:$A$39,0))&"-F"&TEXT(A15,"00"),'Field Dictionary'!$C$7:$C$500,0)+6),"Read field rule")) -> Read field rule
A16: 8 | B16: =IFERROR(INDEX(CHOOSE(MATCH($B$3,'Table Dictionary'!$A$7:$A$39,0),Projects!A5:P5,'Pass Definitions'!A5:P5,'Pass Runs'!A5:P5,Instructions!A5:P5,'Record Revisions'!A5:P5,Sources!A5:P5,'Content Items'!A5:P5,'Figure Contracts'!A5:P5,'Asset Requirements'!A5:P5,'File Revisions'!A5:P5,'Figure Outputs'!A5:P5,'Document Placements'!A5:P5,Dependencies!A5:P5,Checks!A5:P5,Issues!A5:P5,Approvals!A5:P5,Releases!A5:P5,'Table Dictionary'!A5:P5,'Field Dictionary'!A5:P5,'Source Support'!A5:P5,'Figure Coverage'!A5:P5,'Figure Requirements'!A5:P5,'Requirement Fulfillment'!A5:P5,'Run Artifacts'!A5:P5,'Document Plans'!A5:P5,Templates!A5:P5,'Template Slots'!A5:P5,Rulesets!A5:P5,Rules!A5:P5,Themes!A5:P5,'Assembly Components'!A5:P5,'Generation Requests'!A5:P5,'Asset Lifecycle'!A5:P5),1,A16),"") -> 8 — Used Fulfillments | C16: =IF(B16="","",IF(COUNTIFS(CHOOSE(MATCH($B$3,'Table Dictionary'!$A$7:$A$39,0),Projects!C7:C1200,'Pass Definitions'!C7:C1200,'Pass Runs'!C7:C1200,Instructions!C7:C1200,'Record Revisions'!C7:C1200,Sources!C7:C1200,'Content Items'!C7:C1200,'Figure Contracts'!C7:C1200,'Asset Requirements'!C7:C1200,'File Revisions'!C7:C1200,'Figure Outputs'!C7:C1200,'Document Placements'!C7:C1200,Dependencies!C7:C1200,Checks!C7:C1200,Issues!C7:C1200,Approvals!C7:C1200,Releases!C7:C1200,'Table Dictionary'!C7:C1200,'Field Dictionary'!C7:C1200,'Source Support'!C7:C1200,'Figure Coverage'!C7:C1200,'Figure Requirements'!C7:C1200,'Requirement Fulfillment'!C7:C1200,'Run Artifacts'!C7:C1200,'Document Plans'!C7:C1200,Templates!C7:C1200,'Template Slots'!C7:C1200,Rulesets!C7:C1200,Rules!C7:C1200,Themes!C7:C1200,'Assembly Components'!C7:C1200,'Generation Requests'!C7:C1200,'Asset Lifecycle'!C7:C1200),$B$4)<>1,"SELECT UNIQUE ID",IF(INDEX(CHOOSE(MATCH($B$3,'Table Dictionary'!$A$7:$A$39,0),Projects!A7:P1200,'Pass Definitions'!A7:P1200,'Pass Runs'!A7:P1200,Instructions!A7:P1200,'Record Revisions'!A7:P1200,Sources!A7:P1200,'Content Items'!A7:P1200,'Figure Contracts'!A7:P1200,'Asset Requirements'!A7:P1200,'File Revisions'!A7:P1200,'Figure Outputs'!A7:P1200,'Document Placements'!A7:P1200,Dependencies!A7:P1200,Checks!A7:P1200,Issues!A7:P1200,Approvals!A7:P1200,Releases!A7:P1200,'Table Dictionary'!A7:P1200,'Field Dictionary'!A7:P1200,'Source Support'!A7:P1200,'Figure Coverage'!A7:P1200,'Figure Requirements'!A7:P1200,'Requirement Fulfillment'!A7:P1200,'Run Artifacts'!A7:P1200,'Document Plans'!A7:P1200,Templates!A7:P1200,'Template Slots'!A7:P1200,Rulesets!A7:P1200,Rules!A7:P1200,Themes!A7:P1200,'Assembly Components'!A7:P1200,'Generation Requests'!A7:P1200,'Asset Lifecycle'!A7:P1200),MATCH($B$4,CHOOSE(MATCH($B$3,'Table Dictionary'!$A$7:$A$39,0),Projects!C7:C1200,'Pass Definitions'!C7:C1200,'Pass Runs'!C7:C1200,Instructions!C7:C1200,'Record Revisions'!C7:C1200,Sources!C7:C1200,'Content Items'!C7:C1200,'Figure Contracts'!C7:C1200,'Asset Requirements'!C7:C1200,'File Revisions'!C7:C1200,'Figure Outputs'!C7:C1200,'Document Placements'!C7:C1200,Dependencies!C7:C1200,Checks!C7:C1200,Issues!C7:C1200,Approvals!C7:C1200,Releases!C7:C1200,'Table Dictionary'!C7:C1200,'Field Dictionary'!C7:C1200,'Source Support'!C7:C1200,'Figure Coverage'!C7:C1200,'Figure Requirements'!C7:C1200,'Requirement Fulfillment'!C7:C1200,'Run Artifacts'!C7:C1200,'Document Plans'!C7:C1200,Templates!C7:C1200,'Template Slots'!C7:C1200,Rulesets!C7:C1200,Rules!C7:C1200,Themes!C7:C1200,'Assembly Components'!C7:C1200,'Generation Requests'!C7:C1200,'Asset Lifecycle'!C7:C1200),0),A16)="","",INDEX(CHOOSE(MATCH($B$3,'Table Dictionary'!$A$7:$A$39,0),Projects!A7:P1200,'Pass Definitions'!A7:P1200,'Pass Runs'!A7:P1200,Instructions!A7:P1200,'Record Revisions'!A7:P1200,Sources!A7:P1200,'Content Items'!A7:P1200,'Figure Contracts'!A7:P1200,'Asset Requirements'!A7:P1200,'File Revisions'!A7:P1200,'Figure Outputs'!A7:P1200,'Document Placements'!A7:P1200,Dependencies!A7:P1200,Checks!A7:P1200,Issues!A7:P1200,Approvals!A7:P1200,Releases!A7:P1200,'Table Dictionary'!A7:P1200,'Field Dictionary'!A7:P1200,'Source Support'!A7:P1200,'Figure Coverage'!A7:P1200,'Figure Requirements'!A7:P1200,'Requirement Fulfillment'!A7:P1200,'Run Artifacts'!A7:P1200,'Document Plans'!A7:P1200,Templates!A7:P1200,'Template Slots'!A7:P1200,Rulesets!A7:P1200,Rules!A7:P1200,Themes!A7:P1200,'Assembly Components'!A7:P1200,'Generation Requests'!A7:P1200,'Asset Lifecycle'!A7:P1200),MATCH($B$4,CHOOSE(MATCH($B$3,'Table Dictionary'!$A$7:$A$39,0),Projects!C7:C1200,'Pass Definitions'!C7:C1200,'Pass Runs'!C7:C1200,Instructions!C7:C1200,'Record Revisions'!C7:C1200,Sources!C7:C1200,'Content Items'!C7:C1200,'Figure Contracts'!C7:C1200,'Asset Requirements'!C7:C1200,'File Revisions'!C7:C1200,'Figure Outputs'!C7:C1200,'Document Placements'!C7:C1200,Dependencies!C7:C1200,Checks!C7:C1200,Issues!C7:C1200,Approvals!C7:C1200,Releases!C7:C1200,'Table Dictionary'!C7:C1200,'Field Dictionary'!C7:C1200,'Source Support'!C7:C1200,'Figure Coverage'!C7:C1200,'Figure Requirements'!C7:C1200,'Requirement Fulfillment'!C7:C1200,'Run Artifacts'!C7:C1200,'Document Plans'!C7:C1200,Templates!C7:C1200,'Template Slots'!C7:C1200,Rulesets!C7:C1200,Rules!C7:C1200,Themes!C7:C1200,'Assembly Components'!C7:C1200,'Generation Requests'!C7:C1200,'Asset Lifecycle'!C7:C1200),0),A16)))) -> ["FUL-F01-SVG","FUL-F01-PNG"] | D16: =IF(B16="","",INDEX('Field Dictionary'!$G$7:$G$500,MATCH(INDEX('Table Dictionary'!$C$7:$C$39,MATCH($B$3,'Table Dictionary'!$A$7:$A$39,0))&"-F"&TEXT(A16,"00"),'Field Dictionary'!$C$7:$C$500,0))) -> LINKED RECORDS | E16: =IF(OR(D16="LINKED RECORD",D16="LINKED RECORDS"),INDEX('Table Dictionary'!$A$7:$A$39,MATCH(INDEX('Field Dictionary'!$J$7:$J$500,MATCH(INDEX('Table Dictionary'!$C$7:$C$39,MATCH($B$3,'Table Dictionary'!$A$7:$A$39,0))&"-F"&TEXT(A16,"00"),'Field Dictionary'!$C$7:$C$500,0)),'Table Dictionary'!$C$7:$C$39,0)),"") -> Requirement Fulfillment | F16: =IF(B16="","",HYPERLINK("#'Field Dictionary'!A"&(MATCH(INDEX('Table Dictionary'!$C$7:$C$39,MATCH($B$3,'Table Dictionary'!$A$7:$A$39,0))&"-F"&TEXT(A16,"00"),'Field Dictionary'!$C$7:$C$500,0)+6),"Read field rule")) -> Read field rule
A17: 9 | B17: =IFERROR(INDEX(CHOOSE(MATCH($B$3,'Table Dictionary'!$A$7:$A$39,0),Projects!A5:P5,'Pass Definitions'!A5:P5,'Pass Runs'!A5:P5,Instructions!A5:P5,'Record Revisions'!A5:P5,Sources!A5:P5,'Content Items'!A5:P5,'Figure Contracts'!A5:P5,'Asset Requirements'!A5:P5,'File Revisions'!A5:P5,'Figure Outputs'!A5:P5,'Document Placements'!A5:P5,Dependencies!A5:P5,Checks!A5:P5,Issues!A5:P5,Approvals!A5:P5,Releases!A5:P5,'Table Dictionary'!A5:P5,'Field Dictionary'!A5:P5,'Source Support'!A5:P5,'Figure Coverage'!A5:P5,'Figure Requirements'!A5:P5,'Requirement Fulfillment'!A5:P5,'Run Artifacts'!A5:P5,'Document Plans'!A5:P5,Templates!A5:P5,'Template Slots'!A5:P5,Rulesets!A5:P5,Rules!A5:P5,Themes!A5:P5,'Assembly Components'!A5:P5,'Generation Requests'!A5:P5,'Asset Lifecycle'!A5:P5),1,A17),"") -> 9 — Caption | C17: =IF(B17="","",IF(COUNTIFS(CHOOSE(MATCH($B$3,'Table Dictionary'!$A$7:$A$39,0),Projects!C7:C1200,'Pass Definitions'!C7:C1200,'Pass Runs'!C7:C1200,Instructions!C7:C1200,'Record Revisions'!C7:C1200,Sources!C7:C1200,'Content Items'!C7:C1200,'Figure Contracts'!C7:C1200,'Asset Requirements'!C7:C1200,'File Revisions'!C7:C1200,'Figure Outputs'!C7:C1200,'Document Placements'!C7:C1200,Dependencies!C7:C1200,Checks!C7:C1200,Issues!C7:C1200,Approvals!C7:C1200,Releases!C7:C1200,'Table Dictionary'!C7:C1200,'Field Dictionary'!C7:C1200,'Source Support'!C7:C1200,'Figure Coverage'!C7:C1200,'Figure Requirements'!C7:C1200,'Requirement Fulfillment'!C7:C1200,'Run Artifacts'!C7:C1200,'Document Plans'!C7:C1200,Templates!C7:C1200,'Template Slots'!C7:C1200,Rulesets!C7:C1200,Rules!C7:C1200,Themes!C7:C1200,'Assembly Components'!C7:C1200,'Generation Requests'!C7:C1200,'Asset Lifecycle'!C7:C1200),$B$4)<>1,"SELECT UNIQUE ID",IF(INDEX(CHOOSE(MATCH($B$3,'Table Dictionary'!$A$7:$A$39,0),Projects!A7:P1200,'Pass Definitions'!A7:P1200,'Pass Runs'!A7:P1200,Instructions!A7:P1200,'Record Revisions'!A7:P1200,Sources!A7:P1200,'Content Items'!A7:P1200,'Figure Contracts'!A7:P1200,'Asset Requirements'!A7:P1200,'File Revisions'!A7:P1200,'Figure Outputs'!A7:P1200,'Document Placements'!A7:P1200,Dependencies!A7:P1200,Checks!A7:P1200,Issues!A7:P1200,Approvals!A7:P1200,Releases!A7:P1200,'Table Dictionary'!A7:P1200,'Field Dictionary'!A7:P1200,'Source Support'!A7:P1200,'Figure Coverage'!A7:P1200,'Figure Requirements'!A7:P1200,'Requirement Fulfillment'!A7:P1200,'Run Artifacts'!A7:P1200,'Document Plans'!A7:P1200,Templates!A7:P1200,'Template Slots'!A7:P1200,Rulesets!A7:P1200,Rules!A7:P1200,Themes!A7:P1200,'Assembly Components'!A7:P1200,'Generation Requests'!A7:P1200,'Asset Lifecycle'!A7:P1200),MATCH($B$4,CHOOSE(MATCH($B$3,'Table Dictionary'!$A$7:$A$39,0),Projects!C7:C1200,'Pass Definitions'!C7:C1200,'Pass Runs'!C7:C1200,Instructions!C7:C1200,'Record Revisions'!C7:C1200,Sources!C7:C1200,'Content Items'!C7:C1200,'Figure Contracts'!C7:C1200,'Asset Requirements'!C7:C1200,'File Revisions'!C7:C1200,'Figure Outputs'!C7:C1200,'Document Placements'!C7:C1200,Dependencies!C7:C1200,Checks!C7:C1200,Issues!C7:C1200,Approvals!C7:C1200,Releases!C7:C1200,'Table Dictionary'!C7:C1200,'Field Dictionary'!C7:C1200,'Source Support'!C7:C1200,'Figure Coverage'!C7:C1200,'Figure Requirements'!C7:C1200,'Requirement Fulfillment'!C7:C1200,'Run Artifacts'!C7:C1200,'Document Plans'!C7:C1200,Templates!C7:C1200,'Template Slots'!C7:C1200,Rulesets!C7:C1200,Rules!C7:C1200,Themes!C7:C1200,'Assembly Components'!C7:C1200,'Generation Requests'!C7:C1200,'Asset Lifecycle'!C7:C1200),0),A17)="","",INDEX(CHOOSE(MATCH($B$3,'Table Dictionary'!$A$7:$A$39,0),Projects!A7:P1200,'Pass Definitions'!A7:P1200,'Pass Runs'!A7:P1200,Instructions!A7:P1200,'Record Revisions'!A7:P1200,Sources!A7:P1200,'Content Items'!A7:P1200,'Figure Contracts'!A7:P1200,'Asset Requirements'!A7:P1200,'File Revisions'!A7:P1200,'Figure Outputs'!A7:P1200,'Document Placements'!A7:P1200,Dependencies!A7:P1200,Checks!A7:P1200,Issues!A7:P1200,Approvals!A7:P1200,Releases!A7:P1200,'Table Dictionary'!A7:P1200,'Field Dictionary'!A7:P1200,'Source Support'!A7:P1200,'Figure Coverage'!A7:P1200,'Figure Requirements'!A7:P1200,'Requirement Fulfillment'!A7:P1200,'Run Artifacts'!A7:P1200,'Document Plans'!A7:P1200,Templates!A7:P1200,'Template Slots'!A7:P1200,Rulesets!A7:P1200,Rules!A7:P1200,Themes!A7:P1200,'Assembly Components'!A7:P1200,'Generation Requests'!A7:P1200,'Asset Lifecycle'!A7:P1200),MATCH($B$4,CHOOSE(MATCH($B$3,'Table Dictionary'!$A$7:$A$39,0),Projects!C7:C1200,'Pass Definitions'!C7:C1200,'Pass Runs'!C7:C1200,Instructions!C7:C1200,'Record Revisions'!C7:C1200,Sources!C7:C1200,'Content Items'!C7:C1200,'Figure Contracts'!C7:C1200,'Asset Requirements'!C7:C1200,'File Revisions'!C7:C1200,'Figure Outputs'!C7:C1200,'Document Placements'!C7:C1200,Dependencies!C7:C1200,Checks!C7:C1200,Issues!C7:C1200,Approvals!C7:C1200,Releases!C7:C1200,'Table Dictionary'!C7:C1200,'Field Dictionary'!C7:C1200,'Source Support'!C7:C1200,'Figure Coverage'!C7:C1200,'Figure Requirements'!C7:C1200,'Requirement Fulfillment'!C7:C1200,'Run Artifacts'!C7:C1200,'Document Plans'!C7:C1200,Templates!C7:C1200,'Template Slots'!C7:C1200,Rulesets!C7:C1200,Rules!C7:C1200,Themes!C7:C1200,'Assembly Components'!C7:C1200,'Generation Requests'!C7:C1200,'Asset Lifecycle'!C7:C1200),0),A17)))) -> EFFECTS-64 declares the common root envelope. Specialist mode uses <R> semantic continuation. Assembly membership, graph wiring, formula details, target application, realization and global scheduling retain their named owners. | D17: =IF(B17="","",INDEX('Field Dictionary'!$G$7:$G$500,MATCH(INDEX('Table Dictionary'!$C$7:$C$39,MATCH($B$3,'Table Dictionary'!$A$7:$A$39,0))&"-F"&TEXT(A17,"00"),'Field Dictionary'!$C$7:$C$500,0))) -> LONG TEXT | E17: =IF(OR(D17="LINKED RECORD",D17="LINKED RECORDS"),INDEX('Table Dictionary'!$A$7:$A$39,MATCH(INDEX('Field Dictionary'!$J$7:$J$500,MATCH(INDEX('Table Dictionary'!$C$7:$C$39,MATCH($B$3,'Table Dictionary'!$A$7:$A$39,0))&"-F"&TEXT(A17,"00"),'Field Dictionary'!$C$7:$C$500,0)),'Table Dictionary'!$C$7:$C$39,0)),"") | F17: =IF(B17="","",HYPERLINK("#'Field Dictionary'!A"&(MATCH(INDEX('Table Dictionary'!$C$7:$C$39,MATCH($B$3,'Table Dictionary'!$A$7:$A$39,0))&"-F"&TEXT(A17,"00"),'Field Dictionary'!$C$7:$C$500,0)+6),"Read field rule")) -> Read field rule
A18: 10 | B18: =IFERROR(INDEX(CHOOSE(MATCH($B$3,'Table Dictionary'!$A$7:$A$39,0),Projects!A5:P5,'Pass Definitions'!A5:P5,'Pass Runs'!A5:P5,Instructions!A5:P5,'Record Revisions'!A5:P5,Sources!A5:P5,'Content Items'!A5:P5,'Figure Contracts'!A5:P5,'Asset Requirements'!A5:P5,'File Revisions'!A5:P5,'Figure Outputs'!A5:P5,'Document Placements'!A5:P5,Dependencies!A5:P5,Checks!A5:P5,Issues!A5:P5,Approvals!A5:P5,Releases!A5:P5,'Table Dictionary'!A5:P5,'Field Dictionary'!A5:P5,'Source Support'!A5:P5,'Figure Coverage'!A5:P5,'Figure Requirements'!A5:P5,'Requirement Fulfillment'!A5:P5,'Run Artifacts'!A5:P5,'Document Plans'!A5:P5,Templates!A5:P5,'Template Slots'!A5:P5,Rulesets!A5:P5,Rules!A5:P5,Themes!A5:P5,'Assembly Components'!A5:P5,'Generation Requests'!A5:P5,'Asset Lifecycle'!A5:P5),1,A18),"") -> 10 — Alternative Text | C18: =IF(B18="","",IF(COUNTIFS(CHOOSE(MATCH($B$3,'Table Dictionary'!$A$7:$A$39,0),Projects!C7:C1200,'Pass Definitions'!C7:C1200,'Pass Runs'!C7:C1200,Instructions!C7:C1200,'Record Revisions'!C7:C1200,Sources!C7:C1200,'Content Items'!C7:C1200,'Figure Contracts'!C7:C1200,'Asset Requirements'!C7:C1200,'File Revisions'!C7:C1200,'Figure Outputs'!C7:C1200,'Document Placements'!C7:C1200,Dependencies!C7:C1200,Checks!C7:C1200,Issues!C7:C1200,Approvals!C7:C1200,Releases!C7:C1200,'Table Dictionary'!C7:C1200,'Field Dictionary'!C7:C1200,'Source Support'!C7:C1200,'Figure Coverage'!C7:C1200,'Figure Requirements'!C7:C1200,'Requirement Fulfillment'!C7:C1200,'Run Artifacts'!C7:C1200,'Document Plans'!C7:C1200,Templates!C7:C1200,'Template Slots'!C7:C1200,Rulesets!C7:C1200,Rules!C7:C1200,Themes!C7:C1200,'Assembly Components'!C7:C1200,'Generation Requests'!C7:C1200,'Asset Lifecycle'!C7:C1200),$B$4)<>1,"SELECT UNIQUE ID",IF(INDEX(CHOOSE(MATCH($B$3,'Table Dictionary'!$A$7:$A$39,0),Projects!A7:P1200,'Pass Definitions'!A7:P1200,'Pass Runs'!A7:P1200,Instructions!A7:P1200,'Record Revisions'!A7:P1200,Sources!A7:P1200,'Content Items'!A7:P1200,'Figure Contracts'!A7:P1200,'Asset Requirements'!A7:P1200,'File Revisions'!A7:P1200,'Figure Outputs'!A7:P1200,'Document Placements'!A7:P1200,Dependencies!A7:P1200,Checks!A7:P1200,Issues!A7:P1200,Approvals!A7:P1200,Releases!A7:P1200,'Table Dictionary'!A7:P1200,'Field Dictionary'!A7:P1200,'Source Support'!A7:P1200,'Figure Coverage'!A7:P1200,'Figure Requirements'!A7:P1200,'Requirement Fulfillment'!A7:P1200,'Run Artifacts'!A7:P1200,'Document Plans'!A7:P1200,Templates!A7:P1200,'Template Slots'!A7:P1200,Rulesets!A7:P1200,Rules!A7:P1200,Themes!A7:P1200,'Assembly Components'!A7:P1200,'Generation Requests'!A7:P1200,'Asset Lifecycle'!A7:P1200),MATCH($B$4,CHOOSE(MATCH($B$3,'Table Dictionary'!$A$7:$A$39,0),Projects!C7:C1200,'Pass Definitions'!C7:C1200,'Pass Runs'!C7:C1200,Instructions!C7:C1200,'Record Revisions'!C7:C1200,Sources!C7:C1200,'Content Items'!C7:C1200,'Figure Contracts'!C7:C1200,'Asset Requirements'!C7:C1200,'File Revisions'!C7:C1200,'Figure Outputs'!C7:C1200,'Document Placements'!C7:C1200,Dependencies!C7:C1200,Checks!C7:C1200,Issues!C7:C1200,Approvals!C7:C1200,Releases!C7:C1200,'Table Dictionary'!C7:C1200,'Field Dictionary'!C7:C1200,'Source Support'!C7:C1200,'Figure Coverage'!C7:C1200,'Figure Requirements'!C7:C1200,'Requirement Fulfillment'!C7:C1200,'Run Artifacts'!C7:C1200,'Document Plans'!C7:C1200,Templates!C7:C1200,'Template Slots'!C7:C1200,Rulesets!C7:C1200,Rules!C7:C1200,Themes!C7:C1200,'Assembly Components'!C7:C1200,'Generation Requests'!C7:C1200,'Asset Lifecycle'!C7:C1200),0),A18)="","",INDEX(CHOOSE(MATCH($B$3,'Table Dictionary'!$A$7:$A$39,0),Projects!A7:P1200,'Pass Definitions'!A7:P1200,'Pass Runs'!A7:P1200,Instructions!A7:P1200,'Record Revisions'!A7:P1200,Sources!A7:P1200,'Content Items'!A7:P1200,'Figure Contracts'!A7:P1200,'Asset Requirements'!A7:P1200,'File Revisions'!A7:P1200,'Figure Outputs'!A7:P1200,'Document Placements'!A7:P1200,Dependencies!A7:P1200,Checks!A7:P1200,Issues!A7:P1200,Approvals!A7:P1200,Releases!A7:P1200,'Table Dictionary'!A7:P1200,'Field Dictionary'!A7:P1200,'Source Support'!A7:P1200,'Figure Coverage'!A7:P1200,'Figure Requirements'!A7:P1200,'Requirement Fulfillment'!A7:P1200,'Run Artifacts'!A7:P1200,'Document Plans'!A7:P1200,Templates!A7:P1200,'Template Slots'!A7:P1200,Rulesets!A7:P1200,Rules!A7:P1200,Themes!A7:P1200,'Assembly Components'!A7:P1200,'Generation Requests'!A7:P1200,'Asset Lifecycle'!A7:P1200),MATCH($B$4,CHOOSE(MATCH($B$3,'Table Dictionary'!$A$7:$A$39,0),Projects!C7:C1200,'Pass Definitions'!C7:C1200,'Pass Runs'!C7:C1200,Instructions!C7:C1200,'Record Revisions'!C7:C1200,Sources!C7:C1200,'Content Items'!C7:C1200,'Figure Contracts'!C7:C1200,'Asset Requirements'!C7:C1200,'File Revisions'!C7:C1200,'Figure Outputs'!C7:C1200,'Document Placements'!C7:C1200,Dependencies!C7:C1200,Checks!C7:C1200,Issues!C7:C1200,Approvals!C7:C1200,Releases!C7:C1200,'Table Dictionary'!C7:C1200,'Field Dictionary'!C7:C1200,'Source Support'!C7:C1200,'Figure Coverage'!C7:C1200,'Figure Requirements'!C7:C1200,'Requirement Fulfillment'!C7:C1200,'Run Artifacts'!C7:C1200,'Document Plans'!C7:C1200,Templates!C7:C1200,'Template Slots'!C7:C1200,Rulesets!C7:C1200,Rules!C7:C1200,Themes!C7:C1200,'Assembly Components'!C7:C1200,'Generation Requests'!C7:C1200,'Asset Lifecycle'!C7:C1200),0),A18)))) -> EFFECTS-64 declares the common root envelope. Specialist mode uses <R> semantic continuation. Assembly membership, graph wiring, formula details, target application, realization and global scheduling retain their named owners. | D18: =IF(B18="","",INDEX('Field Dictionary'!$G$7:$G$500,MATCH(INDEX('Table Dictionary'!$C$7:$C$39,MATCH($B$3,'Table Dictionary'!$A$7:$A$39,0))&"-F"&TEXT(A18,"00"),'Field Dictionary'!$C$7:$C$500,0))) -> LONG TEXT | E18: =IF(OR(D18="LINKED RECORD",D18="LINKED RECORDS"),INDEX('Table Dictionary'!$A$7:$A$39,MATCH(INDEX('Field Dictionary'!$J$7:$J$500,MATCH(INDEX('Table Dictionary'!$C$7:$C$39,MATCH($B$3,'Table Dictionary'!$A$7:$A$39,0))&"-F"&TEXT(A18,"00"),'Field Dictionary'!$C$7:$C$500,0)),'Table Dictionary'!$C$7:$C$39,0)),"") | F18: =IF(B18="","",HYPERLINK("#'Field Dictionary'!A"&(MATCH(INDEX('Table Dictionary'!$C$7:$C$39,MATCH($B$3,'Table Dictionary'!$A$7:$A$39,0))&"-F"&TEXT(A18,"00"),'Field Dictionary'!$C$7:$C$500,0)+6),"Read field rule")) -> Read field rule
A19: 11 | B19: =IFERROR(INDEX(CHOOSE(MATCH($B$3,'Table Dictionary'!$A$7:$A$39,0),Projects!A5:P5,'Pass Definitions'!A5:P5,'Pass Runs'!A5:P5,Instructions!A5:P5,'Record Revisions'!A5:P5,Sources!A5:P5,'Content Items'!A5:P5,'Figure Contracts'!A5:P5,'Asset Requirements'!A5:P5,'File Revisions'!A5:P5,'Figure Outputs'!A5:P5,'Document Placements'!A5:P5,Dependencies!A5:P5,Checks!A5:P5,Issues!A5:P5,Approvals!A5:P5,Releases!A5:P5,'Table Dictionary'!A5:P5,'Field Dictionary'!A5:P5,'Source Support'!A5:P5,'Figure Coverage'!A5:P5,'Figure Requirements'!A5:P5,'Requirement Fulfillment'!A5:P5,'Run Artifacts'!A5:P5,'Document Plans'!A5:P5,Templates!A5:P5,'Template Slots'!A5:P5,Rulesets!A5:P5,Rules!A5:P5,Themes!A5:P5,'Assembly Components'!A5:P5,'Generation Requests'!A5:P5,'Asset Lifecycle'!A5:P5),1,A19),"") -> 11 — Implementation Notes | C19: =IF(B19="","",IF(COUNTIFS(CHOOSE(MATCH($B$3,'Table Dictionary'!$A$7:$A$39,0),Projects!C7:C1200,'Pass Definitions'!C7:C1200,'Pass Runs'!C7:C1200,Instructions!C7:C1200,'Record Revisions'!C7:C1200,Sources!C7:C1200,'Content Items'!C7:C1200,'Figure Contracts'!C7:C1200,'Asset Requirements'!C7:C1200,'File Revisions'!C7:C1200,'Figure Outputs'!C7:C1200,'Document Placements'!C7:C1200,Dependencies!C7:C1200,Checks!C7:C1200,Issues!C7:C1200,Approvals!C7:C1200,Releases!C7:C1200,'Table Dictionary'!C7:C1200,'Field Dictionary'!C7:C1200,'Source Support'!C7:C1200,'Figure Coverage'!C7:C1200,'Figure Requirements'!C7:C1200,'Requirement Fulfillment'!C7:C1200,'Run Artifacts'!C7:C1200,'Document Plans'!C7:C1200,Templates!C7:C1200,'Template Slots'!C7:C1200,Rulesets!C7:C1200,Rules!C7:C1200,Themes!C7:C1200,'Assembly Components'!C7:C1200,'Generation Requests'!C7:C1200,'Asset Lifecycle'!C7:C1200),$B$4)<>1,"SELECT UNIQUE ID",IF(INDEX(CHOOSE(MATCH($B$3,'Table Dictionary'!$A$7:$A$39,0),Projects!A7:P1200,'Pass Definitions'!A7:P1200,'Pass Runs'!A7:P1200,Instructions!A7:P1200,'Record Revisions'!A7:P1200,Sources!A7:P1200,'Content Items'!A7:P1200,'Figure Contracts'!A7:P1200,'Asset Requirements'!A7:P1200,'File Revisions'!A7:P1200,'Figure Outputs'!A7:P1200,'Document Placements'!A7:P1200,Dependencies!A7:P1200,Checks!A7:P1200,Issues!A7:P1200,Approvals!A7:P1200,Releases!A7:P1200,'Table Dictionary'!A7:P1200,'Field Dictionary'!A7:P1200,'Source Support'!A7:P1200,'Figure Coverage'!A7:P1200,'Figure Requirements'!A7:P1200,'Requirement Fulfillment'!A7:P1200,'Run Artifacts'!A7:P1200,'Document Plans'!A7:P1200,Templates!A7:P1200,'Template Slots'!A7:P1200,Rulesets!A7:P1200,Rules!A7:P1200,Themes!A7:P1200,'Assembly Components'!A7:P1200,'Generation Requests'!A7:P1200,'Asset Lifecycle'!A7:P1200),MATCH($B$4,CHOOSE(MATCH($B$3,'Table Dictionary'!$A$7:$A$39,0),Projects!C7:C1200,'Pass Definitions'!C7:C1200,'Pass Runs'!C7:C1200,Instructions!C7:C1200,'Record Revisions'!C7:C1200,Sources!C7:C1200,'Content Items'!C7:C1200,'Figure Contracts'!C7:C1200,'Asset Requirements'!C7:C1200,'File Revisions'!C7:C1200,'Figure Outputs'!C7:C1200,'Document Placements'!C7:C1200,Dependencies!C7:C1200,Checks!C7:C1200,Issues!C7:C1200,Approvals!C7:C1200,Releases!C7:C1200,'Table Dictionary'!C7:C1200,'Field Dictionary'!C7:C1200,'Source Support'!C7:C1200,'Figure Coverage'!C7:C1200,'Figure Requirements'!C7:C1200,'Requirement Fulfillment'!C7:C1200,'Run Artifacts'!C7:C1200,'Document Plans'!C7:C1200,Templates!C7:C1200,'Template Slots'!C7:C1200,Rulesets!C7:C1200,Rules!C7:C1200,Themes!C7:C1200,'Assembly Components'!C7:C1200,'Generation Requests'!C7:C1200,'Asset Lifecycle'!C7:C1200),0),A19)="","",INDEX(CHOOSE(MATCH($B$3,'Table Dictionary'!$A$7:$A$39,0),Projects!A7:P1200,'Pass Definitions'!A7:P1200,'Pass Runs'!A7:P1200,Instructions!A7:P1200,'Record Revisions'!A7:P1200,Sources!A7:P1200,'Content Items'!A7:P1200,'Figure Contracts'!A7:P1200,'Asset Requirements'!A7:P1200,'File Revisions'!A7:P1200,'Figure Outputs'!A7:P1200,'Document Placements'!A7:P1200,Dependencies!A7:P1200,Checks!A7:P1200,Issues!A7:P1200,Approvals!A7:P1200,Releases!A7:P1200,'Table Dictionary'!A7:P1200,'Field Dictionary'!A7:P1200,'Source Support'!A7:P1200,'Figure Coverage'!A7:P1200,'Figure Requirements'!A7:P1200,'Requirement Fulfillment'!A7:P1200,'Run Artifacts'!A7:P1200,'Document Plans'!A7:P1200,Templates!A7:P1200,'Template Slots'!A7:P1200,Rulesets!A7:P1200,Rules!A7:P1200,Themes!A7:P1200,'Assembly Components'!A7:P1200,'Generation Requests'!A7:P1200,'Asset Lifecycle'!A7:P1200),MATCH($B$4,CHOOSE(MATCH($B$3,'Table Dictionary'!$A$7:$A$39,0),Projects!C7:C1200,'Pass Definitions'!C7:C1200,'Pass Runs'!C7:C1200,Instructions!C7:C1200,'Record Revisions'!C7:C1200,Sources!C7:C1200,'Content Items'!C7:C1200,'Figure Contracts'!C7:C1200,'Asset Requirements'!C7:C1200,'File Revisions'!C7:C1200,'Figure Outputs'!C7:C1200,'Document Placements'!C7:C1200,Dependencies!C7:C1200,Checks!C7:C1200,Issues!C7:C1200,Approvals!C7:C1200,Releases!C7:C1200,'Table Dictionary'!C7:C1200,'Field Dictionary'!C7:C1200,'Source Support'!C7:C1200,'Figure Coverage'!C7:C1200,'Figure Requirements'!C7:C1200,'Requirement Fulfillment'!C7:C1200,'Run Artifacts'!C7:C1200,'Document Plans'!C7:C1200,Templates!C7:C1200,'Template Slots'!C7:C1200,Rulesets!C7:C1200,Rules!C7:C1200,Themes!C7:C1200,'Assembly Components'!C7:C1200,'Generation Requests'!C7:C1200,'Asset Lifecycle'!C7:C1200),0),A19)))) -> Contracts and workflow links reconstructed. Original manifest approval note: approved in Wave C | D19: =IF(B19="","",INDEX('Field Dictionary'!$G$7:$G$500,MATCH(INDEX('Table Dictionary'!$C$7:$C$39,MATCH($B$3,'Table Dictionary'!$A$7:$A$39,0))&"-F"&TEXT(A19,"00"),'Field Dictionary'!$C$7:$C$500,0))) -> LONG TEXT | E19: =IF(OR(D19="LINKED RECORD",D19="LINKED RECORDS"),INDEX('Table Dictionary'!$A$7:$A$39,MATCH(INDEX('Field Dictionary'!$J$7:$J$500,MATCH(INDEX('Table Dictionary'!$C$7:$C$39,MATCH($B$3,'Table Dictionary'!$A$7:$A$39,0))&"-F"&TEXT(A19,"00"),'Field Dictionary'!$C$7:$C$500,0)),'Table Dictionary'!$C$7:$C$39,0)),"") | F19: =IF(B19="","",HYPERLINK("#'Field Dictionary'!A"&(MATCH(INDEX('Table Dictionary'!$C$7:$C$39,MATCH($B$3,'Table Dictionary'!$A$7:$A$39,0))&"-F"&TEXT(A19,"00"),'Field Dictionary'!$C$7:$C$500,0)+6),"Read field rule")) -> Read field rule
A20: 12 | B20: =IFERROR(INDEX(CHOOSE(MATCH($B$3,'Table Dictionary'!$A$7:$A$39,0),Projects!A5:P5,'Pass Definitions'!A5:P5,'Pass Runs'!A5:P5,Instructions!A5:P5,'Record Revisions'!A5:P5,Sources!A5:P5,'Content Items'!A5:P5,'Figure Contracts'!A5:P5,'Asset Requirements'!A5:P5,'File Revisions'!A5:P5,'Figure Outputs'!A5:P5,'Document Placements'!A5:P5,Dependencies!A5:P5,Checks!A5:P5,Issues!A5:P5,Approvals!A5:P5,Releases!A5:P5,'Table Dictionary'!A5:P5,'Field Dictionary'!A5:P5,'Source Support'!A5:P5,'Figure Coverage'!A5:P5,'Figure Requirements'!A5:P5,'Requirement Fulfillment'!A5:P5,'Run Artifacts'!A5:P5,'Document Plans'!A5:P5,Templates!A5:P5,'Template Slots'!A5:P5,Rulesets!A5:P5,Rules!A5:P5,Themes!A5:P5,'Assembly Components'!A5:P5,'Generation Requests'!A5:P5,'Asset Lifecycle'!A5:P5),1,A20),"") -> 0 | C20: =IF(B20="","",IF(COUNTIFS(CHOOSE(MATCH($B$3,'Table Dictionary'!$A$7:$A$39,0),Projects!C7:C1200,'Pass Definitions'!C7:C1200,'Pass Runs'!C7:C1200,Instructions!C7:C1200,'Record Revisions'!C7:C1200,Sources!C7:C1200,'Content Items'!C7:C1200,'Figure Contracts'!C7:C1200,'Asset Requirements'!C7:C1200,'File Revisions'!C7:C1200,'Figure Outputs'!C7:C1200,'Document Placements'!C7:C1200,Dependencies!C7:C1200,Checks!C7:C1200,Issues!C7:C1200,Approvals!C7:C1200,Releases!C7:C1200,'Table Dictionary'!C7:C1200,'Field Dictionary'!C7:C1200,'Source Support'!C7:C1200,'Figure Coverage'!C7:C1200,'Figure Requirements'!C7:C1200,'Requirement Fulfillment'!C7:C1200,'Run Artifacts'!C7:C1200,'Document Plans'!C7:C1200,Templates!C7:C1200,'Template Slots'!C7:C1200,Rulesets!C7:C1200,Rules!C7:C1200,Themes!C7:C1200,'Assembly Components'!C7:C1200,'Generation Requests'!C7:C1200,'Asset Lifecycle'!C7:C1200),$B$4)<>1,"SELECT UNIQUE ID",IF(INDEX(CHOOSE(MATCH($B$3,'Table Dictionary'!$A$7:$A$39,0),Projects!A7:P1200,'Pass Definitions'!A7:P1200,'Pass Runs'!A7:P1200,Instructions!A7:P1200,'Record Revisions'!A7:P1200,Sources!A7:P1200,'Content Items'!A7:P1200,'Figure Contracts'!A7:P1200,'Asset Requirements'!A7:P1200,'File Revisions'!A7:P1200,'Figure Outputs'!A7:P1200,'Document Placements'!A7:P1200,Dependencies!A7:P1200,Checks!A7:P1200,Issues!A7:P1200,Approvals!A7:P1200,Releases!A7:P1200,'Table Dictionary'!A7:P1200,'Field Dictionary'!A7:P1200,'Source Support'!A7:P1200,'Figure Coverage'!A7:P1200,'Figure Requirements'!A7:P1200,'Requirement Fulfillment'!A7:P1200,'Run Artifacts'!A7:P1200,'Document Plans'!A7:P1200,Templates!A7:P1200,'Template Slots'!A7:P1200,Rulesets!A7:P1200,Rules!A7:P1200,Themes!A7:P1200,'Assembly Components'!A7:P1200,'Generation Requests'!A7:P1200,'Asset Lifecycle'!A7:P1200),MATCH($B$4,CHOOSE(MATCH($B$3,'Table Dictionary'!$A$7:$A$39,0),Projects!C7:C1200,'Pass Definitions'!C7:C1200,'Pass Runs'!C7:C1200,Instructions!C7:C1200,'Record Revisions'!C7:C1200,Sources!C7:C1200,'Content Items'!C7:C1200,'Figure Contracts'!C7:C1200,'Asset Requirements'!C7:C1200,'File Revisions'!C7:C1200,'Figure Outputs'!C7:C1200,'Document Placements'!C7:C1200,Dependencies!C7:C1200,Checks!C7:C1200,Issues!C7:C1200,Approvals!C7:C1200,Releases!C7:C1200,'Table Dictionary'!C7:C1200,'Field Dictionary'!C7:C1200,'Source Support'!C7:C1200,'Figure Coverage'!C7:C1200,'Figure Requirements'!C7:C1200,'Requirement Fulfillment'!C7:C1200,'Run Artifacts'!C7:C1200,'Document Plans'!C7:C1200,Templates!C7:C1200,'Template Slots'!C7:C1200,Rulesets!C7:C1200,Rules!C7:C1200,Themes!C7:C1200,'Assembly Components'!C7:C1200,'Generation Requests'!C7:C1200,'Asset Lifecycle'!C7:C1200),0),A20)="","",INDEX(CHOOSE(MATCH($B$3,'Table Dictionary'!$A$7:$A$39,0),Projects!A7:P1200,'Pass Definitions'!A7:P1200,'Pass Runs'!A7:P1200,Instructions!A7:P1200,'Record Revisions'!A7:P1200,Sources!A7:P1200,'Content Items'!A7:P1200,'Figure Contracts'!A7:P1200,'Asset Requirements'!A7:P1200,'File Revisions'!A7:P1200,'Figure Outputs'!A7:P1200,'Document Placements'!A7:P1200,Dependencies!A7:P1200,Checks!A7:P1200,Issues!A7:P1200,Approvals!A7:P1200,Releases!A7:P1200,'Table Dictionary'!A7:P1200,'Field Dictionary'!A7:P1200,'Source Support'!A7:P1200,'Figure Coverage'!A7:P1200,'Figure Requirements'!A7:P1200,'Requirement Fulfillment'!A7:P1200,'Run Artifacts'!A7:P1200,'Document Plans'!A7:P1200,Templates!A7:P1200,'Template Slots'!A7:P1200,Rulesets!A7:P1200,Rules!A7:P1200,Themes!A7:P1200,'Assembly Components'!A7:P1200,'Generation Requests'!A7:P1200,'Asset Lifecycle'!A7:P1200),MATCH($B$4,CHOOSE(MATCH($B$3,'Table Dictionary'!$A$7:$A$39,0),Projects!C7:C1200,'Pass Definitions'!C7:C1200,'Pass Runs'!C7:C1200,Instructions!C7:C1200,'Record Revisions'!C7:C1200,Sources!C7:C1200,'Content Items'!C7:C1200,'Figure Contracts'!C7:C1200,'Asset Requirements'!C7:C1200,'File Revisions'!C7:C1200,'Figure Outputs'!C7:C1200,'Document Placements'!C7:C1200,Dependencies!C7:C1200,Checks!C7:C1200,Issues!C7:C1200,Approvals!C7:C1200,Releases!C7:C1200,'Table Dictionary'!C7:C1200,'Field Dictionary'!C7:C1200,'Source Support'!C7:C1200,'Figure Coverage'!C7:C1200,'Figure Requirements'!C7:C1200,'Requirement Fulfillment'!C7:C1200,'Run Artifacts'!C7:C1200,'Document Plans'!C7:C1200,Templates!C7:C1200,'Template Slots'!C7:C1200,Rulesets!C7:C1200,Rules!C7:C1200,Themes!C7:C1200,'Assembly Components'!C7:C1200,'Generation Requests'!C7:C1200,'Asset Lifecycle'!C7:C1200),0),A20)))) | D20: =IF(B20="","",INDEX('Field Dictionary'!$G$7:$G$500,MATCH(INDEX('Table Dictionary'!$C$7:$C$39,MATCH($B$3,'Table Dictionary'!$A$7:$A$39,0))&"-F"&TEXT(A20,"00"),'Field Dictionary'!$C$7:$C$500,0))) -> #N/A | E20: =IF(OR(D20="LINKED RECORD",D20="LINKED RECORDS"),INDEX('Table Dictionary'!$A$7:$A$39,MATCH(INDEX('Field Dictionary'!$J$7:$J$500,MATCH(INDEX('Table Dictionary'!$C$7:$C$39,MATCH($B$3,'Table Dictionary'!$A$7:$A$39,0))&"-F"&TEXT(A20,"00"),'Field Dictionary'!$C$7:$C$500,0)),'Table Dictionary'!$C$7:$C$39,0)),"") -> #N/A | F20: =IF(B20="","",HYPERLINK("#'Field Dictionary'!A"&(MATCH(INDEX('Table Dictionary'!$C$7:$C$39,MATCH($B$3,'Table Dictionary'!$A$7:$A$39,0))&"-F"&TEXT(A20,"00"),'Field Dictionary'!$C$7:$C$500,0)+6),"Read field rule")) -> #N/A
A21: 13 | B21: =IFERROR(INDEX(CHOOSE(MATCH($B$3,'Table Dictionary'!$A$7:$A$39,0),Projects!A5:P5,'Pass Definitions'!A5:P5,'Pass Runs'!A5:P5,Instructions!A5:P5,'Record Revisions'!A5:P5,Sources!A5:P5,'Content Items'!A5:P5,'Figure Contracts'!A5:P5,'Asset Requirements'!A5:P5,'File Revisions'!A5:P5,'Figure Outputs'!A5:P5,'Document Placements'!A5:P5,Dependencies!A5:P5,Checks!A5:P5,Issues!A5:P5,Approvals!A5:P5,Releases!A5:P5,'Table Dictionary'!A5:P5,'Field Dictionary'!A5:P5,'Source Support'!A5:P5,'Figure Coverage'!A5:P5,'Figure Requirements'!A5:P5,'Requirement Fulfillment'!A5:P5,'Run Artifacts'!A5:P5,'Document Plans'!A5:P5,Templates!A5:P5,'Template Slots'!A5:P5,Rulesets!A5:P5,Rules!A5:P5,Themes!A5:P5,'Assembly Components'!A5:P5,'Generation Requests'!A5:P5,'Asset Lifecycle'!A5:P5),1,A21),"") -> 0 | C21: =IF(B21="","",IF(COUNTIFS(CHOOSE(MATCH($B$3,'Table Dictionary'!$A$7:$A$39,0),Projects!C7:C1200,'Pass Definitions'!C7:C1200,'Pass Runs'!C7:C1200,Instructions!C7:C1200,'Record Revisions'!C7:C1200,Sources!C7:C1200,'Content Items'!C7:C1200,'Figure Contracts'!C7:C1200,'Asset Requirements'!C7:C1200,'File Revisions'!C7:C1200,'Figure Outputs'!C7:C1200,'Document Placements'!C7:C1200,Dependencies!C7:C1200,Checks!C7:C1200,Issues!C7:C1200,Approvals!C7:C1200,Releases!C7:C1200,'Table Dictionary'!C7:C1200,'Field Dictionary'!C7:C1200,'Source Support'!C7:C1200,'Figure Coverage'!C7:C1200,'Figure Requirements'!C7:C1200,'Requirement Fulfillment'!C7:C1200,'Run Artifacts'!C7:C1200,'Document Plans'!C7:C1200,Templates!C7:C1200,'Template Slots'!C7:C1200,Rulesets!C7:C1200,Rules!C7:C1200,Themes!C7:C1200,'Assembly Components'!C7:C1200,'Generation Requests'!C7:C1200,'Asset Lifecycle'!C7:C1200),$B$4)<>1,"SELECT UNIQUE ID",IF(INDEX(CHOOSE(MATCH($B$3,'Table Dictionary'!$A$7:$A$39,0),Projects!A7:P1200,'Pass Definitions'!A7:P1200,'Pass Runs'!A7:P1200,Instructions!A7:P1200,'Record Revisions'!A7:P1200,Sources!A7:P1200,'Content Items'!A7:P1200,'Figure Contracts'!A7:P1200,'Asset Requirements'!A7:P1200,'File Revisions'!A7:P1200,'Figure Outputs'!A7:P1200,'Document Placements'!A7:P1200,Dependencies!A7:P1200,Checks!A7:P1200,Issues!A7:P1200,Approvals!A7:P1200,Releases!A7:P1200,'Table Dictionary'!A7:P1200,'Field Dictionary'!A7:P1200,'Source Support'!A7:P1200,'Figure Coverage'!A7:P1200,'Figure Requirements'!A7:P1200,'Requirement Fulfillment'!A7:P1200,'Run Artifacts'!A7:P1200,'Document Plans'!A7:P1200,Templates!A7:P1200,'Template Slots'!A7:P1200,Rulesets!A7:P1200,Rules!A7:P1200,Themes!A7:P1200,'Assembly Components'!A7:P1200,'Generation Requests'!A7:P1200,'Asset Lifecycle'!A7:P1200),MATCH($B$4,CHOOSE(MATCH($B$3,'Table Dictionary'!$A$7:$A$39,0),Projects!C7:C1200,'Pass Definitions'!C7:C1200,'Pass Runs'!C7:C1200,Instructions!C7:C1200,'Record Revisions'!C7:C1200,Sources!C7:C1200,'Content Items'!C7:C1200,'Figure Contracts'!C7:C1200,'Asset Requirements'!C7:C1200,'File Revisions'!C7:C1200,'Figure Outputs'!C7:C1200,'Document Placements'!C7:C1200,Dependencies!C7:C1200,Checks!C7:C1200,Issues!C7:C1200,Approvals!C7:C1200,Releases!C7:C1200,'Table Dictionary'!C7:C1200,'Field Dictionary'!C7:C1200,'Source Support'!C7:C1200,'Figure Coverage'!C7:C1200,'Figure Requirements'!C7:C1200,'Requirement Fulfillment'!C7:C1200,'Run Artifacts'!C7:C1200,'Document Plans'!C7:C1200,Templates!C7:C1200,'Template Slots'!C7:C1200,Rulesets!C7:C1200,Rules!C7:C1200,Themes!C7:C1200,'Assembly Components'!C7:C1200,'Generation Requests'!C7:C1200,'Asset Lifecycle'!C7:C1200),0),A21)="","",INDEX(CHOOSE(MATCH($B$3,'Table Dictionary'!$A$7:$A$39,0),Projects!A7:P1200,'Pass Definitions'!A7:P1200,'Pass Runs'!A7:P1200,Instructions!A7:P1200,'Record Revisions'!A7:P1200,Sources!A7:P1200,'Content Items'!A7:P1200,'Figure Contracts'!A7:P1200,'Asset Requirements'!A7:P1200,'File Revisions'!A7:P1200,'Figure Outputs'!A7:P1200,'Document Placements'!A7:P1200,Dependencies!A7:P1200,Checks!A7:P1200,Issues!A7:P1200,Approvals!A7:P1200,Releases!A7:P1200,'Table Dictionary'!A7:P1200,'Field Dictionary'!A7:P1200,'Source Support'!A7:P1200,'Figure Coverage'!A7:P1200,'Figure Requirements'!A7:P1200,'Requirement Fulfillment'!A7:P1200,'Run Artifacts'!A7:P1200,'Document Plans'!A7:P1200,Templates!A7:P1200,'Template Slots'!A7:P1200,Rulesets!A7:P1200,Rules!A7:P1200,Themes!A7:P1200,'Assembly Components'!A7:P1200,'Generation Requests'!A7:P1200,'Asset Lifecycle'!A7:P1200),MATCH($B$4,CHOOSE(MATCH($B$3,'Table Dictionary'!$A$7:$A$39,0),Projects!C7:C1200,'Pass Definitions'!C7:C1200,'Pass Runs'!C7:C1200,Instructions!C7:C1200,'Record Revisions'!C7:C1200,Sources!C7:C1200,'Content Items'!C7:C1200,'Figure Contracts'!C7:C1200,'Asset Requirements'!C7:C1200,'File Revisions'!C7:C1200,'Figure Outputs'!C7:C1200,'Document Placements'!C7:C1200,Dependencies!C7:C1200,Checks!C7:C1200,Issues!C7:C1200,Approvals!C7:C1200,Releases!C7:C1200,'Table Dictionary'!C7:C1200,'Field Dictionary'!C7:C1200,'Source Support'!C7:C1200,'Figure Coverage'!C7:C1200,'Figure Requirements'!C7:C1200,'Requirement Fulfillment'!C7:C1200,'Run Artifacts'!C7:C1200,'Document Plans'!C7:C1200,Templates!C7:C1200,'Template Slots'!C7:C1200,Rulesets!C7:C1200,Rules!C7:C1200,Themes!C7:C1200,'Assembly Components'!C7:C1200,'Generation Requests'!C7:C1200,'Asset Lifecycle'!C7:C1200),0),A21)))) | D21: =IF(B21="","",INDEX('Field Dictionary'!$G$7:$G$500,MATCH(INDEX('Table Dictionary'!$C$7:$C$39,MATCH($B$3,'Table Dictionary'!$A$7:$A$39,0))&"-F"&TEXT(A21,"00"),'Field Dictionary'!$C$7:$C$500,0))) -> #N/A | E21: =IF(OR(D21="LINKED RECORD",D21="LINKED RECORDS"),INDEX('Table Dictionary'!$A$7:$A$39,MATCH(INDEX('Field Dictionary'!$J$7:$J$500,MATCH(INDEX('Table Dictionary'!$C$7:$C$39,MATCH($B$3,'Table Dictionary'!$A$7:$A$39,0))&"-F"&TEXT(A21,"00"),'Field Dictionary'!$C$7:$C$500,0)),'Table Dictionary'!$C$7:$C$39,0)),"") -> #N/A | F21: =IF(B21="","",HYPERLINK("#'Field Dictionary'!A"&(MATCH(INDEX('Table Dictionary'!$C$7:$C$39,MATCH($B$3,'Table Dictionary'!$A$7:$A$39,0))&"-F"&TEXT(A21,"00"),'Field Dictionary'!$C$7:$C$500,0)+6),"Read field rule")) -> #N/A
A22: 14 | B22: =IFERROR(INDEX(CHOOSE(MATCH($B$3,'Table Dictionary'!$A$7:$A$39,0),Projects!A5:P5,'Pass Definitions'!A5:P5,'Pass Runs'!A5:P5,Instructions!A5:P5,'Record Revisions'!A5:P5,Sources!A5:P5,'Content Items'!A5:P5,'Figure Contracts'!A5:P5,'Asset Requirements'!A5:P5,'File Revisions'!A5:P5,'Figure Outputs'!A5:P5,'Document Placements'!A5:P5,Dependencies!A5:P5,Checks!A5:P5,Issues!A5:P5,Approvals!A5:P5,Releases!A5:P5,'Table Dictionary'!A5:P5,'Field Dictionary'!A5:P5,'Source Support'!A5:P5,'Figure Coverage'!A5:P5,'Figure Requirements'!A5:P5,'Requirement Fulfillment'!A5:P5,'Run Artifacts'!A5:P5,'Document Plans'!A5:P5,Templates!A5:P5,'Template Slots'!A5:P5,Rulesets!A5:P5,Rules!A5:P5,Themes!A5:P5,'Assembly Components'!A5:P5,'Generation Requests'!A5:P5,'Asset Lifecycle'!A5:P5),1,A22),"") -> 0 | C22: =IF(B22="","",IF(COUNTIFS(CHOOSE(MATCH($B$3,'Table Dictionary'!$A$7:$A$39,0),Projects!C7:C1200,'Pass Definitions'!C7:C1200,'Pass Runs'!C7:C1200,Instructions!C7:C1200,'Record Revisions'!C7:C1200,Sources!C7:C1200,'Content Items'!C7:C1200,'Figure Contracts'!C7:C1200,'Asset Requirements'!C7:C1200,'File Revisions'!C7:C1200,'Figure Outputs'!C7:C1200,'Document Placements'!C7:C1200,Dependencies!C7:C1200,Checks!C7:C1200,Issues!C7:C1200,Approvals!C7:C1200,Releases!C7:C1200,'Table Dictionary'!C7:C1200,'Field Dictionary'!C7:C1200,'Source Support'!C7:C1200,'Figure Coverage'!C7:C1200,'Figure Requirements'!C7:C1200,'Requirement Fulfillment'!C7:C1200,'Run Artifacts'!C7:C1200,'Document Plans'!C7:C1200,Templates!C7:C1200,'Template Slots'!C7:C1200,Rulesets!C7:C1200,Rules!C7:C1200,Themes!C7:C1200,'Assembly Components'!C7:C1200,'Generation Requests'!C7:C1200,'Asset Lifecycle'!C7:C1200),$B$4)<>1,"SELECT UNIQUE ID",IF(INDEX(CHOOSE(MATCH($B$3,'Table Dictionary'!$A$7:$A$39,0),Projects!A7:P1200,'Pass Definitions'!A7:P1200,'Pass Runs'!A7:P1200,Instructions!A7:P1200,'Record Revisions'!A7:P1200,Sources!A7:P1200,'Content Items'!A7:P1200,'Figure Contracts'!A7:P1200,'Asset Requirements'!A7:P1200,'File Revisions'!A7:P1200,'Figure Outputs'!A7:P1200,'Document Placements'!A7:P1200,Dependencies!A7:P1200,Checks!A7:P1200,Issues!A7:P1200,Approvals!A7:P1200,Releases!A7:P1200,'Table Dictionary'!A7:P1200,'Field Dictionary'!A7:P1200,'Source Support'!A7:P1200,'Figure Coverage'!A7:P1200,'Figure Requirements'!A7:P1200,'Requirement Fulfillment'!A7:P1200,'Run Artifacts'!A7:P1200,'Document Plans'!A7:P1200,Templates!A7:P1200,'Template Slots'!A7:P1200,Rulesets!A7:P1200,Rules!A7:P1200,Themes!A7:P1200,'Assembly Components'!A7:P1200,'Generation Requests'!A7:P1200,'Asset Lifecycle'!A7:P1200),MATCH($B$4,CHOOSE(MATCH($B$3,'Table Dictionary'!$A$7:$A$39,0),Projects!C7:C1200,'Pass Definitions'!C7:C1200,'Pass Runs'!C7:C1200,Instructions!C7:C1200,'Record Revisions'!C7:C1200,Sources!C7:C1200,'Content Items'!C7:C1200,'Figure Contracts'!C7:C1200,'Asset Requirements'!C7:C1200,'File Revisions'!C7:C1200,'Figure Outputs'!C7:C1200,'Document Placements'!C7:C1200,Dependencies!C7:C1200,Checks!C7:C1200,Issues!C7:C1200,Approvals!C7:C1200,Releases!C7:C1200,'Table Dictionary'!C7:C1200,'Field Dictionary'!C7:C1200,'Source Support'!C7:C1200,'Figure Coverage'!C7:C1200,'Figure Requirements'!C7:C1200,'Requirement Fulfillment'!C7:C1200,'Run Artifacts'!C7:C1200,'Document Plans'!C7:C1200,Templates!C7:C1200,'Template Slots'!C7:C1200,Rulesets!C7:C1200,Rules!C7:C1200,Themes!C7:C1200,'Assembly Components'!C7:C1200,'Generation Requests'!C7:C1200,'Asset Lifecycle'!C7:C1200),0),A22)="","",INDEX(CHOOSE(MATCH($B$3,'Table Dictionary'!$A$7:$A$39,0),Projects!A7:P1200,'Pass Definitions'!A7:P1200,'Pass Runs'!A7:P1200,Instructions!A7:P1200,'Record Revisions'!A7:P1200,Sources!A7:P1200,'Content Items'!A7:P1200,'Figure Contracts'!A7:P1200,'Asset Requirements'!A7:P1200,'File Revisions'!A7:P1200,'Figure Outputs'!A7:P1200,'Document Placements'!A7:P1200,Dependencies!A7:P1200,Checks!A7:P1200,Issues!A7:P1200,Approvals!A7:P1200,Releases!A7:P1200,'Table Dictionary'!A7:P1200,'Field Dictionary'!A7:P1200,'Source Support'!A7:P1200,'Figure Coverage'!A7:P1200,'Figure Requirements'!A7:P1200,'Requirement Fulfillment'!A7:P1200,'Run Artifacts'!A7:P1200,'Document Plans'!A7:P1200,Templates!A7:P1200,'Template Slots'!A7:P1200,Rulesets!A7:P1200,Rules!A7:P1200,Themes!A7:P1200,'Assembly Components'!A7:P1200,'Generation Requests'!A7:P1200,'Asset Lifecycle'!A7:P1200),MATCH($B$4,CHOOSE(MATCH($B$3,'Table Dictionary'!$A$7:$A$39,0),Projects!C7:C1200,'Pass Definitions'!C7:C1200,'Pass Runs'!C7:C1200,Instructions!C7:C1200,'Record Revisions'!C7:C1200,Sources!C7:C1200,'Content Items'!C7:C1200,'Figure Contracts'!C7:C1200,'Asset Requirements'!C7:C1200,'File Revisions'!C7:C1200,'Figure Outputs'!C7:C1200,'Document Placements'!C7:C1200,Dependencies!C7:C1200,Checks!C7:C1200,Issues!C7:C1200,Approvals!C7:C1200,Releases!C7:C1200,'Table Dictionary'!C7:C1200,'Field Dictionary'!C7:C1200,'Source Support'!C7:C1200,'Figure Coverage'!C7:C1200,'Figure Requirements'!C7:C1200,'Requirement Fulfillment'!C7:C1200,'Run Artifacts'!C7:C1200,'Document Plans'!C7:C1200,Templates!C7:C1200,'Template Slots'!C7:C1200,Rulesets!C7:C1200,Rules!C7:C1200,Themes!C7:C1200,'Assembly Components'!C7:C1200,'Generation Requests'!C7:C1200,'Asset Lifecycle'!C7:C1200),0),A22)))) | D22: =IF(B22="","",INDEX('Field Dictionary'!$G$7:$G$500,MATCH(INDEX('Table Dictionary'!$C$7:$C$39,MATCH($B$3,'Table Dictionary'!$A$7:$A$39,0))&"-F"&TEXT(A22,"00"),'Field Dictionary'!$C$7:$C$500,0))) -> #N/A | E22: =IF(OR(D22="LINKED RECORD",D22="LINKED RECORDS"),INDEX('Table Dictionary'!$A$7:$A$39,MATCH(INDEX('Field Dictionary'!$J$7:$J$500,MATCH(INDEX('Table Dictionary'!$C$7:$C$39,MATCH($B$3,'Table Dictionary'!$A$7:$A$39,0))&"-F"&TEXT(A22,"00"),'Field Dictionary'!$C$7:$C$500,0)),'Table Dictionary'!$C$7:$C$39,0)),"") -> #N/A | F22: =IF(B22="","",HYPERLINK("#'Field Dictionary'!A"&(MATCH(INDEX('Table Dictionary'!$C$7:$C$39,MATCH($B$3,'Table Dictionary'!$A$7:$A$39,0))&"-F"&TEXT(A22,"00"),'Field Dictionary'!$C$7:$C$500,0)+6),"Read field rule")) -> #N/A
A23: 15 | B23: =IFERROR(INDEX(CHOOSE(MATCH($B$3,'Table Dictionary'!$A$7:$A$39,0),Projects!A5:P5,'Pass Definitions'!A5:P5,'Pass Runs'!A5:P5,Instructions!A5:P5,'Record Revisions'!A5:P5,Sources!A5:P5,'Content Items'!A5:P5,'Figure Contracts'!A5:P5,'Asset Requirements'!A5:P5,'File Revisions'!A5:P5,'Figure Outputs'!A5:P5,'Document Placements'!A5:P5,Dependencies!A5:P5,Checks!A5:P5,Issues!A5:P5,Approvals!A5:P5,Releases!A5:P5,'Table Dictionary'!A5:P5,'Field Dictionary'!A5:P5,'Source Support'!A5:P5,'Figure Coverage'!A5:P5,'Figure Requirements'!A5:P5,'Requirement Fulfillment'!A5:P5,'Run Artifacts'!A5:P5,'Document Plans'!A5:P5,Templates!A5:P5,'Template Slots'!A5:P5,Rulesets!A5:P5,Rules!A5:P5,Themes!A5:P5,'Assembly Components'!A5:P5,'Generation Requests'!A5:P5,'Asset Lifecycle'!A5:P5),1,A23),"") -> 0 | C23: =IF(B23="","",IF(COUNTIFS(CHOOSE(MATCH($B$3,'Table Dictionary'!$A$7:$A$39,0),Projects!C7:C1200,'Pass Definitions'!C7:C1200,'Pass Runs'!C7:C1200,Instructions!C7:C1200,'Record Revisions'!C7:C1200,Sources!C7:C1200,'Content Items'!C7:C1200,'Figure Contracts'!C7:C1200,'Asset Requirements'!C7:C1200,'File Revisions'!C7:C1200,'Figure Outputs'!C7:C1200,'Document Placements'!C7:C1200,Dependencies!C7:C1200,Checks!C7:C1200,Issues!C7:C1200,Approvals!C7:C1200,Releases!C7:C1200,'Table Dictionary'!C7:C1200,'Field Dictionary'!C7:C1200,'Source Support'!C7:C1200,'Figure Coverage'!C7:C1200,'Figure Requirements'!C7:C1200,'Requirement Fulfillment'!C7:C1200,'Run Artifacts'!C7:C1200,'Document Plans'!C7:C1200,Templates!C7:C1200,'Template Slots'!C7:C1200,Rulesets!C7:C1200,Rules!C7:C1200,Themes!C7:C1200,'Assembly Components'!C7:C1200,'Generation Requests'!C7:C1200,'Asset Lifecycle'!C7:C1200),$B$4)<>1,"SELECT UNIQUE ID",IF(INDEX(CHOOSE(MATCH($B$3,'Table Dictionary'!$A$7:$A$39,0),Projects!A7:P1200,'Pass Definitions'!A7:P1200,'Pass Runs'!A7:P1200,Instructions!A7:P1200,'Record Revisions'!A7:P1200,Sources!A7:P1200,'Content Items'!A7:P1200,'Figure Contracts'!A7:P1200,'Asset Requirements'!A7:P1200,'File Revisions'!A7:P1200,'Figure Outputs'!A7:P1200,'Document Placements'!A7:P1200,Dependencies!A7:P1200,Checks!A7:P1200,Issues!A7:P1200,Approvals!A7:P1200,Releases!A7:P1200,'Table Dictionary'!A7:P1200,'Field Dictionary'!A7:P1200,'Source Support'!A7:P1200,'Figure Coverage'!A7:P1200,'Figure Requirements'!A7:P1200,'Requirement Fulfillment'!A7:P1200,'Run Artifacts'!A7:P1200,'Document Plans'!A7:P1200,Templates!A7:P1200,'Template Slots'!A7:P1200,Rulesets!A7:P1200,Rules!A7:P1200,Themes!A7:P1200,'Assembly Components'!A7:P1200,'Generation Requests'!A7:P1200,'Asset Lifecycle'!A7:P1200),MATCH($B$4,CHOOSE(MATCH($B$3,'Table Dictionary'!$A$7:$A$39,0),Projects!C7:C1200,'Pass Definitions'!C7:C1200,'Pass Runs'!C7:C1200,Instructions!C7:C1200,'Record Revisions'!C7:C1200,Sources!C7:C1200,'Content Items'!C7:C1200,'Figure Contracts'!C7:C1200,'Asset Requirements'!C7:C1200,'File Revisions'!C7:C1200,'Figure Outputs'!C7:C1200,'Document Placements'!C7:C1200,Dependencies!C7:C1200,Checks!C7:C1200,Issues!C7:C1200,Approvals!C7:C1200,Releases!C7:C1200,'Table Dictionary'!C7:C1200,'Field Dictionary'!C7:C1200,'Source Support'!C7:C1200,'Figure Coverage'!C7:C1200,'Figure Requirements'!C7:C1200,'Requirement Fulfillment'!C7:C1200,'Run Artifacts'!C7:C1200,'Document Plans'!C7:C1200,Templates!C7:C1200,'Template Slots'!C7:C1200,Rulesets!C7:C1200,Rules!C7:C1200,Themes!C7:C1200,'Assembly Components'!C7:C1200,'Generation Requests'!C7:C1200,'Asset Lifecycle'!C7:C1200),0),A23)="","",INDEX(CHOOSE(MATCH($B$3,'Table Dictionary'!$A$7:$A$39,0),Projects!A7:P1200,'Pass Definitions'!A7:P1200,'Pass Runs'!A7:P1200,Instructions!A7:P1200,'Record Revisions'!A7:P1200,Sources!A7:P1200,'Content Items'!A7:P1200,'Figure Contracts'!A7:P1200,'Asset Requirements'!A7:P1200,'File Revisions'!A7:P1200,'Figure Outputs'!A7:P1200,'Document Placements'!A7:P1200,Dependencies!A7:P1200,Checks!A7:P1200,Issues!A7:P1200,Approvals!A7:P1200,Releases!A7:P1200,'Table Dictionary'!A7:P1200,'Field Dictionary'!A7:P1200,'Source Support'!A7:P1200,'Figure Coverage'!A7:P1200,'Figure Requirements'!A7:P1200,'Requirement Fulfillment'!A7:P1200,'Run Artifacts'!A7:P1200,'Document Plans'!A7:P1200,Templates!A7:P1200,'Template Slots'!A7:P1200,Rulesets!A7:P1200,Rules!A7:P1200,Themes!A7:P1200,'Assembly Components'!A7:P1200,'Generation Requests'!A7:P1200,'Asset Lifecycle'!A7:P1200),MATCH($B$4,CHOOSE(MATCH($B$3,'Table Dictionary'!$A$7:$A$39,0),Projects!C7:C1200,'Pass Definitions'!C7:C1200,'Pass Runs'!C7:C1200,Instructions!C7:C1200,'Record Revisions'!C7:C1200,Sources!C7:C1200,'Content Items'!C7:C1200,'Figure Contracts'!C7:C1200,'Asset Requirements'!C7:C1200,'File Revisions'!C7:C1200,'Figure Outputs'!C7:C1200,'Document Placements'!C7:C1200,Dependencies!C7:C1200,Checks!C7:C1200,Issues!C7:C1200,Approvals!C7:C1200,Releases!C7:C1200,'Table Dictionary'!C7:C1200,'Field Dictionary'!C7:C1200,'Source Support'!C7:C1200,'Figure Coverage'!C7:C1200,'Figure Requirements'!C7:C1200,'Requirement Fulfillment'!C7:C1200,'Run Artifacts'!C7:C1200,'Document Plans'!C7:C1200,Templates!C7:C1200,'Template Slots'!C7:C1200,Rulesets!C7:C1200,Rules!C7:C1200,Themes!C7:C1200,'Assembly Components'!C7:C1200,'Generation Requests'!C7:C1200,'Asset Lifecycle'!C7:C1200),0),A23)))) | D23: =IF(B23="","",INDEX('Field Dictionary'!$G$7:$G$500,MATCH(INDEX('Table Dictionary'!$C$7:$C$39,MATCH($B$3,'Table Dictionary'!$A$7:$A$39,0))&"-F"&TEXT(A23,"00"),'Field Dictionary'!$C$7:$C$500,0))) -> #N/A | E23: =IF(OR(D23="LINKED RECORD",D23="LINKED RECORDS"),INDEX('Table Dictionary'!$A$7:$A$39,MATCH(INDEX('Field Dictionary'!$J$7:$J$500,MATCH(INDEX('Table Dictionary'!$C$7:$C$39,MATCH($B$3,'Table Dictionary'!$A$7:$A$39,0))&"-F"&TEXT(A23,"00"),'Field Dictionary'!$C$7:$C$500,0)),'Table Dictionary'!$C$7:$C$39,0)),"") -> #N/A | F23: =IF(B23="","",HYPERLINK("#'Field Dictionary'!A"&(MATCH(INDEX('Table Dictionary'!$C$7:$C$39,MATCH($B$3,'Table Dictionary'!$A$7:$A$39,0))&"-F"&TEXT(A23,"00"),'Field Dictionary'!$C$7:$C$500,0)+6),"Read field rule")) -> #N/A
A24: 16 | B24: =IFERROR(INDEX(CHOOSE(MATCH($B$3,'Table Dictionary'!$A$7:$A$39,0),Projects!A5:P5,'Pass Definitions'!A5:P5,'Pass Runs'!A5:P5,Instructions!A5:P5,'Record Revisions'!A5:P5,Sources!A5:P5,'Content Items'!A5:P5,'Figure Contracts'!A5:P5,'Asset Requirements'!A5:P5,'File Revisions'!A5:P5,'Figure Outputs'!A5:P5,'Document Placements'!A5:P5,Dependencies!A5:P5,Checks!A5:P5,Issues!A5:P5,Approvals!A5:P5,Releases!A5:P5,'Table Dictionary'!A5:P5,'Field Dictionary'!A5:P5,'Source Support'!A5:P5,'Figure Coverage'!A5:P5,'Figure Requirements'!A5:P5,'Requirement Fulfillment'!A5:P5,'Run Artifacts'!A5:P5,'Document Plans'!A5:P5,Templates!A5:P5,'Template Slots'!A5:P5,Rulesets!A5:P5,Rules!A5:P5,Themes!A5:P5,'Assembly Components'!A5:P5,'Generation Requests'!A5:P5,'Asset Lifecycle'!A5:P5),1,A24),"") -> 0 | C24: =IF(B24="","",IF(COUNTIFS(CHOOSE(MATCH($B$3,'Table Dictionary'!$A$7:$A$39,0),Projects!C7:C1200,'Pass Definitions'!C7:C1200,'Pass Runs'!C7:C1200,Instructions!C7:C1200,'Record Revisions'!C7:C1200,Sources!C7:C1200,'Content Items'!C7:C1200,'Figure Contracts'!C7:C1200,'Asset Requirements'!C7:C1200,'File Revisions'!C7:C1200,'Figure Outputs'!C7:C1200,'Document Placements'!C7:C1200,Dependencies!C7:C1200,Checks!C7:C1200,Issues!C7:C1200,Approvals!C7:C1200,Releases!C7:C1200,'Table Dictionary'!C7:C1200,'Field Dictionary'!C7:C1200,'Source Support'!C7:C1200,'Figure Coverage'!C7:C1200,'Figure Requirements'!C7:C1200,'Requirement Fulfillment'!C7:C1200,'Run Artifacts'!C7:C1200,'Document Plans'!C7:C1200,Templates!C7:C1200,'Template Slots'!C7:C1200,Rulesets!C7:C1200,Rules!C7:C1200,Themes!C7:C1200,'Assembly Components'!C7:C1200,'Generation Requests'!C7:C1200,'Asset Lifecycle'!C7:C1200),$B$4)<>1,"SELECT UNIQUE ID",IF(INDEX(CHOOSE(MATCH($B$3,'Table Dictionary'!$A$7:$A$39,0),Projects!A7:P1200,'Pass Definitions'!A7:P1200,'Pass Runs'!A7:P1200,Instructions!A7:P1200,'Record Revisions'!A7:P1200,Sources!A7:P1200,'Content Items'!A7:P1200,'Figure Contracts'!A7:P1200,'Asset Requirements'!A7:P1200,'File Revisions'!A7:P1200,'Figure Outputs'!A7:P1200,'Document Placements'!A7:P1200,Dependencies!A7:P1200,Checks!A7:P1200,Issues!A7:P1200,Approvals!A7:P1200,Releases!A7:P1200,'Table Dictionary'!A7:P1200,'Field Dictionary'!A7:P1200,'Source Support'!A7:P1200,'Figure Coverage'!A7:P1200,'Figure Requirements'!A7:P1200,'Requirement Fulfillment'!A7:P1200,'Run Artifacts'!A7:P1200,'Document Plans'!A7:P1200,Templates!A7:P1200,'Template Slots'!A7:P1200,Rulesets!A7:P1200,Rules!A7:P1200,Themes!A7:P1200,'Assembly Components'!A7:P1200,'Generation Requests'!A7:P1200,'Asset Lifecycle'!A7:P1200),MATCH($B$4,CHOOSE(MATCH($B$3,'Table Dictionary'!$A$7:$A$39,0),Projects!C7:C1200,'Pass Definitions'!C7:C1200,'Pass Runs'!C7:C1200,Instructions!C7:C1200,'Record Revisions'!C7:C1200,Sources!C7:C1200,'Content Items'!C7:C1200,'Figure Contracts'!C7:C1200,'Asset Requirements'!C7:C1200,'File Revisions'!C7:C1200,'Figure Outputs'!C7:C1200,'Document Placements'!C7:C1200,Dependencies!C7:C1200,Checks!C7:C1200,Issues!C7:C1200,Approvals!C7:C1200,Releases!C7:C1200,'Table Dictionary'!C7:C1200,'Field Dictionary'!C7:C1200,'Source Support'!C7:C1200,'Figure Coverage'!C7:C1200,'Figure Requirements'!C7:C1200,'Requirement Fulfillment'!C7:C1200,'Run Artifacts'!C7:C1200,'Document Plans'!C7:C1200,Templates!C7:C1200,'Template Slots'!C7:C1200,Rulesets!C7:C1200,Rules!C7:C1200,Themes!C7:C1200,'Assembly Components'!C7:C1200,'Generation Requests'!C7:C1200,'Asset Lifecycle'!C7:C1200),0),A24)="","",INDEX(CHOOSE(MATCH($B$3,'Table Dictionary'!$A$7:$A$39,0),Projects!A7:P1200,'Pass Definitions'!A7:P1200,'Pass Runs'!A7:P1200,Instructions!A7:P1200,'Record Revisions'!A7:P1200,Sources!A7:P1200,'Content Items'!A7:P1200,'Figure Contracts'!A7:P1200,'Asset Requirements'!A7:P1200,'File Revisions'!A7:P1200,'Figure Outputs'!A7:P1200,'Document Placements'!A7:P1200,Dependencies!A7:P1200,Checks!A7:P1200,Issues!A7:P1200,Approvals!A7:P1200,Releases!A7:P1200,'Table Dictionary'!A7:P1200,'Field Dictionary'!A7:P1200,'Source Support'!A7:P1200,'Figure Coverage'!A7:P1200,'Figure Requirements'!A7:P1200,'Requirement Fulfillment'!A7:P1200,'Run Artifacts'!A7:P1200,'Document Plans'!A7:P1200,Templates!A7:P1200,'Template Slots'!A7:P1200,Rulesets!A7:P1200,Rules!A7:P1200,Themes!A7:P1200,'Assembly Components'!A7:P1200,'Generation Requests'!A7:P1200,'Asset Lifecycle'!A7:P1200),MATCH($B$4,CHOOSE(MATCH($B$3,'Table Dictionary'!$A$7:$A$39,0),Projects!C7:C1200,'Pass Definitions'!C7:C1200,'Pass Runs'!C7:C1200,Instructions!C7:C1200,'Record Revisions'!C7:C1200,Sources!C7:C1200,'Content Items'!C7:C1200,'Figure Contracts'!C7:C1200,'Asset Requirements'!C7:C1200,'File Revisions'!C7:C1200,'Figure Outputs'!C7:C1200,'Document Placements'!C7:C1200,Dependencies!C7:C1200,Checks!C7:C1200,Issues!C7:C1200,Approvals!C7:C1200,Releases!C7:C1200,'Table Dictionary'!C7:C1200,'Field Dictionary'!C7:C1200,'Source Support'!C7:C1200,'Figure Coverage'!C7:C1200,'Figure Requirements'!C7:C1200,'Requirement Fulfillment'!C7:C1200,'Run Artifacts'!C7:C1200,'Document Plans'!C7:C1200,Templates!C7:C1200,'Template Slots'!C7:C1200,Rulesets!C7:C1200,Rules!C7:C1200,Themes!C7:C1200,'Assembly Components'!C7:C1200,'Generation Requests'!C7:C1200,'Asset Lifecycle'!C7:C1200),0),A24)))) | D24: =IF(B24="","",INDEX('Field Dictionary'!$G$7:$G$500,MATCH(INDEX('Table Dictionary'!$C$7:$C$39,MATCH($B$3,'Table Dictionary'!$A$7:$A$39,0))&"-F"&TEXT(A24,"00"),'Field Dictionary'!$C$7:$C$500,0))) -> #N/A | E24: =IF(OR(D24="LINKED RECORD",D24="LINKED RECORDS"),INDEX('Table Dictionary'!$A$7:$A$39,MATCH(INDEX('Field Dictionary'!$J$7:$J$500,MATCH(INDEX('Table Dictionary'!$C$7:$C$39,MATCH($B$3,'Table Dictionary'!$A$7:$A$39,0))&"-F"&TEXT(A24,"00"),'Field Dictionary'!$C$7:$C$500,0)),'Table Dictionary'!$C$7:$C$39,0)),"") -> #N/A | F24: =IF(B24="","",HYPERLINK("#'Field Dictionary'!A"&(MATCH(INDEX('Table Dictionary'!$C$7:$C$39,MATCH($B$3,'Table Dictionary'!$A$7:$A$39,0))&"-F"&TEXT(A24,"00"),'Field Dictionary'!$C$7:$C$500,0)+6),"Read field rule")) -> #N/A
A26: Target Table | B26: =IF(AND(B5>=1,B5<=16),INDEX(E9:E24,B5),"") -> Figure Contracts
A27: Target ID | B27: =IF(B26="","",IF(INDEX(D9:D24,B5)="LINKED RECORD",INDEX(C9:C24,B5),TRIM(MID(SUBSTITUTE(SUBSTITUTE(SUBSTITUTE(SUBSTITUTE(INDEX(C9:C24,B5),"[",""),"]",""),CHAR(34),""),",",REPT(" ",256)),(B6-1)*256+1,256)))) -> CONTRACT-F01
A28: Navigate | B28: =IF(OR(B26="",B27=""),"Select a populated link",IF(COUNTIFS(CHOOSE(MATCH(B26,'Table Dictionary'!$A$7:$A$39,0),Projects!C7:C1200,'Pass Definitions'!C7:C1200,'Pass Runs'!C7:C1200,Instructions!C7:C1200,'Record Revisions'!C7:C1200,Sources!C7:C1200,'Content Items'!C7:C1200,'Figure Contracts'!C7:C1200,'Asset Requirements'!C7:C1200,'File Revisions'!C7:C1200,'Figure Outputs'!C7:C1200,'Document Placements'!C7:C1200,Dependencies!C7:C1200,Checks!C7:C1200,Issues!C7:C1200,Approvals!C7:C1200,Releases!C7:C1200,'Table Dictionary'!C7:C1200,'Field Dictionary'!C7:C1200,'Source Support'!C7:C1200,'Figure Coverage'!C7:C1200,'Figure Requirements'!C7:C1200,'Requirement Fulfillment'!C7:C1200,'Run Artifacts'!C7:C1200,'Document Plans'!C7:C1200,Templates!C7:C1200,'Template Slots'!C7:C1200,Rulesets!C7:C1200,Rules!C7:C1200,Themes!C7:C1200,'Assembly Components'!C7:C1200,'Generation Requests'!C7:C1200,'Asset Lifecycle'!C7:C1200),B27)<>1,"BROKEN OR DUPLICATE",HYPERLINK("#'"&B26&"'!A"&(MATCH(B27,CHOOSE(MATCH(B26,'Table Dictionary'!$A$7:$A$39,0),Projects!C7:C1200,'Pass Definitions'!C7:C1200,'Pass Runs'!C7:C1200,Instructions!C7:C1200,'Record Revisions'!C7:C1200,Sources!C7:C1200,'Content Items'!C7:C1200,'Figure Contracts'!C7:C1200,'Asset Requirements'!C7:C1200,'File Revisions'!C7:C1200,'Figure Outputs'!C7:C1200,'Document Placements'!C7:C1200,Dependencies!C7:C1200,Checks!C7:C1200,Issues!C7:C1200,Approvals!C7:C1200,Releases!C7:C1200,'Table Dictionary'!C7:C1200,'Field Dictionary'!C7:C1200,'Source Support'!C7:C1200,'Figure Coverage'!C7:C1200,'Figure Requirements'!C7:C1200,'Requirement Fulfillment'!C7:C1200,'Run Artifacts'!C7:C1200,'Document Plans'!C7:C1200,Templates!C7:C1200,'Template Slots'!C7:C1200,Rulesets!C7:C1200,Rules!C7:C1200,Themes!C7:C1200,'Assembly Components'!C7:C1200,'Generation Requests'!C7:C1200,'Asset Lifecycle'!C7:C1200),0)+6),"OPEN TARGET RECORD"))) -> OPEN TARGET RECORD
A29: Link result | B29: =IF(B26="","Not a link field",IF(B27="","Empty link",IF(COUNTIFS(CHOOSE(MATCH(B26,'Table Dictionary'!$A$7:$A$39,0),Projects!C7:C1200,'Pass Definitions'!C7:C1200,'Pass Runs'!C7:C1200,Instructions!C7:C1200,'Record Revisions'!C7:C1200,Sources!C7:C1200,'Content Items'!C7:C1200,'Figure Contracts'!C7:C1200,'Asset Requirements'!C7:C1200,'File Revisions'!C7:C1200,'Figure Outputs'!C7:C1200,'Document Placements'!C7:C1200,Dependencies!C7:C1200,Checks!C7:C1200,Issues!C7:C1200,Approvals!C7:C1200,Releases!C7:C1200,'Table Dictionary'!C7:C1200,'Field Dictionary'!C7:C1200,'Source Support'!C7:C1200,'Figure Coverage'!C7:C1200,'Figure Requirements'!C7:C1200,'Requirement Fulfillment'!C7:C1200,'Run Artifacts'!C7:C1200,'Document Plans'!C7:C1200,Templates!C7:C1200,'Template Slots'!C7:C1200,Rulesets!C7:C1200,Rules!C7:C1200,Themes!C7:C1200,'Assembly Components'!C7:C1200,'Generation Requests'!C7:C1200,'Asset Lifecycle'!C7:C1200),B27)=1,"RESOLVED","BROKEN OR DUPLICATE"))) -> RESOLVED

Sheet Guide
A1: OctoGroove / Read and use
A2: =HYPERLINK("#Home!A1","Home") -> Home
A4: START | B4: Use the starter for new work. The worked example contains real file metadata and reconstructed workflow records.
A5: TABLES | B5: Each of the 24 logical Tables is an Excel Table. Row 6 contains numbered machine headers; row 7 begins records. Row 4 links to each Field definition.
A6: FILL | B6: Use Reader: choose Table and enter Record ID. Field Dictionary and Instructions supply meaning, entry rules, and next traversals. Blank rows are empty slots, not records.
A7: LINK | B7: Single links store one exact target ID. Multiple links store a JSON array, such as ["ID-1","ID-2"]. Use Reader to select a field and member, then follow its target.
A8: ADD | B8: Insert rows inside the named Excel Table. Copy validation and formulas from the preceding row. Data entry and Reader ranges support up to row 1200; extend the documented ranges together for larger projects.
A9: REVISE | B9: For versioned artifacts create new payload and registry rows. Preserve Artifact ID, increase Revision Number, link Previous Revision, and write a change summary. Never repoint historical approvals.
A10: DEPENDENCIES | B10: Record exact directed inputs. A new upstream revision requires manual scope review: CURRENT, NEEDS REVIEW, or STALE. Formulas do not decide semantic staleness.
A11: SANDBOX | B11: Human approvals are optional historical records and never block sandbox execution. Checks and dependency rules remain active. No live services are contacted by this workbook.
A12: CLONE | B12: Save a copy of the starter. Keep P-TEMPLATE and its reference definitions. Fill P-NEW with your name and scope. Add project records with new IDs; copy reusable asset roles with new IDs and remap their links.
A13: RESET | B13: To reset a populated project, prefer a fresh starter. Do not carry completed Checks, Approvals, Issues, Runs, or Releases into new work. Preserve reusable Instructions and Pass Definitions.
A14: OFFLINE | B14: All schema and instruction records are local. Actual figure/document files are external: File Revisions records their relative paths and hashes. Restore the original EFFECTS package to reproduce those files.
A15: PARSER | B15: Read named Tables og_*. Use f03_record_id as identity; ignore rows where all data fields are empty. Parse multi-links as JSON arrays; do not infer meaning from sheet position or emoji.
... A24: PATCH v0.2 | B24: Nine Tables added; existing Field numbers retained. New Fields: Projects 12–15; File Revisions 13; Document Placements 13–15. Table and Field Dictionaries provide the full compact schema and instructions.

Sheet Projects
A1: 🐙📁 Projects
A2: =HYPERLINK("#'Home'!A1","Home") -> Home | B2: =HYPERLINK("#'Reader'!A1","Read a record") -> Read a record
A3: One document-building project.
A4: =HYPERLINK("#'Field Dictionary'!A7","🐙📁 - 1 - SHORT TEXT") -> 🐙📁 - 1 - SHORT TEXT | B4: =HYPERLINK("#'Field Dictionary'!A8","🐙📁 - 2 - LONG TEXT") -> 🐙📁 - 2 - LONG TEXT | C4: =HYPERLINK("#'Field Dictionary'!A9","🐙📁 - 3 - SHORT TEXT") -> 🐙📁 - 3 - SHORT TEXT | D4: =HYPERLINK("#'Field Dictionary'!A10","🐙📁 - 4 - LINKED RECORD") -> 🐙📁 - 4 - LINKED RECORD | E4: =HYPERLINK("#'Field Dictionary'!A11","🐙📁 - 5 - SINGLE SELECT") -> 🐙📁 - 5 - SINGLE SELECT | F4: =HYPERLINK("#'Field Dictionary'!A12","🐙📁 - 6 - LONG TEXT") -> 🐙📁 - 6 - LONG TEXT | G4: =HYPERLINK("#'Field Dictionary'!A13","🐙📁 - 7 - LINKED RECORD") -> 🐙📁 - 7 - LINKED RECORD | H4: =HYPERLINK("#'Field Dictionary'!A14","🐙📁 - 8 - LINKED RECORD") -> 🐙📁 - 8 - LINKED RECORD | I4: =HYPERLINK("#'Field Dictionary'!A15","🐙📁 - 9 - LINKED RECORD") -> 🐙📁 - 9 - LINKED RECORD | J4: =HYPERLINK("#'Field Dictionary'!A16","🐙📁 - 10 - SINGLE SELECT") -> 🐙📁 - 10 - SINGLE SELECT | K4: =HYPERLINK("#'Field Dictionary'!A17","🐙📁 - 11 - SHORT TEXT") -> 🐙📁 - 11 - SHORT TEXT | L4: =HYPERLINK("#'Field Dictionary'!A18","🐙📁 - 12 - LINKED RECORD") -> 🐙📁 - 12 - LINKED RECORD | M4: =HYPERLINK("#'Field Dictionary'!A19","🐙📁 - 13 - LINKED RECORD") -> 🐙📁 - 13 - LINKED RECORD | N4: =HYPERLINK("#'Field Dictionary'!A20","🐙📁 - 14 - LINKED RECORD") -> 🐙📁 - 14 - LINKED RECORD | O4: =HYPERLINK("#'Field Dictionary'!A21","🐙📁 - 15 - SINGLE SELECT") -> 🐙📁 - 15 - SINGLE SELECT
A5: 1 — Name | B5: 2 — Description | C5: 3 — Record ID | D5: 4 — Template Release | E5: 5 — Project Mode | F5: 6 — Scope | G5: 7 — Active Pass Run | H5: 8 — Current Candidate | I5: 9 — Current Release | J5: 10 — Work State | K5: 11 — Owner | L5: 12 — Template | M5: 13 — Ruleset | N5: 14 — Theme | O5: 15 — Execution Policy
A6: f01_name | B6: f02_description | C6: f03_record_id | D6: f04_template_release | E6: f05_project_mode | F6: f06_scope | G6: f07_active_pass_run | H6: f08_current_candidate | I6: f09_current_release | J6: f10_work_state | K6: f11_owner | L6: f12_template | M6: f13_ruleset | N6: f14_theme | O6: f15_execution_policy
A7: OctoGroove reusable infrastructure | B7: Governed definitions and reusable instructions. | C7: P-TEMPLATE | E7: TEMPLATE | F7: Eight-pass document workflow; shared schema for starter and example. | J7: COMPLETE | K7: Template maintainer | L7: TPL-TECH | M7: RULESET-TECH | N7: THEME-NEON | O7: SANDBOX
A8: EFFECTS-64 worked example | B8: Reconstructed workflow from preserved figures, manifest, and reviewed document. | C8: P-EFX | E8: WORKED EXAMPLE | F8: Eight real figure outputs and document handoff; sample content and contracts reconstructed, not a complete historical transcript. | H8: DOC-FINAL | I8: REL-EFX | J8: COMPLETE | K8: Shane Conrad | L8: TPL-TECH | M8: RULESET-TECH | N8: THEME-NEON | O8: SANDBOX
A9: OctoGroove Document Construction System | B9: Prospective self-use construction of the new paper, beginning with Wave A. | C9: OG-PROJECT | E9: LIVE PROJECT | F9: Twelve-part paper; seven figures; companion workbooks; later Sites handoff and 1/3/8/15 EFFECTS trial checkpoints. | G9: OG-PASS-8 | H9: OG-P7-DOC | I9: OG-RELEASE-P8 | J9: COMPLETE | K9: Shane Conrad | L9: TPL-TECH | M9: RULESET-TECH | N9: THEME-NEON | O9: SANDBOX

Sheet Pass Definitions
A1: 🐙📋 Pass Definitions
A2: =HYPERLINK("#'Home'!A1","Home") -> Home | B2: =HYPERLINK("#'Reader'!A1","Read a record") -> Read a record
A3: One versioned definition of a Pass.
A4: =HYPERLINK("#'Field Dictionary'!A22","🐙📋 - 1 - SHORT TEXT") -> 🐙📋 - 1 - SHORT TEXT | B4: =HYPERLINK("#'Field Dictionary'!A23","🐙📋 - 2 - LONG TEXT") -> 🐙📋 - 2 - LONG TEXT | C4: =HYPERLINK("#'Field Dictionary'!A24","🐙📋 - 3 - SHORT TEXT") -> 🐙📋 - 3 - SHORT TEXT | D4: =HYPERLINK("#'Field Dictionary'!A25","🐙📋 - 4 - LINKED RECORD") -> 🐙📋 - 4 - LINKED RECORD | E4: =HYPERLINK("#'Field Dictionary'!A26","🐙📋 - 5 - INTEGER") -> 🐙📋 - 5 - INTEGER | F4: =HYPERLINK("#'Field Dictionary'!A27","🐙📋 - 6 - LONG TEXT") -> 🐙📋 - 6 - LONG TEXT | G4: =HYPERLINK("#'Field Dictionary'!A28","🐙📋 - 7 - LONG TEXT") -> 🐙📋 - 7 - LONG TEXT | H4: =HYPERLINK("#'Field Dictionary'!A29","🐙📋 - 8 - LONG TEXT") -> 🐙📋 - 8 - LONG TEXT | I4: =HYPERLINK("#'Field Dictionary'!A30","🐙📋 - 9 - LONG TEXT") -> 🐙📋 - 9 - LONG TEXT | J4: =HYPERLINK("#'Field Dictionary'!A31","🐙📋 - 10 - LONG TEXT") -> 🐙📋 - 10 - LONG TEXT | K4: =HYPERLINK("#'Field Dictionary'!A32","🐙📋 - 11 - LONG TEXT") -> 🐙📋 - 11 - LONG TEXT | L4: =HYPERLINK("#'Field Dictionary'!A33","🐙📋 - 12 - LINKED RECORDS") -> 🐙📋 - 12 - LINKED RECORDS
A5: 1 — Name | B5: 2 — Description | C5: 3 — Record ID | D5: 4 — Revision | E5: 5 — Pass Number | F5: 6 — Required Inputs | G5: 7 — Owned Decisions | H5: 8 — Transformation | I5: 9 — Required Outputs | J5: 10 — Exit Criteria | K5: 11 — Repair Routing | L5: 12 — Instructions
A6: f01_name | B6: f02_description | C6: f03_record_id | D6: f04_revision | E6: f05_pass_number | F6: f06_required_inputs | G6: f07_owned_decisions | H6: f08_transformation | I6: f09_required_outputs | J6: f10_exit_criteria | K6: f11_repair_routing | L6: f12_instructions
A7: Pass 1 — Type | B7: Classify audience, artifact kind, and intended use. | C7: PASS-1 | D7: R-PASS-1 | E7: 1 | F7: Request and intended use | G7: Classify audience, artifact kind, and intended use. | H7: Classify audience, artifact kind, and intended use. | I7: Document Type Declaration | J7: Required slots complete; evidence attached; blocking issues resolved; required outputs inspectable; proceed autonomously in SANDBOX. | K7: Meaning P3; visual obligation P4; ingredient P5; execution P6; composition P7; final review P8. | L7: ["I-T02"]
A8: Pass 2 — Govern | B8: Bind writing, formatting, scope, and verification requirements. | C8: PASS-2 | D8: R-PASS-2 | E8: 2 | F8: Type declaration and governing standards | G8: Bind writing, formatting, scope, and verification requirements. | H8: Bind writing, formatting, scope, and verification requirements. | I8: Document Contract | J8: Required slots complete; evidence attached; blocking issues resolved; required outputs inspectable; proceed autonomously in SANDBOX. | K8: Meaning P3; visual obligation P4; ingredient P5; execution P6; composition P7; final review P8. | L8: ["I-T02"]
A9: Pass 3 — Content | B9: Establish meaning, boundaries, claims, and ordered Document Spine in Document Plans and Document Placements. | C9: PASS-3 | D9: R-PASS-3 | E9: 3 | F9: Document contract and sources | G9: Establish meaning, boundaries, claims, and ordered Document Spine in Document Plans and Document Placements. | H9: Establish meaning, boundaries, claims, and ordered Document Spine in Document Plans and Document Placements. | I9: Content Map | J9: Required slots complete; evidence attached; blocking issues resolved; required outputs inspectable; proceed autonomously in SANDBOX. | K9: Meaning P3; visual obligation P4; ingredient P5; execution P6; composition P7; final review P8. | L9: ["I-T02"]
A10: Pass 4 — Figures | B10: Assign explanatory obligations, encodings, and misleading implications to prevent. | C10: PASS-4 | D10: R-PASS-4 | E10: 4 | F10: Content Map | G10: Assign explanatory obligations, encodings, and misleading implications to prevent. | H10: Assign explanatory obligations, encodings, and misleading implications to prevent. | I10: Figure Contracts | J10: Required slots complete; evidence attached; blocking issues resolved; required outputs inspectable; proceed autonomously in SANDBOX. | K10: Meaning P3; visual obligation P4; ingredient P5; execution P6; composition P7; final review P8. | L10: ["I-T02"]
A11: Pass 5 — Assets | B11: Identify stable ingredient roles and how to obtain them. | C11: PASS-5 | D11: R-PASS-5 | E11: 5 | F11: Figure Contracts | G11: Identify stable ingredient roles and how to obtain them. | H11: Identify stable ingredient roles and how to obtain them. | I11: Asset Requirements | J11: Required slots complete; evidence attached; blocking issues resolved; required outputs inspectable; proceed autonomously in SANDBOX. | K11: Meaning P3; visual obligation P4; ingredient P5; execution P6; composition P7; final review P8. | L11: ["I-T02"]
A12: Pass 6 — Build | B12: Build in project-specific Waves; check semantic and visual correctness separately. | C12: PASS-6 | D12: R-PASS-6 | E12: 6 | F12: Contracts, requirements, and selected assets | G12: Build in project-specific Waves; check semantic and visual correctness separately. | H12: Build in project-specific Waves; check semantic and visual correctness separately. | I12: Figure Set and Production QA | J12: Required slots complete; evidence attached; blocking issues resolved; required outputs inspectable; proceed autonomously in SANDBOX. | K12: Meaning P3; visual obligation P4; ingredient P5; execution P6; composition P7; final review P8. | L12: ["I-T02"]
A13: Pass 7 — Compose | B13: Compose resolved text and figures; render actual pages. | C13: PASS-7 | D13: R-PASS-7 | E13: 7 | F13: Resolved content and figure outputs | G13: Compose resolved text and figures; render actual pages. | H13: Compose resolved text and figures; render actual pages. | I13: Document Candidate | J13: Required slots complete; evidence attached; blocking issues resolved; required outputs inspectable; proceed autonomously in SANDBOX. | K13: Meaning P3; visual obligation P4; ingredient P5; execution P6; composition P7; final review P8. | L13: ["I-T02"]
A14: Pass 8 — Verify | B14: Compare rendered candidate against contracts; route defects to earliest owner; recheck repairs. | C14: PASS-8 | D14: R-PASS-8 | E14: 8 | F14: Document candidate and governing contracts | G14: Compare rendered candidate against contracts; route defects to earliest owner; recheck repairs. | H14: Compare rendered candidate against contracts; route defects to earliest owner; recheck repairs. | I14: Verified Release and QA | J14: Required slots complete; evidence attached; blocking issues resolved; required outputs inspectable; proceed autonomously in SANDBOX. | K14: Meaning P3; visual obligation P4; ingredient P5; execution P6; composition P7; final review P8. | L14: ["I-T02"]

Sheet Pass Runs
A1: 🐙▶️ Pass Runs
A2: =HYPERLINK("#'Home'!A1","Home") -> Home | B2: =HYPERLINK("#'Reader'!A1","Read a record") -> Read a record
A3: One execution of a Pass or Wave.
A4: =HYPERLINK("#'Field Dictionary'!A34","🐙▶️ - 1 - SHORT TEXT") -> 🐙▶️ - 1 - SHORT TEXT | B4: =HYPERLINK("#'Field Dictionary'!A35","🐙▶️ - 2 - LONG TEXT") -> 🐙▶️ - 2 - LONG TEXT | C4: =HYPERLINK("#'Field Dictionary'!A36","🐙▶️ - 3 - SHORT TEXT") -> 🐙▶️ - 3 - SHORT TEXT | D4: =HYPERLINK("#'Field Dictionary'!A37","🐙▶️ - 4 - LINKED RECORD") -> 🐙▶️ - 4 - LINKED RECORD | E4: =HYPERLINK("#'Field Dictionary'!A38","🐙▶️ - 5 - LINKED RECORD") -> 🐙▶️ - 5 - LINKED RECORD | F4: =HYPERLINK("#'Field Dictionary'!A39","🐙▶️ - 6 - LINKED RECORD") -> 🐙▶️ - 6 - LINKED RECORD | G4: =HYPERLINK("#'Field Dictionary'!A40","🐙▶️ - 7 - SHORT TEXT") -> 🐙▶️ - 7 - SHORT TEXT | H4: =HYPERLINK("#'Field Dictionary'!A41","🐙▶️ - 8 - INTEGER") -> 🐙▶️ - 8 - INTEGER | I4: =HYPERLINK("#'Field Dictionary'!A42","🐙▶️ - 9 - LINKED RECORD") -> 🐙▶️ - 9 - LINKED RECORD | J4: =HYPERLINK("#'Field Dictionary'!A43","🐙▶️ - 10 - SINGLE SELECT") -> 🐙▶️ - 10 - SINGLE SELECT | K4: =HYPERLINK("#'Field Dictionary'!A44","🐙▶️ - 11 - LONG TEXT") -> 🐙▶️ - 11 - LONG TEXT | L4: =HYPERLINK("#'Field Dictionary'!A45","🐙▶️ - 12 - LONG TEXT") -> 🐙▶️ - 12 - LONG TEXT | M4: =HYPERLINK("#'Field Dictionary'!A46","🐙▶️ - 13 - SINGLE SELECT") -> 🐙▶️ - 13 - SINGLE SELECT
A5: 1 — Name | B5: 2 — Description | C5: 3 — Record ID | D5: 4 — Project | E5: 5 — Pass Definition | F5: 6 — Parent Run | G5: 7 — Wave Label | H5: 8 — Execution Order | I5: 9 — Previous Attempt | J5: 10 — Work State | K5: 11 — Decision Record | L5: 12 — Handoff | M5: 13 — Evidence Origin
A6: f01_name | B6: f02_description | C6: f03_record_id | D6: f04_project | E6: f05_pass_definition | F6: f06_parent_run | G6: f07_wave_label | H6: f08_execution_order | I6: f09_previous_attempt | J6: f10_work_state | K6: f11_decision_record | L6: f12_handoff | M6: f13_evidence_origin
A7: EFFECTS Pass 1 | B7: Classify audience, artifact kind, and intended use. | C7: RUN-1 | D7: P-EFX | E7: PASS-1 | H7: 1 | J7: COMPLETE | K7: Historical stage reconstructed from retained artifacts and visible approval sequence. | L7: Document Type Declaration | M7: RECONSTRUCTED
A8: EFFECTS Pass 2 | B8: Bind writing, formatting, scope, and verification requirements. | C8: RUN-2 | D8: P-EFX | E8: PASS-2 | H8: 2 | J8: COMPLETE | K8: Historical stage reconstructed from retained artifacts and visible approval sequence. | L8: Document Contract | M8: RECONSTRUCTED
A9: EFFECTS Pass 3 | B9: Establish meaning, boundaries, claims, and ordered Document Spine in Document Plans and Document Placements. | C9: RUN-3 | D9: P-EFX | E9: PASS-3 | H9: 3 | J9: COMPLETE | K9: Historical stage reconstructed from retained artifacts and visible approval sequence. | L9: Content Map | M9: RECONSTRUCTED
A10: EFFECTS Pass 4 | B10: Assign explanatory obligations, encodings, and misleading implications to prevent. | C10: RUN-4 | D10: P-EFX | E10: PASS-4 | H10: 4 | J10: COMPLETE | K10: Historical stage reconstructed from retained artifacts and visible approval sequence. | L10: Figure Contracts | M10: RECONSTRUCTED
A11: EFFECTS Pass 5 | B11: Identify stable ingredient roles and how to obtain them. | C11: RUN-5 | D11: P-EFX | E11: PASS-5 | H11: 5 | J11: COMPLETE | K11: Historical stage reconstructed from retained artifacts and visible approval sequence. | L11: Asset Requirements | M11: RECONSTRUCTED
A12: EFFECTS Pass 6 | B12: Build in project-specific Waves; check semantic and visual correctness separately. | C12: RUN-6 | D12: P-EFX | E12: PASS-6 | H12: 6 | J12: COMPLETE | K12: Historical stage reconstructed from retained artifacts and visible approval sequence. | L12: Figure Set and Production QA | M12: RECONSTRUCTED
A13: EFFECTS Pass 7 | B13: Compose resolved text and figures; render actual pages. | C13: RUN-7 | D13: P-EFX | E13: PASS-7 | H13: 7 | J13: COMPLETE | K13: Historical stage reconstructed from retained artifacts and visible approval sequence. | L13: Document Candidate | M13: RECONSTRUCTED
A14: EFFECTS Pass 8 | B14: Compare rendered candidate against contracts; route defects to earliest owner; recheck repairs. | C14: RUN-8 | D14: P-EFX | E14: PASS-8 | H14: 8 | J14: COMPLETE | K14: Historical stage reconstructed from retained artifacts and visible approval sequence. | L14: Verified Release and QA | M14: RECONSTRUCTED
A15: OctoGroove Pass 3 | B15: OctoGroove paper self-use project. | C15: OG-PASS-3 | D15: OG-PROJECT | E15: PASS-3 | H15: 3 | J15: COMPLETE | K15: Reconstructed from approved chat planning; no invented historical execution evidence. | L15: Approved planning recorded in OG-SOURCE-PLAN. | M15: RECONSTRUCTED
A16: OctoGroove Pass 4 | B16: OctoGroove paper self-use project. | C16: OG-PASS-4 | D16: OG-PROJECT | E16: PASS-4 | H16: 4 | J16: COMPLETE | K16: Reconstructed from approved chat planning; no invented historical execution evidence. | L16: Approved planning recorded in OG-SOURCE-PLAN. | M16: RECONSTRUCTED
A17: OctoGroove Pass 5 | B17: OctoGroove paper self-use project. | C17: OG-PASS-5 | D17: OG-PROJECT | E17: PASS-5 | H17: 5 | J17: COMPLETE | K17: Reconstructed from approved chat planning; no invented historical execution evidence. | L17: Approved planning recorded in OG-SOURCE-PLAN. | M17: RECONSTRUCTED
A18: OctoGroove build | B18: OctoGroove paper self-use project. | C18: OG-PASS-6 | D18: OG-PROJECT | E18: PASS-6 | H18: 6 | J18: COMPLETE | K18: All seven numbered figures and34 existing OctoGroove physical source files passed combined audit. No final Word or desktop Excel execution claim. | L18: Proceed to Pass7 using OG-H-HANDOFF and OG-H-MANIFEST; preserve page-fit and starter-parity follow-ups. | M18: CONTEMPORANEOUS
A19: Registration and baseline | B19: OctoGroove paper self-use project. | C19: OG-WAVE-A | D19: OG-PROJECT | E19: PASS-6 | F19: OG-PASS-6 | G19: A | H19: 1 | J19: COMPLETE | K19: Wave A records validated at construction. | L19: Registered source baseline and bounded requirements. | M19: CONTEMPORANEOUS
A20: Notation and components | B20: OctoGroove paper self-use project. | C20: OG-WAVE-B | D20: OG-PROJECT | E20: PASS-6 | F20: OG-PASS-6 | G20: B | H20: 2 | J20: COMPLETE | K20: Built notation, editable drawing components, construction sample and seven-figure initial text. Font coverage fallback documented. | L20: Selected fulfillments for OG-A03, OG-A04 and OG-A06; consume in Waves C-G. | M20: CONTEMPORANEOUS
A21: Operating package and traversal | B21: OctoGroove paper self-use project. | C21: OG-WAVE-C | D21: OG-PROJECT | E21: PASS-6 | F21: OG-PASS-6 | G21: C | H21: 3 | J21: COMPLETE | K21: Built, rendered and inspected OG-F01 and OG-F03; source evidence and placements registered. | L21: Wave D may consume shared assets and follow the checked Table/Field/Record conventions. Paper composition remains later. | M21: CONTEMPORANEOUS
A22: Construction relationship map | B22: OctoGroove paper self-use project. | C22: OG-WAVE-D | D22: OG-PROJECT | E22: PASS-6 | F22: OG-PASS-6 | G22: D | H22: 4 | J22: COMPLETE | K22: Built, rendered and inspected OG-F02; source evidence and placements registered. | L22: Wave E may consume shared assets and follow the checked Table/Field/Record conventions. Paper composition remains later. | M22: CONTEMPORANEOUS
A23: Spine example | B23: OctoGroove paper self-use project. | C23: OG-WAVE-E | D23: OG-PROJECT | E23: PASS-6 | F23: OG-PASS-6 | G23: E | H23: 5 | J23: COMPLETE | K23: Built, rendered and inspected OG-F04; source evidence and placements registered. | L23: Wave F may consume shared assets and follow the checked Table/Field/Record conventions. Paper composition remains later. | M23: CONTEMPORANEOUS
A24: Selection and readback | B24: OctoGroove paper self-use project. | C24: OG-WAVE-F | D24: OG-PROJECT | E24: PASS-6 | F24: OG-PASS-6 | G24: F | H24: 6 | J24: COMPLETE | K24: Built, rendered and inspected OG-F05; source evidence and placements registered. | L24: Wave G may consume shared assets and follow the checked Table/Field/Record conventions. Paper composition remains later. | M24: CONTEMPORANEOUS
A25: Repair and reuse | B25: OctoGroove paper self-use project. | C25: OG-WAVE-G | D25: OG-PROJECT | E25: PASS-6 | F25: OG-PASS-6 | G25: G | H25: 7 | J25: COMPLETE | K25: Built, rendered and inspected OG-F06 and OG-F07; source evidence and placements registered. | L25: Wave H may consume shared assets and follow the checked Table/Field/Record conventions. Paper composition remains later. | M25: CONTEMPORANEOUS
A26: Verification and handoff | B26: OctoGroove paper self-use project. | C26: OG-WAVE-H | D26: OG-PROJECT | E26: PASS-6 | F26: OG-PASS-6 | G26: H | H26: 8 | J26: COMPLETE | K26: All seven numbered figures and34 existing OctoGroove physical source files passed combined audit. No final Word or desktop Excel execution claim. | L26: Proceed to Pass7 using OG-H-HANDOFF and OG-H-MANIFEST; preserve page-fit and starter-parity follow-ups. | M26: CONTEMPORANEOUS
A27: OctoGroove Pass 7 Compose | B27: Compose twelve sections and seven figures; inspect actual pages. | C27: OG-PASS-7 | D27: OG-PROJECT | E27: PASS-7 | H27: 7 | J27: COMPLETE | K27: 21-page candidate composed and visually inspected. Title border removed; field addresses made explicit. Final release review remains Pass 8. | L27: Candidate and linked prose registered; proceed to final consistency review. Native desktop Excel and starter parity remain pending. | M27: CONTEMPORANEOUS
A28: OctoGroove Pass 8 Verify | B28: Final paper consistency, byte integrity and package review. | C28: OG-PASS-8 | D28: OG-PROJECT | E28: PASS-8 | H28: 8 | J28: COMPLETE | K28: Approved candidate retained byte-for-byte. Seven contracts, exact prose order and 42 registered files pass audit. | L28: Paper ready as source for the next Sites stage; native Excel and starter parity are tracked separately. | M28: CONTEMPORANEOUS

Sheet Instructions
A1: 📖🧭 Instructions
A2: =HYPERLINK("#'Home'!A1","Home") -> Home | B2: =HYPERLINK("#'Reader'!A1","Read a record") -> Read a record
A3: One versioned read-and-use instruction.
A4: =HYPERLINK("#'Field Dictionary'!A47","📖🧭 - 1 - SHORT TEXT") -> 📖🧭 - 1 - SHORT TEXT | B4: =HYPERLINK("#'Field Dictionary'!A48","📖🧭 - 2 - LONG TEXT") -> 📖🧭 - 2 - LONG TEXT | C4: =HYPERLINK("#'Field Dictionary'!A49","📖🧭 - 3 - SHORT TEXT") -> 📖🧭 - 3 - SHORT TEXT | D4: =HYPERLINK("#'Field Dictionary'!A50","📖🧭 - 4 - LINKED RECORD") -> 📖🧭 - 4 - LINKED RECORD | E4: =HYPERLINK("#'Field Dictionary'!A51","📖🧭 - 5 - SINGLE SELECT") -> 📖🧭 - 5 - SINGLE SELECT | F4: =HYPERLINK("#'Field Dictionary'!A52","📖🧭 - 6 - LINKED RECORD") -> 📖🧭 - 6 - LINKED RECORD | G4: =HYPERLINK("#'Field Dictionary'!A53","📖🧭 - 7 - LINKED RECORD") -> 📖🧭 - 7 - LINKED RECORD | H4: =HYPERLINK("#'Field Dictionary'!A54","📖🧭 - 8 - LONG TEXT") -> 📖🧭 - 8 - LONG TEXT | I4: =HYPERLINK("#'Field Dictionary'!A55","📖🧭 - 9 - LONG TEXT") -> 📖🧭 - 9 - LONG TEXT | J4: =HYPERLINK("#'Field Dictionary'!A56","📖🧭 - 10 - LONG TEXT") -> 📖🧭 - 10 - LONG TEXT | K4: =HYPERLINK("#'Field Dictionary'!A57","📖🧭 - 11 - LONG TEXT") -> 📖🧭 - 11 - LONG TEXT | L4: =HYPERLINK("#'Field Dictionary'!A58","📖🧭 - 12 - LONG TEXT") -> 📖🧭 - 12 - LONG TEXT | M4: =HYPERLINK("#'Field Dictionary'!A59","📖🧭 - 13 - LONG TEXT") -> 📖🧭 - 13 - LONG TEXT
A5: 1 — Name | B5: 2 — Description | C5: 3 — Record ID | D5: 4 — Revision | E5: 5 — Scope | F5: 6 — Target Table | G5: 7 — Target Field | H5: 8 — Read First | I5: 9 — Required When | J5: 10 — Procedure | K5: 11 — Acceptance Rule | L5: 12 — Example | M5: 13 — Next Traversal
A6: f01_name | B6: f02_description | C6: f03_record_id | D6: f04_revision | E6: f05_scope | F6: f06_target_table | G6: f07_target_field | H6: f08_read_first | I6: f09_required_when | J6: f10_procedure | K6: f11_acceptance_rule | L6: f12_example | M6: f13_next_traversal
A7: Projects use | B7: One document-building project. | C7: I-T01 | D7: R-I-T01 | E7: TABLE | F7: T01 | H7: Home instructions; this Table definition; linked Field definitions. | I7: Before adding or changing a record in this Table. | J7: Enter one record per row. Read field instructions using row 4 links or Reader. Assign a unique ID. Use existing target IDs for links. Create a new revision for approved artifact changes. | K7: Required fields populated; IDs unique; links resolve; types and cross-field rules satisfied. | L7: Use the Worked Example workbook to inspect populated records. | M7: Releases; Pass Runs; File Revisions; Releases; Templates; Rulesets; Themes
A8: Projects / 1 Name | B8: Readable name of this record. | C8: I-T01-F01 | D8: R-I-T01-F01 | E8: FIELD | F8: T01 | G8: T01-F01 | H8: 🐙📁 Projects; Field 1; owning artifact and its source requirements. | I8: Required for every populated record. | J8: Readable name of this record. Enter a literal value; preserve distinction between blank and zero. | K8: Enter a literal value; preserve distinction between blank and zero. | L8: Enter project-specific name. | M8: Continue with the next numbered Field; then apply the Table acceptance rules.
A9: Projects / 2 Description | B9: Purpose and relevant context of this record. | C9: I-T01-F02 | D9: R-I-T01-F02 | E9: FIELD | F9: T01 | G9: T01-F02 | H9: 🐙📁 Projects; Field 2; owning artifact and its source requirements. | I9: Required for every populated record. | J9: Purpose and relevant context of this record. Enter a literal value; preserve distinction between blank and zero. | K9: Enter a literal value; preserve distinction between blank and zero. | L9: Enter project-specific description. | M9: Continue with the next numbered Field; then apply the Table acceptance rules.
A10: Projects / 3 Record ID | B10: Unique immutable ASCII record identifier. | C10: I-T01-F03 | D10: R-I-T01-F03 | E10: FIELD | F10: T01 | G10: T01-F03 | H10: 🐙📁 Projects; Field 3; owning artifact and its source requirements. | I10: Required for every populated record. | J10: Unique immutable ASCII record identifier. Unique within this Table; stable ASCII identifier; never use row number as identity. | K10: Unique within this Table; stable ASCII identifier; never use row number as identity. | L10: PROJECT-ROLE-R01 | M10: Continue with the next numbered Field; then apply the Table acceptance rules.
A11: Projects / 4 Template Release | B11: Link to one exact record in Releases. | C11: I-T01-F04 | D11: R-I-T01-F04 | E11: FIELD | F11: T01 | G11: T01-F04 | H11: 🐙📁 Projects; Field 4; target Releases Record ID column. | I11: Optional; complete when applicable. | J11: Link to one exact record in Releases. Exact existing target Record ID; no labels or comma-separated lists. | K11: Exact existing target Record ID; no labels or comma-separated lists. | L11: Copy an existing target Record ID. | M11: Open Releases in Reader using the stored target ID.
A12: Projects / 5 Project Mode | B12: Project Mode for Projects: One document-building project. | C12: I-T01-F05 | D12: R-I-T01-F05 | E12: FIELD | F12: T01 | G12: T01-F05 | H12: 🐙📁 Projects; Field 5; owning artifact and its source requirements. | I12: Required for every populated record. | J12: Project Mode for Projects: One document-building project. Use exactly one listed allowed value. | K12: Use exactly one listed allowed value. | L12: TEMPLATE | M12: Continue with the next numbered Field; then apply the Table acceptance rules.
A13: Projects / 6 Scope | B13: Scope for Projects: One document-building project. | C13: I-T01-F06 | D13: R-I-T01-F06 | E13: FIELD | F13: T01 | G13: T01-F06 | H13: 🐙📁 Projects; Field 6; owning artifact and its source requirements. | I13: Required for every populated record. | J13: Scope for Projects: One document-building project. Enter a literal value; preserve distinction between blank and zero. | K13: Enter a literal value; preserve distinction between blank and zero. | L13: Enter project-specific scope. | M13: Continue with the next numbered Field; then apply the Table acceptance rules.
A14: Projects / 7 Active Pass Run | B14: Link to one exact record in Pass Runs. | C14: I-T01-F07 | D14: R-I-T01-F07 | E14: FIELD | F14: T01 | G14: T01-F07 | H14: 🐙📁 Projects; Field 7; target Pass Runs Record ID column. | I14: Optional; complete when applicable. | J14: Link to one exact record in Pass Runs. Exact existing target Record ID; no labels or comma-separated lists. | K14: Exact existing target Record ID; no labels or comma-separated lists. | L14: Copy an existing target Record ID. | M14: Open Pass Runs in Reader using the stored target ID.
A15: Projects / 8 Current Candidate | B15: Link to one exact record in File Revisions. | C15: I-T01-F08 | D15: R-I-T01-F08 | E15: FIELD | F15: T01 | G15: T01-F08 | H15: 🐙📁 Projects; Field 8; target File Revisions Record ID column. | I15: Optional; complete when applicable. | J15: Link to one exact record in File Revisions. Exact existing target Record ID; no labels or comma-separated lists. | K15: Exact existing target Record ID; no labels or comma-separated lists. | L15: Copy an existing target Record ID. | M15: Open File Revisions in Reader using the stored target ID.
A16: Projects / 9 Current Release | B16: Link to one exact record in Releases. | C16: I-T01-F09 | D16: R-I-T01-F09 | E16: FIELD | F16: T01 | G16: T01-F09 | H16: 🐙📁 Projects; Field 9; target Releases Record ID column. | I16: Optional; complete when applicable. | J16: Link to one exact record in Releases. Exact existing target Record ID; no labels or comma-separated lists. | K16: Exact existing target Record ID; no labels or comma-separated lists. | L16: Copy an existing target Record ID. | M16: Open Releases in Reader using the stored target ID.
A17: Projects / 10 Work State | B17: Work State for Projects: One document-building project. | C17: I-T01-F10 | D17: R-I-T01-F10 | E17: FIELD | F17: T01 | G17: T01-F10 | H17: 🐙📁 Projects; Field 10; owning artifact and its source requirements. | I17: Required for every populated record. | J17: Work State for Projects: One document-building project. Use exactly one listed allowed value. | K17: Use exactly one listed allowed value. | L17: NOT STARTED | M17: Continue with the next numbered Field; then apply the Table acceptance rules.
A18: Projects / 11 Owner | B18: Owner for Projects: One document-building project. | C18: I-T01-F11 | D18: R-I-T01-F11 | E18: FIELD | F18: T01 | G18: T01-F11 | H18: 🐙📁 Projects; Field 11; owning artifact and its source requirements. | I18: Required for every populated record. | J18: Owner for Projects: One document-building project. Enter a literal value; preserve distinction between blank and zero. | K18: Enter a literal value; preserve distinction between blank and zero. | L18: Enter project-specific owner. | M18: Continue with the next numbered Field; then apply the Table acceptance rules.
A19: Projects / 12 Template | B19: Link to one exact record in Templates. | C19: I-T01-F12 | D19: R-I-T01-F12 | E19: FIELD | F19: T01 | G19: T01-F12 | H19: 🐙📁 Projects; Field 12; target Templates Record ID column. | I19: Required for every populated record. | J19: Link to one exact record in Templates. Exact existing target Record ID; no labels or comma-separated lists. | K19: Exact existing target Record ID; no labels or comma-separated lists. | L19: Copy an existing target Record ID. | M19: Open Templates in Reader using the stored target ID.
... A22: Projects / 15 Execution Policy | B22: SANDBOX permits local execution without human approval. Preserve structural, dependency, and result validation. | C22: I-T01-F15 | D22: R-I-T01-F15 | E22: FIELD | F22: T01 | G22: T01-F15 | H22: 🐙📁 Projects; Field 15; owning artifact and its source requirements. | I22: Required for every populated record. | J22: SANDBOX permits local execution without human approval. Preserve structural, dependency, and result validation. Use exactly one listed allowed value. | K22: Use exactly one listed allowed value. | L22: SANDBOX | M22: Continue with the next numbered Field; then apply the Table acceptance rules.
A23: Pass Definitions use | B23: One versioned definition of a Pass. | C23: I-T02 | D23: R-I-T02 | E23: TABLE | F23: T02 | H23: Home instructions; this Table definition; linked Field definitions. | I23: Before adding or changing a record in this Table. | J23: Enter one record per row. Read field instructions using row 4 links or Reader. Assign a unique ID. Use existing target IDs for links. Create a new revision for approved artifact changes. | K23: Required fields populated; IDs unique; links resolve; types and cross-field rules satisfied. | L23: Use the Worked Example workbook to inspect populated records. | M23: Record Revisions; Instructions
A24: Pass Definitions / 1 Name | B24: Readable name of this record. | C24: I-T02-F01 | D24: R-I-T02-F01 | E24: FIELD | F24: T02 | G24: T02-F01 | H24: 🐙📋 Pass Definitions; Field 1; owning artifact and its source requirements. | I24: Required for every populated record. | J24: Readable name of this record. Enter a literal value; preserve distinction between blank and zero. | K24: Enter a literal value; preserve distinction between blank and zero. | L24: Enter project-specific name. | M24: Continue with the next numbered Field; then apply the Table acceptance rules.
A25: Pass Definitions / 2 Description | B25: Purpose and relevant context of this record. | C25: I-T02-F02 | D25: R-I-T02-F02 | E25: FIELD | F25: T02 | G25: T02-F02 | H25: 🐙📋 Pass Definitions; Field 2; owning artifact and its source requirements. | I25: Required for every populated record. | J25: Purpose and relevant context of this record. Enter a literal value; preserve distinction between blank and zero. | K25: Enter a literal value; preserve distinction between blank and zero. | L25: Enter project-specific description. | M25: Continue with the next numbered Field; then apply the Table acceptance rules.
A26: Pass Definitions / 3 Record ID | B26: Unique immutable ASCII record identifier. | C26: I-T02-F03 | D26: R-I-T02-F03 | E26: FIELD | F26: T02 | G26: T02-F03 | H26: 🐙📋 Pass Definitions; Field 3; owning artifact and its source requirements. | I26: Required for every populated record. | J26: Unique immutable ASCII record identifier. Unique within this Table; stable ASCII identifier; never use row number as identity. | K26: Unique within this Table; stable ASCII identifier; never use row number as identity. | L26: PROJECT-ROLE-R01 | M26: Continue with the next numbered Field; then apply the Table acceptance rules.
A27: Pass Definitions / 4 Revision | B27: Exact revision registry entry; payload must point back to this row. | C27: I-T02-F04 | D27: R-I-T02-F04 | E27: FIELD | F27: T02 | G27: T02-F04 | H27: 🐙📋 Pass Definitions; Field 4; target Record Revisions Record ID column. | I27: Required for every populated record. | J27: Exact revision registry entry; payload must point back to this row. Exact existing target Record ID; no labels or comma-separated lists. | K27: Exact existing target Record ID; no labels or comma-separated lists. | L27: Copy an existing target Record ID. | M27: Open Record Revisions in Reader using the stored target ID.
A28: Pass Definitions / 5 Pass Number | B28: Pass Number for Pass Definitions: One versioned definition of a Pass. | C28: I-T02-F05 | D28: R-I-T02-F05 | E28: FIELD | F28: T02 | G28: T02-F05 | H28: 🐙📋 Pass Definitions; Field 5; owning artifact and its source requirements. | I28: Required for every populated record. | J28: Pass Number for Pass Definitions: One versioned definition of a Pass. Integer value; order and revision fields positive; quantity and link minima may be zero. | K28: Integer value; order and revision fields positive; quantity and link minima may be zero. | L28: 1 | M28: Continue with the next numbered Field; then apply the Table acceptance rules.
A29: Pass Definitions / 6 Required Inputs | B29: Required Inputs for Pass Definitions: One versioned definition of a Pass. | C29: I-T02-F06 | D29: R-I-T02-F06 | E29: FIELD | F29: T02 | G29: T02-F06 | H29: 🐙📋 Pass Definitions; Field 6; owning artifact and its source requirements. | I29: Required for every populated record. | J29: Required Inputs for Pass Definitions: One versioned definition of a Pass. Enter a literal value; preserve distinction between blank and zero. | K29: Enter a literal value; preserve distinction between blank and zero. | L29: Enter project-specific required inputs. | M29: Continue with the next numbered Field; then apply the Table acceptance rules.
A30: Pass Definitions / 7 Owned Decisions | B30: Owned Decisions for Pass Definitions: One versioned definition of a Pass. | C30: I-T02-F07 | D30: R-I-T02-F07 | E30: FIELD | F30: T02 | G30: T02-F07 | H30: 🐙📋 Pass Definitions; Field 7; owning artifact and its source requirements. | I30: Required for every populated record. | J30: Owned Decisions for Pass Definitions: One versioned definition of a Pass. Enter a literal value; preserve distinction between blank and zero. | K30: Enter a literal value; preserve distinction between blank and zero. | L30: Enter project-specific owned decisions. | M30: Continue with the next numbered Field; then apply the Table acceptance rules.
A31: Pass Definitions / 8 Transformation | B31: Transformation for Pass Definitions: One versioned definition of a Pass. | C31: I-T02-F08 | D31: R-I-T02-F08 | E31: FIELD | F31: T02 | G31: T02-F08 | H31: 🐙📋 Pass Definitions; Field 8; owning artifact and its source requirements. | I31: Required for every populated record. | J31: Transformation for Pass Definitions: One versioned definition of a Pass. Enter a literal value; preserve distinction between blank and zero. | K31: Enter a literal value; preserve distinction between blank and zero. | L31: Enter project-specific transformation. | M31: Continue with the next numbered Field; then apply the Table acceptance rules.
A32: Pass Definitions / 9 Required Outputs | B32: Required Outputs for Pass Definitions: One versioned definition of a Pass. | C32: I-T02-F09 | D32: R-I-T02-F09 | E32: FIELD | F32: T02 | G32: T02-F09 | H32: 🐙📋 Pass Definitions; Field 9; owning artifact and its source requirements. | I32: Required for every populated record. | J32: Required Outputs for Pass Definitions: One versioned definition of a Pass. Enter a literal value; preserve distinction between blank and zero. | K32: Enter a literal value; preserve distinction between blank and zero. | L32: Enter project-specific required outputs. | M32: Continue with the next numbered Field; then apply the Table acceptance rules.
A33: Pass Definitions / 10 Exit Criteria | B33: Exit Criteria for Pass Definitions: One versioned definition of a Pass. | C33: I-T02-F10 | D33: R-I-T02-F10 | E33: FIELD | F33: T02 | G33: T02-F10 | H33: 🐙📋 Pass Definitions; Field 10; owning artifact and its source requirements. | I33: Required for every populated record. | J33: Exit Criteria for Pass Definitions: One versioned definition of a Pass. Enter a literal value; preserve distinction between blank and zero. | K33: Enter a literal value; preserve distinction between blank and zero. | L33: Enter project-specific exit criteria. | M33: Continue with the next numbered Field; then apply the Table acceptance rules.
A34: Pass Definitions / 11 Repair Routing | B34: Repair Routing for Pass Definitions: One versioned definition of a Pass. | C34: I-T02-F11 | D34: R-I-T02-F11 | E34: FIELD | F34: T02 | G34: T02-F11 | H34: 🐙📋 Pass Definitions; Field 11; owning artifact and its source requirements. | I34: Required for every populated record. | J34: Repair Routing for Pass Definitions: One versioned definition of a Pass. Enter a literal value; preserve distinction between blank and zero. | K34: Enter a literal value; preserve distinction between blank and zero. | L34: Enter project-specific repair routing. | M34: Continue with the next numbered Field; then apply the Table acceptance rules.
A35: Pass Definitions / 12 Instructions | B35: Link to one or more exact records in Instructions. | C35: I-T02-F12 | D35: R-I-T02-F12 | E35: FIELD | F35: T02 | G35: T02-F12 | H35: 🐙📋 Pass Definitions; Field 12; target Instructions Record ID column. | I35: Required for every populated record. | J35: Link to one or more exact records in Instructions. JSON array of unique target Record IDs; [] means no links. | K35: JSON array of unique target Record IDs; [] means no links. | L35: ["TARGET-ID-1","TARGET-ID-2"] | M35: Open Instructions in Reader using the stored target ID.
A36: Pass Runs use | B36: One execution of a Pass or Wave. | C36: I-T03 | D36: R-I-T03 | E36: TABLE | F36: T03 | H36: Home instructions; this Table definition; linked Field definitions. | I36: Before adding or changing a record in this Table. | J36: Enter one record per row. Read field instructions using row 4 links or Reader. Assign a unique ID. Use existing target IDs for links. Create a new revision for approved artifact changes. | K36: Required fields populated; IDs unique; links resolve; types and cross-field rules satisfied. | L36: Use the Worked Example workbook to inspect populated records. | M36: Projects; Pass Definitions; Pass Runs; Pass Runs
A37: Pass Runs / 1 Name | B37: Readable name of this record. | C37: I-T03-F01 | D37: R-I-T03-F01 | E37: FIELD | F37: T03 | G37: T03-F01 | H37: 🐙▶️ Pass Runs; Field 1; owning artifact and its source requirements. | I37: Required for every populated record. | J37: Readable name of this record. Enter a literal value; preserve distinction between blank and zero. | K37: Enter a literal value; preserve distinction between blank and zero. | L37: Enter project-specific name. | M37: Continue with the next numbered Field; then apply the Table acceptance rules.
A38: Pass Runs / 2 Description | B38: Purpose and relevant context of this record. | C38: I-T03-F02 | D38: R-I-T03-F02 | E38: FIELD | F38: T03 | G38: T03-F02 | H38: 🐙▶️ Pass Runs; Field 2; owning artifact and its source requirements. | I38: Required for every populated record. | J38: Purpose and relevant context of this record. Enter a literal value; preserve distinction between blank and zero. | K38: Enter a literal value; preserve distinction between blank and zero. | L38: Enter project-specific description. | M38: Continue with the next numbered Field; then apply the Table acceptance rules.
A39: Pass Runs / 3 Record ID | B39: Unique immutable ASCII record identifier. | C39: I-T03-F03 | D39: R-I-T03-F03 | E39: FIELD | F39: T03 | G39: T03-F03 | H39: 🐙▶️ Pass Runs; Field 3; owning artifact and its source requirements. | I39: Required for every populated record. | J39: Unique immutable ASCII record identifier. Unique within this Table; stable ASCII identifier; never use row number as identity. | K39: Unique within this Table; stable ASCII identifier; never use row number as identity. | L39: PROJECT-ROLE-R01 | M39: Continue with the next numbered Field; then apply the Table acceptance rules.
A40: Pass Runs / 4 Project | B40: Link to one exact record in Projects. | C40: I-T03-F04 | D40: R-I-T03-F04 | E40: FIELD | F40: T03 | G40: T03-F04 | H40: 🐙▶️ Pass Runs; Field 4; target Projects Record ID column. | I40: Required for every populated record. | J40: Link to one exact record in Projects. Exact existing target Record ID; no labels or comma-separated lists. | K40: Exact existing target Record ID; no labels or comma-separated lists. | L40: Copy an existing target Record ID. | M40: Open Projects in Reader using the stored target ID.
A41: Pass Runs / 5 Pass Definition | B41: Link to one exact record in Pass Definitions. | C41: I-T03-F05 | D41: R-I-T03-F05 | E41: FIELD | F41: T03 | G41: T03-F05 | H41: 🐙▶️ Pass Runs; Field 5; target Pass Definitions Record ID column. | I41: Required for every populated record. | J41: Link to one exact record in Pass Definitions. Exact existing target Record ID; no labels or comma-separated lists. | K41: Exact existing target Record ID; no labels or comma-separated lists. | L41: Copy an existing target Record ID. | M41: Open Pass Definitions in Reader using the stored target ID.
A42: Pass Runs / 6 Parent Run | B42: Link to one exact record in Pass Runs. | C42: I-T03-F06 | D42: R-I-T03-F06 | E42: FIELD | F42: T03 | G42: T03-F06 | H42: 🐙▶️ Pass Runs; Field 6; target Pass Runs Record ID column. | I42: Optional; complete when applicable. | J42: Link to one exact record in Pass Runs. Exact existing target Record ID; no labels or comma-separated lists. | K42: Exact existing target Record ID; no labels or comma-separated lists. | L42: Copy an existing target Record ID. | M42: Open Pass Runs in Reader using the stored target ID.
A43: Pass Runs / 7 Wave Label | B43: Wave Label for Pass Runs: One execution of a Pass or Wave. | C43: I-T03-F07 | D43: R-I-T03-F07 | E43: FIELD | F43: T03 | G43: T03-F07 | H43: 🐙▶️ Pass Runs; Field 7; owning artifact and its source requirements. | I43: Optional; complete when applicable. | J43: Wave Label for Pass Runs: One execution of a Pass or Wave. Enter a literal value; preserve distinction between blank and zero. | K43: Enter a literal value; preserve distinction between blank and zero. | L43: Enter project-specific wave label. | M43: Continue with the next numbered Field; then apply the Table acceptance rules.
A44: Pass Runs / 8 Execution Order | B44: Execution Order for Pass Runs: One execution of a Pass or Wave. | C44: I-T03-F08 | D44: R-I-T03-F08 | E44: FIELD | F44: T03 | G44: T03-F08 | H44: 🐙▶️ Pass Runs; Field 8; owning artifact and its source requirements. | I44: Required for every populated record. | J44: Execution Order for Pass Runs: One execution of a Pass or Wave. Integer value; order and revision fields positive; quantity and link minima may be zero. | K44: Integer value; order and revision fields positive; quantity and link minima may be zero. | L44: 1 | M44: Continue with the next numbered Field; then apply the Table acceptance rules.
A45: Pass Runs / 9 Previous Attempt | B45: Link to one exact record in Pass Runs. | C45: I-T03-F09 | D45: R-I-T03-F09 | E45: FIELD | F45: T03 | G45: T03-F09 | H45: 🐙▶️ Pass Runs; Field 9; target Pass Runs Record ID column. | I45: Optional; complete when applicable. | J45: Link to one exact record in Pass Runs. Exact existing target Record ID; no labels or comma-separated lists. | K45: Exact existing target Record ID; no labels or comma-separated lists. | L45: Copy an existing target Record ID. | M45: Open Pass Runs in Reader using the stored target ID.
A46: Pass Runs / 10 Work State | B46: Work State for Pass Runs: One execution of a Pass or Wave. | C46: I-T03-F10 | D46: R-I-T03-F10 | E46: FIELD | F46: T03 | G46: T03-F10 | H46: 🐙▶️ Pass Runs; Field 10; owning artifact and its source requirements. | I46: Required for every populated record. | J46: Work State for Pass Runs: One execution of a Pass or Wave. Use exactly one listed allowed value. | K46: Use exactly one listed allowed value. | L46: NOT STARTED | M46: Continue with the next numbered Field; then apply the Table acceptance rules.
A47: Pass Runs / 11 Decision Record | B47: Decision Record for Pass Runs: One execution of a Pass or Wave. | C47: I-T03-F11 | D47: R-I-T03-F11 | E47: FIELD | F47: T03 | G47: T03-F11 | H47: 🐙▶️ Pass Runs; Field 11; owning artifact and its source requirements. | I47: Required for every populated record. | J47: Decision Record for Pass Runs: One execution of a Pass or Wave. Enter a literal value; preserve distinction between blank and zero. | K47: Enter a literal value; preserve distinction between blank and zero. | L47: Enter project-specific decision record. | M47: Continue with the next numbered Field; then apply the Table acceptance rules.
A48: Pass Runs / 12 Handoff | B48: Handoff for Pass Runs: One execution of a Pass or Wave. | C48: I-T03-F12 | D48: R-I-T03-F12 | E48: FIELD | F48: T03 | G48: T03-F12 | H48: 🐙▶️ Pass Runs; Field 12; owning artifact and its source requirements. | I48: Required for every populated record. | J48: Handoff for Pass Runs: One execution of a Pass or Wave. Enter a literal value; preserve distinction between blank and zero. | K48: Enter a literal value; preserve distinction between blank and zero. | L48: Enter project-specific handoff. | M48: Continue with the next numbered Field; then apply the Table acceptance rules.
A49: Pass Runs / 13 Evidence Origin | B49: Evidence Origin for Pass Runs: One execution of a Pass or Wave. | C49: I-T03-F13 | D49: R-I-T03-F13 | E49: FIELD | F49: T03 | G49: T03-F13 | H49: 🐙▶️ Pass Runs; Field 13; owning artifact and its source requirements. | I49: Required for every populated record. | J49: Evidence Origin for Pass Runs: One execution of a Pass or Wave. Use exactly one listed allowed value. | K49: Use exactly one listed allowed value. | L49: CONTEMPORANEOUS | M49: Continue with the next numbered Field; then apply the Table acceptance rules.
A50: Instructions use | B50: One versioned read-and-use instruction. | C50: I-T04 | D50: R-I-T04 | E50: TABLE | F50: T04 | H50: Home instructions; this Table definition; linked Field definitions. | I50: Before adding or changing a record in this Table. | J50: Enter one record per row. Read field instructions using row 4 links or Reader. Assign a unique ID. Use existing target IDs for links. Create a new revision for approved artifact changes. | K50: Required fields populated; IDs unique; links resolve; types and cross-field rules satisfied. | L50: Use the Worked Example workbook to inspect populated records. | M50: Record Revisions; Table Dictionary; Field Dictionary
A51: Instructions / 1 Name | B51: Readable name of this record. | C51: I-T04-F01 | D51: R-I-T04-F01 | E51: FIELD | F51: T04 | G51: T04-F01 | H51: 📖🧭 Instructions; Field 1; owning artifact and its source requirements. | I51: Required for every populated record. | J51: Readable name of this record. Enter a literal value; preserve distinction between blank and zero. | K51: Enter a literal value; preserve distinction between blank and zero. | L51: Enter project-specific name. | M51: Continue with the next numbered Field; then apply the Table acceptance rules.
A52: Instructions / 2 Description | B52: Purpose and relevant context of this record. | C52: I-T04-F02 | D52: R-I-T04-F02 | E52: FIELD | F52: T04 | G52: T04-F02 | H52: 📖🧭 Instructions; Field 2; owning artifact and its source requirements. | I52: Required for every populated record. | J52: Purpose and relevant context of this record. Enter a literal value; preserve distinction between blank and zero. | K52: Enter a literal value; preserve distinction between blank and zero. | L52: Enter project-specific description. | M52: Continue with the next numbered Field; then apply the Table acceptance rules.
A53: Instructions / 3 Record ID | B53: Unique immutable ASCII record identifier. | C53: I-T04-F03 | D53: R-I-T04-F03 | E53: FIELD | F53: T04 | G53: T04-F03 | H53: 📖🧭 Instructions; Field 3; owning artifact and its source requirements. | I53: Required for every populated record. | J53: Unique immutable ASCII record identifier. Unique within this Table; stable ASCII identifier; never use row number as identity. | K53: Unique within this Table; stable ASCII identifier; never use row number as identity. | L53: PROJECT-ROLE-R01 | M53: Continue with the next numbered Field; then apply the Table acceptance rules.
A54: Instructions / 4 Revision | B54: Exact revision registry entry; payload must point back to this row. | C54: I-T04-F04 | D54: R-I-T04-F04 | E54: FIELD | F54: T04 | G54: T04-F04 | H54: 📖🧭 Instructions; Field 4; target Record Revisions Record ID column. | I54: Required for every populated record. | J54: Exact revision registry entry; payload must point back to this row. Exact existing target Record ID; no labels or comma-separated lists. | K54: Exact existing target Record ID; no labels or comma-separated lists. | L54: Copy an existing target Record ID. | M54: Open Record Revisions in Reader using the stored target ID.
A55: Instructions / 5 Scope | B55: Scope for Instructions: One versioned read-and-use instruction. | C55: I-T04-F05 | D55: R-I-T04-F05 | E55: FIELD | F55: T04 | G55: T04-F05 | H55: 📖🧭 Instructions; Field 5; owning artifact and its source requirements. | I55: Required for every populated record. | J55: Scope for Instructions: One versioned read-and-use instruction. Use exactly one listed allowed value. | K55: Use exactly one listed allowed value. | L55: TABLE | M55: Continue with the next numbered Field; then apply the Table acceptance rules.
A56: Instructions / 6 Target Table | B56: Link to one exact record in Table Dictionary. | C56: I-T04-F06 | D56: R-I-T04-F06 | E56: FIELD | F56: T04 | G56: T04-F06 | H56: 📖🧭 Instructions; Field 6; target Table Dictionary Record ID column. | I56: Required for TABLE and FIELD instruction scope. | J56: Link to one exact record in Table Dictionary. Exact existing target Record ID; no labels or comma-separated lists. | K56: Exact existing target Record ID; no labels or comma-separated lists. | L56: Copy an existing target Record ID. | M56: Open Table Dictionary in Reader using the stored target ID.
A57: Instructions / 7 Target Field | B57: Link to one exact record in Field Dictionary. | C57: I-T04-F07 | D57: R-I-T04-F07 | E57: FIELD | F57: T04 | G57: T04-F07 | H57: 📖🧭 Instructions; Field 7; target Field Dictionary Record ID column. | I57: Required when Scope = FIELD. | J57: Link to one exact record in Field Dictionary. Exact existing target Record ID; no labels or comma-separated lists. | K57: Exact existing target Record ID; no labels or comma-separated lists. | L57: Copy an existing target Record ID. | M57: Open Field Dictionary in Reader using the stored target ID.
A58: Instructions / 8 Read First | B58: Authoritative material and prerequisite records to read before acting. | C58: I-T04-F08 | D58: R-I-T04-F08 | E58: FIELD | F58: T04 | G58: T04-F08 | H58: 📖🧭 Instructions; Field 8; owning artifact and its source requirements. | I58: Required for every populated record. | J58: Authoritative material and prerequisite records to read before acting. Enter a literal value; preserve distinction between blank and zero. | K58: Enter a literal value; preserve distinction between blank and zero. | L58: Enter project-specific read first. | M58: Continue with the next numbered Field; then apply the Table acceptance rules.
A59: Instructions / 9 Required When | B59: Condition that makes the field or operation mandatory. | C59: I-T04-F09 | D59: R-I-T04-F09 | E59: FIELD | F59: T04 | G59: T04-F09 | H59: 📖🧭 Instructions; Field 9; owning artifact and its source requirements. | I59: Required for every populated record. | J59: Condition that makes the field or operation mandatory. Enter a literal value; preserve distinction between blank and zero. | K59: Enter a literal value; preserve distinction between blank and zero. | L59: Enter project-specific required when. | M59: Continue with the next numbered Field; then apply the Table acceptance rules.
A60: Instructions / 10 Procedure | B60: Ordered steps for entering data or performing the operation. | C60: I-T04-F10 | D60: R-I-T04-F10 | E60: FIELD | F60: T04 | G60: T04-F10 | H60: 📖🧭 Instructions; Field 10; owning artifact and its source requirements. | I60: Required for every populated record. | J60: Ordered steps for entering data or performing the operation. Enter a literal value; preserve distinction between blank and zero. | K60: Enter a literal value; preserve distinction between blank and zero. | L60: Enter project-specific procedure. | M60: Continue with the next numbered Field; then apply the Table acceptance rules.
A61: Instructions / 11 Acceptance Rule | B61: Observable conditions for correct completion. | C61: I-T04-F11 | D61: R-I-T04-F11 | E61: FIELD | F61: T04 | G61: T04-F11 | H61: 📖🧭 Instructions; Field 11; owning artifact and its source requirements. | I61: Required for every populated record. | J61: Observable conditions for correct completion. Enter a literal value; preserve distinction between blank and zero. | K61: Enter a literal value; preserve distinction between blank and zero. | L61: Enter project-specific acceptance rule. | M61: Continue with the next numbered Field; then apply the Table acceptance rules.
A62: Instructions / 12 Example | B62: Example for Instructions: One versioned read-and-use instruction. | C62: I-T04-F12 | D62: R-I-T04-F12 | E62: FIELD | F62: T04 | G62: T04-F12 | H62: 📖🧭 Instructions; Field 12; owning artifact and its source requirements. | I62: Required for every populated record. | J62: Example for Instructions: One versioned read-and-use instruction. Enter a literal value; preserve distinction between blank and zero. | K62: Enter a literal value; preserve distinction between blank and zero. | L62: Enter project-specific example. | M62: Continue with the next numbered Field; then apply the Table acceptance rules.
A63: Instructions / 13 Next Traversal | B63: Next destination and the conditions allowing progression. | C63: I-T04-F13 | D63: R-I-T04-F13 | E63: FIELD | F63: T04 | G63: T04-F13 | H63: 📖🧭 Instructions; Field 13; owning artifact and its source requirements. | I63: Required for every populated record. | J63: Next destination and the conditions allowing progression. Enter a literal value; preserve distinction between blank and zero. | K63: Enter a literal value; preserve distinction between blank and zero. | L63: Enter project-specific next traversal. | M63: Continue with the next numbered Field; then apply the Table acceptance rules.
A64: Record Revisions use | B64: One exact revision address and its payload pointer. | C64: I-T05 | D64: R-I-T05 | E64: TABLE | F64: T05 | H64: Home instructions; this Table definition; linked Field definitions. | I64: Before adding or changing a record in this Table. | J64: Enter one record per row. Read field instructions using row 4 links or Reader. Assign a unique ID. Use existing target IDs for links. Create a new revision for approved artifact changes. | K64: Required fields populated; IDs unique; links resolve; types and cross-field rules satisfied. | L64: Use the Worked Example workbook to inspect populated records. | M64: Projects; Table Dictionary; Record Revisions; Pass Runs
A65: Record Revisions / 1 Name | B65: Readable name of this record. | C65: I-T05-F01 | D65: R-I-T05-F01 | E65: FIELD | F65: T05 | G65: T05-F01 | H65: 🧩🔢 Record Revisions; Field 1; owning artifact and its source requirements. | I65: Required for every populated record. | J65: Readable name of this record. Enter a literal value; preserve distinction between blank and zero. | K65: Enter a literal value; preserve distinction between blank and zero. | L65: Enter project-specific name. | M65: Continue with the next numbered Field; then apply the Table acceptance rules.
A66: Record Revisions / 2 Description | B66: Purpose and relevant context of this record. | C66: I-T05-F02 | D66: R-I-T05-F02 | E66: FIELD | F66: T05 | G66: T05-F02 | H66: 🧩🔢 Record Revisions; Field 2; owning artifact and its source requirements. | I66: Required for every populated record. | J66: Purpose and relevant context of this record. Enter a literal value; preserve distinction between blank and zero. | K66: Enter a literal value; preserve distinction between blank and zero. | L66: Enter project-specific description. | M66: Continue with the next numbered Field; then apply the Table acceptance rules.
A67: Record Revisions / 3 Record ID | B67: Unique immutable ASCII record identifier. | C67: I-T05-F03 | D67: R-I-T05-F03 | E67: FIELD | F67: T05 | G67: T05-F03 | H67: 🧩🔢 Record Revisions; Field 3; owning artifact and its source requirements. | I67: Required for every populated record. | J67: Unique immutable ASCII record identifier. Unique within this Table; stable ASCII identifier; never use row number as identity. | K67: Unique within this Table; stable ASCII identifier; never use row number as identity. | L67: PROJECT-ROLE-R01 | M67: Continue with the next numbered Field; then apply the Table acceptance rules.
A68: Record Revisions / 4 Artifact ID | B68: Stable identity retained across successive revisions. | C68: I-T05-F04 | D68: R-I-T05-F04 | E68: FIELD | F68: T05 | G68: T05-F04 | H68: 🧩🔢 Record Revisions; Field 4; owning artifact and its source requirements. | I68: Required for every populated record. | J68: Stable identity retained across successive revisions. Enter a literal value; preserve distinction between blank and zero. | K68: Enter a literal value; preserve distinction between blank and zero. | L68: Enter project-specific artifact id. | M68: Continue with the next numbered Field; then apply the Table acceptance rules.
A69: Record Revisions / 5 Revision Number | B69: Positive integer increasing within the Artifact ID. | C69: I-T05-F05 | D69: R-I-T05-F05 | E69: FIELD | F69: T05 | G69: T05-F05 | H69: 🧩🔢 Record Revisions; Field 5; owning artifact and its source requirements. | I69: Required for every populated record. | J69: Positive integer increasing within the Artifact ID. Integer value; order and revision fields positive; quantity and link minima may be zero. | K69: Integer value; order and revision fields positive; quantity and link minima may be zero. | L69: 1 | M69: Continue with the next numbered Field; then apply the Table acceptance rules.
A70: Record Revisions / 6 Project | B70: Link to one exact record in Projects. | C70: I-T05-F06 | D70: R-I-T05-F06 | E70: FIELD | F70: T05 | G70: T05-F06 | H70: 🧩🔢 Record Revisions; Field 6; target Projects Record ID column. | I70: Required for every populated record. | J70: Link to one exact record in Projects. Exact existing target Record ID; no labels or comma-separated lists. | K70: Exact existing target Record ID; no labels or comma-separated lists. | L70: Copy an existing target Record ID. | M70: Open Projects in Reader using the stored target ID.
A71: Record Revisions / 7 Payload Table | B71: Link to one exact record in Table Dictionary. | C71: I-T05-F07 | D71: R-I-T05-F07 | E71: FIELD | F71: T05 | G71: T05-F07 | H71: 🧩🔢 Record Revisions; Field 7; target Table Dictionary Record ID column. | I71: Required for every populated record. | J71: Link to one exact record in Table Dictionary. Exact existing target Record ID; no labels or comma-separated lists. | K71: Exact existing target Record ID; no labels or comma-separated lists. | L71: Copy an existing target Record ID. | M71: Open Table Dictionary in Reader using the stored target ID.
A72: Record Revisions / 8 Payload Record ID | B72: Existing Record ID in Payload Table, with a reciprocal Revision link. | C72: I-T05-F08 | D72: R-I-T05-F08 | E72: FIELD | F72: T05 | G72: T05-F08 | H72: 🧩🔢 Record Revisions; Field 8; owning artifact and its source requirements. | I72: Required for every populated record. | J72: Existing Record ID in Payload Table, with a reciprocal Revision link. Enter a literal value; preserve distinction between blank and zero. | K72: Enter a literal value; preserve distinction between blank and zero. | L72: Enter project-specific payload record id. | M72: Continue with the next numbered Field; then apply the Table acceptance rules.
A73: Record Revisions / 9 Previous Revision | B73: Link to one exact record in Record Revisions. | C73: I-T05-F09 | D73: R-I-T05-F09 | E73: FIELD | F73: T05 | G73: T05-F09 | H73: 🧩🔢 Record Revisions; Field 9; target Record Revisions Record ID column. | I73: Optional; complete when applicable. | J73: Link to one exact record in Record Revisions. Exact existing target Record ID; no labels or comma-separated lists. | K73: Exact existing target Record ID; no labels or comma-separated lists. | L73: Copy an existing target Record ID. | M73: Open Record Revisions in Reader using the stored target ID.
A74: Record Revisions / 10 Producing Run | B74: Link to one exact record in Pass Runs. | C74: I-T05-F10 | D74: R-I-T05-F10 | E74: FIELD | F74: T05 | G74: T05-F10 | H74: 🧩🔢 Record Revisions; Field 10; target Pass Runs Record ID column. | I74: Optional; complete when applicable. | J74: Link to one exact record in Pass Runs. Exact existing target Record ID; no labels or comma-separated lists. | K74: Exact existing target Record ID; no labels or comma-separated lists. | L74: Copy an existing target Record ID. | M74: Open Pass Runs in Reader using the stored target ID.
A75: Record Revisions / 11 Change Summary | B75: Change Summary for Record Revisions: One exact revision address and its payload pointer. | C75: I-T05-F11 | D75: R-I-T05-F11 | E75: FIELD | F75: T05 | G75: T05-F11 | H75: 🧩🔢 Record Revisions; Field 11; owning artifact and its source requirements. | I75: Required for every populated record. | J75: Change Summary for Record Revisions: One exact revision address and its payload pointer. Enter a literal value; preserve distinction between blank and zero. | K75: Enter a literal value; preserve distinction between blank and zero. | L75: Enter project-specific change summary. | M75: Continue with the next numbered Field; then apply the Table acceptance rules.
A76: Record Revisions / 12 Evidence Origin | B76: Evidence Origin for Record Revisions: One exact revision address and its payload pointer. | C76: I-T05-F12 | D76: R-I-T05-F12 | E76: FIELD | F76: T05 | G76: T05-F12 | H76: 🧩🔢 Record Revisions; Field 12; owning artifact and its source requirements. | I76: Required for every populated record. | J76: Evidence Origin for Record Revisions: One exact revision address and its payload pointer. Use exactly one listed allowed value. | K76: Use exactly one listed allowed value. | L76: CONTEMPORANEOUS | M76: Continue with the next numbered Field; then apply the Table acceptance rules.
A77: Record Revisions / 13 Clone Treatment | B77: Keep reference content, copy starter roles with new identities, or clear project history. | C77: I-T05-F13 | D77: R-I-T05-F13 | E77: FIELD | F77: T05 | G77: T05-F13 | H77: 🧩🔢 Record Revisions; Field 13; owning artifact and its source requirements. | I77: Required for every populated record. | J77: Keep reference content, copy starter roles with new identities, or clear project history. Use exactly one listed allowed value. | K77: Use exactly one listed allowed value. | L77: KEEP AS REFERENCE | M77: Continue with the next numbered Field; then apply the Table acceptance rules.
A78: Sources use | B78: One identified source revision. | C78: I-T06 | D78: R-I-T06 | E78: TABLE | F78: T06 | H78: Home instructions; this Table definition; linked Field definitions. | I78: Before adding or changing a record in this Table. | J78: Enter one record per row. Read field instructions using row 4 links or Reader. Assign a unique ID. Use existing target IDs for links. Create a new revision for approved artifact changes. | K78: Required fields populated; IDs unique; links resolve; types and cross-field rules satisfied. | L78: Use the Worked Example workbook to inspect populated records. | M78: Record Revisions; File Revisions
A79: Sources / 1 Name | B79: Readable name of this record. | C79: I-T06-F01 | D79: R-I-T06-F01 | E79: FIELD | F79: T06 | G79: T06-F01 | H79: 📚🔎 Sources; Field 1; owning artifact and its source requirements. | I79: Required for every populated record. | J79: Readable name of this record. Enter a literal value; preserve distinction between blank and zero. | K79: Enter a literal value; preserve distinction between blank and zero. | L79: Enter project-specific name. | M79: Continue with the next numbered Field; then apply the Table acceptance rules.
A80: Sources / 2 Description | B80: Purpose and relevant context of this record. | C80: I-T06-F02 | D80: R-I-T06-F02 | E80: FIELD | F80: T06 | G80: T06-F02 | H80: 📚🔎 Sources; Field 2; owning artifact and its source requirements. | I80: Required for every populated record. | J80: Purpose and relevant context of this record. Enter a literal value; preserve distinction between blank and zero. | K80: Enter a literal value; preserve distinction between blank and zero. | L80: Enter project-specific description. | M80: Continue with the next numbered Field; then apply the Table acceptance rules.
A81: Sources / 3 Record ID | B81: Unique immutable ASCII record identifier. | C81: I-T06-F03 | D81: R-I-T06-F03 | E81: FIELD | F81: T06 | G81: T06-F03 | H81: 📚🔎 Sources; Field 3; owning artifact and its source requirements. | I81: Required for every populated record. | J81: Unique immutable ASCII record identifier. Unique within this Table; stable ASCII identifier; never use row number as identity. | K81: Unique within this Table; stable ASCII identifier; never use row number as identity. | L81: PROJECT-ROLE-R01 | M81: Continue with the next numbered Field; then apply the Table acceptance rules.
A82: Sources / 4 Revision | B82: Exact revision registry entry; payload must point back to this row. | C82: I-T06-F04 | D82: R-I-T06-F04 | E82: FIELD | F82: T06 | G82: T06-F04 | H82: 📚🔎 Sources; Field 4; target Record Revisions Record ID column. | I82: Required for every populated record. | J82: Exact revision registry entry; payload must point back to this row. Exact existing target Record ID; no labels or comma-separated lists. | K82: Exact existing target Record ID; no labels or comma-separated lists. | L82: Copy an existing target Record ID. | M82: Open Record Revisions in Reader using the stored target ID.
A83: Sources / 5 Source Kind | B83: Source Kind for Sources: One identified source revision. | C83: I-T06-F05 | D83: R-I-T06-F05 | E83: FIELD | F83: T06 | G83: T06-F05 | H83: 📚🔎 Sources; Field 5; owning artifact and its source requirements. | I83: Required for every populated record. | J83: Source Kind for Sources: One identified source revision. Use exactly one listed allowed value. | K83: Use exactly one listed allowed value. | L83: DOCUMENT | M83: Continue with the next numbered Field; then apply the Table acceptance rules.
A84: Sources / 6 Local Snapshot | B84: Link to one exact record in File Revisions. | C84: I-T06-F06 | D84: R-I-T06-F06 | E84: FIELD | F84: T06 | G84: T06-F06 | H84: 📚🔎 Sources; Field 6; target File Revisions Record ID column. | I84: Optional; complete when applicable. | J84: Link to one exact record in File Revisions. Exact existing target Record ID; no labels or comma-separated lists. | K84: Exact existing target Record ID; no labels or comma-separated lists. | L84: Copy an existing target Record ID. | M84: Open File Revisions in Reader using the stored target ID.
A85: Sources / 7 Source URL | B85: Source URL for Sources: One identified source revision. | C85: I-T06-F07 | D85: R-I-T06-F07 | E85: FIELD | F85: T06 | G85: T06-F07 | H85: 📚🔎 Sources; Field 7; owning artifact and its source requirements. | I85: Optional; complete when applicable. | J85: Source URL for Sources: One identified source revision. Enter a literal value; preserve distinction between blank and zero. | K85: Enter a literal value; preserve distinction between blank and zero. | L85: Enter project-specific source url. | M85: Continue with the next numbered Field; then apply the Table acceptance rules.
A86: Sources / 8 Source Version | B86: Source Version for Sources: One identified source revision. | C86: I-T06-F08 | D86: R-I-T06-F08 | E86: FIELD | F86: T06 | G86: T06-F08 | H86: 📚🔎 Sources; Field 8; owning artifact and its source requirements. | I86: Required for every populated record. | J86: Source Version for Sources: One identified source revision. Enter a literal value; preserve distinction between blank and zero. | K86: Enter a literal value; preserve distinction between blank and zero. | L86: Enter project-specific source version. | M86: Continue with the next numbered Field; then apply the Table acceptance rules.
A87: Sources / 9 Provenance | B87: Provenance for Sources: One identified source revision. | C87: I-T06-F09 | D87: R-I-T06-F09 | E87: FIELD | F87: T06 | G87: T06-F09 | H87: 📚🔎 Sources; Field 9; owning artifact and its source requirements. | I87: Required for every populated record. | J87: Provenance for Sources: One identified source revision. Enter a literal value; preserve distinction between blank and zero. | K87: Enter a literal value; preserve distinction between blank and zero. | L87: Enter project-specific provenance. | M87: Continue with the next numbered Field; then apply the Table acceptance rules.
A88: Sources / 10 Authority Role | B88: Authority Role for Sources: One identified source revision. | C88: I-T06-F10 | D88: R-I-T06-F10 | E88: FIELD | F88: T06 | G88: T06-F10 | H88: 📚🔎 Sources; Field 10; owning artifact and its source requirements. | I88: Required for every populated record. | J88: Authority Role for Sources: One identified source revision. Use exactly one listed allowed value. | K88: Use exactly one listed allowed value. | L88: GOVERNING | M88: Continue with the next numbered Field; then apply the Table acceptance rules.
A89: Sources / 11 Use Conditions | B89: Use Conditions for Sources: One identified source revision. | C89: I-T06-F11 | D89: R-I-T06-F11 | E89: FIELD | F89: T06 | G89: T06-F11 | H89: 📚🔎 Sources; Field 11; owning artifact and its source requirements. | I89: Required for every populated record. | J89: Use Conditions for Sources: One identified source revision. Enter a literal value; preserve distinction between blank and zero. | K89: Enter a literal value; preserve distinction between blank and zero. | L89: Enter project-specific use conditions. | M89: Continue with the next numbered Field; then apply the Table acceptance rules.
A90: Content Items use | B90: One versioned prose or semantic unit. | C90: I-T07 | D90: R-I-T07 | E90: TABLE | F90: T07 | H90: Home instructions; this Table definition; linked Field definitions. | I90: Before adding or changing a record in this Table. | J90: Enter one record per row. Read field instructions using row 4 links or Reader. Assign a unique ID. Use existing target IDs for links. Create a new revision for approved artifact changes. | K90: Required fields populated; IDs unique; links resolve; types and cross-field rules satisfied. | L90: Use the Worked Example workbook to inspect populated records. | M90: Record Revisions; Content Items
A91: Content Items / 1 Name | B91: Readable name of this record. | C91: I-T07-F01 | D91: R-I-T07-F01 | E91: FIELD | F91: T07 | G91: T07-F01 | H91: 📄🧩 Content Items; Field 1; owning artifact and its source requirements. | I91: Required for every populated record. | J91: Readable name of this record. Enter a literal value; preserve distinction between blank and zero. | K91: Enter a literal value; preserve distinction between blank and zero. | L91: Enter project-specific name. | M91: Continue with the next numbered Field; then apply the Table acceptance rules.
A92: Content Items / 2 Description | B92: Purpose and relevant context of this record. | C92: I-T07-F02 | D92: R-I-T07-F02 | E92: FIELD | F92: T07 | G92: T07-F02 | H92: 📄🧩 Content Items; Field 2; owning artifact and its source requirements. | I92: Required for every populated record. | J92: Purpose and relevant context of this record. Enter a literal value; preserve distinction between blank and zero. | K92: Enter a literal value; preserve distinction between blank and zero. | L92: Enter project-specific description. | M92: Continue with the next numbered Field; then apply the Table acceptance rules.
A93: Content Items / 3 Record ID | B93: Unique immutable ASCII record identifier. | C93: I-T07-F03 | D93: R-I-T07-F03 | E93: FIELD | F93: T07 | G93: T07-F03 | H93: 📄🧩 Content Items; Field 3; owning artifact and its source requirements. | I93: Required for every populated record. | J93: Unique immutable ASCII record identifier. Unique within this Table; stable ASCII identifier; never use row number as identity. | K93: Unique within this Table; stable ASCII identifier; never use row number as identity. | L93: PROJECT-ROLE-R01 | M93: Continue with the next numbered Field; then apply the Table acceptance rules.
A94: Content Items / 4 Revision | B94: Exact revision registry entry; payload must point back to this row. | C94: I-T07-F04 | D94: R-I-T07-F04 | E94: FIELD | F94: T07 | G94: T07-F04 | H94: 📄🧩 Content Items; Field 4; target Record Revisions Record ID column. | I94: Required for every populated record. | J94: Exact revision registry entry; payload must point back to this row. Exact existing target Record ID; no labels or comma-separated lists. | K94: Exact existing target Record ID; no labels or comma-separated lists. | L94: Copy an existing target Record ID. | M94: Open Record Revisions in Reader using the stored target ID.
A95: Content Items / 5 Content Kind | B95: Content Kind for Content Items: One versioned prose or semantic unit. | C95: I-T07-F05 | D95: R-I-T07-F05 | E95: FIELD | F95: T07 | G95: T07-F05 | H95: 📄🧩 Content Items; Field 5; owning artifact and its source requirements. | I95: Required for every populated record. | J95: Content Kind for Content Items: One versioned prose or semantic unit. Use exactly one listed allowed value. | K95: Use exactly one listed allowed value. | L95: SECTION | M95: Continue with the next numbered Field; then apply the Table acceptance rules.
A96: Content Items / 6 Parent Item | B96: Link to one exact record in Content Items. | C96: I-T07-F06 | D96: R-I-T07-F06 | E96: FIELD | F96: T07 | G96: T07-F06 | H96: 📄🧩 Content Items; Field 6; target Content Items Record ID column. | I96: Optional; complete when applicable. | J96: Link to one exact record in Content Items. Exact existing target Record ID; no labels or comma-separated lists. | K96: Exact existing target Record ID; no labels or comma-separated lists. | L96: Copy an existing target Record ID. | M96: Open Content Items in Reader using the stored target ID.
A97: Content Items / 7 Content Order | B97: Content Order for Content Items: One versioned prose or semantic unit. | C97: I-T07-F07 | D97: R-I-T07-F07 | E97: FIELD | F97: T07 | G97: T07-F07 | H97: 📄🧩 Content Items; Field 7; owning artifact and its source requirements. | I97: Required for every populated record. | J97: Content Order for Content Items: One versioned prose or semantic unit. Integer value; order and revision fields positive; quantity and link minima may be zero. | K97: Integer value; order and revision fields positive; quantity and link minima may be zero. | L97: 1 | M97: Continue with the next numbered Field; then apply the Table acceptance rules.
A98: Content Items / 8 Text | B98: Exact claim, rule, definition, or prose to preserve. | C98: I-T07-F08 | D98: R-I-T07-F08 | E98: FIELD | F98: T07 | G98: T07-F08 | H98: 📄🧩 Content Items; Field 8; owning artifact and its source requirements. | I98: Required for every populated record. | J98: Exact claim, rule, definition, or prose to preserve. Enter a literal value; preserve distinction between blank and zero. | K98: Enter a literal value; preserve distinction between blank and zero. | L98: Enter project-specific text. | M98: Continue with the next numbered Field; then apply the Table acceptance rules.
A99: Content Items / 9 Scope and Qualifications | B99: Scope and Qualifications for Content Items: One versioned prose or semantic unit. | C99: I-T07-F09 | D99: R-I-T07-F09 | E99: FIELD | F99: T07 | G99: T07-F09 | H99: 📄🧩 Content Items; Field 9; owning artifact and its source requirements. | I99: Required for every populated record. | J99: Scope and Qualifications for Content Items: One versioned prose or semantic unit. Enter a literal value; preserve distinction between blank and zero. | K99: Enter a literal value; preserve distinction between blank and zero. | L99: Enter project-specific scope and qualifications. | M99: Continue with the next numbered Field; then apply the Table acceptance rules.
A100: Content Items / 10 Basis | B100: Basis for Content Items: One versioned prose or semantic unit. | C100: I-T07-F10 | D100: R-I-T07-F10 | E100: FIELD | F100: T07 | G100: T07-F10 | H100: 📄🧩 Content Items; Field 10; owning artifact and its source requirements. | I100: Required for every populated record. | J100: Basis for Content Items: One versioned prose or semantic unit. Use exactly one listed allowed value. | K100: Use exactly one listed allowed value. | L100: SOURCE SUPPORTED | M100: Continue with the next numbered Field; then apply the Table acceptance rules.
A101: Content Items / 11 Acceptance Criteria | B101: Acceptance Criteria for Content Items: One versioned prose or semantic unit. | C101: I-T07-F11 | D101: R-I-T07-F11 | E101: FIELD | F101: T07 | G101: T07-F11 | H101: 📄🧩 Content Items; Field 11; owning artifact and its source requirements. | I101: Required for every populated record. | J101: Acceptance Criteria for Content Items: One versioned prose or semantic unit. Enter a literal value; preserve distinction between blank and zero. | K101: Enter a literal value; preserve distinction between blank and zero. | L101: Enter project-specific acceptance criteria. | M101: Continue with the next numbered Field; then apply the Table acceptance rules.
A102: Figure Contracts use | B102: One versioned explanatory obligation. | C102: I-T08 | D102: R-I-T08 | E102: TABLE | F102: T08 | H102: Home instructions; this Table definition; linked Field definitions. | I102: Before adding or changing a record in this Table. | J102: Enter one record per row. Read field instructions using row 4 links or Reader. Assign a unique ID. Use existing target IDs for links. Create a new revision for approved artifact changes. | K102: Required fields populated; IDs unique; links resolve; types and cross-field rules satisfied. | L102: Use the Worked Example workbook to inspect populated records. | M102: Record Revisions
...

Sheet Record Revisions
A1: 🧩🔢 Record Revisions
A2: =HYPERLINK("#'Home'!A1","Home") -> Home | B2: =HYPERLINK("#'Reader'!A1","Read a record") -> Read a record
A3: One exact revision address and its payload pointer.
A4: =HYPERLINK("#'Field Dictionary'!A60","🧩🔢 - 1 - SHORT TEXT") -> 🧩🔢 - 1 - SHORT TEXT | B4: =HYPERLINK("#'Field Dictionary'!A61","🧩🔢 - 2 - LONG TEXT") -> 🧩🔢 - 2 - LONG TEXT | C4: =HYPERLINK("#'Field Dictionary'!A62","🧩🔢 - 3 - SHORT TEXT") -> 🧩🔢 - 3 - SHORT TEXT | D4: =HYPERLINK("#'Field Dictionary'!A63","🧩🔢 - 4 - SHORT TEXT") -> 🧩🔢 - 4 - SHORT TEXT | E4: =HYPERLINK("#'Field Dictionary'!A64","🧩🔢 - 5 - INTEGER") -> 🧩🔢 - 5 - INTEGER | F4: =HYPERLINK("#'Field Dictionary'!A65","🧩🔢 - 6 - LINKED RECORD") -> 🧩🔢 - 6 - LINKED RECORD | G4: =HYPERLINK("#'Field Dictionary'!A66","🧩🔢 - 7 - LINKED RECORD") -> 🧩🔢 - 7 - LINKED RECORD | H4: =HYPERLINK("#'Field Dictionary'!A67","🧩🔢 - 8 - SHORT TEXT") -> 🧩🔢 - 8 - SHORT TEXT | I4: =HYPERLINK("#'Field Dictionary'!A68","🧩🔢 - 9 - LINKED RECORD") -> 🧩🔢 - 9 - LINKED RECORD | J4: =HYPERLINK("#'Field Dictionary'!A69","🧩🔢 - 10 - LINKED RECORD") -> 🧩🔢 - 10 - LINKED RECORD | K4: =HYPERLINK("#'Field Dictionary'!A70","🧩🔢 - 11 - LONG TEXT") -> 🧩🔢 - 11 - LONG TEXT | L4: =HYPERLINK("#'Field Dictionary'!A71","🧩🔢 - 12 - SINGLE SELECT") -> 🧩🔢 - 12 - SINGLE SELECT | M4: =HYPERLINK("#'Field Dictionary'!A72","🧩🔢 - 13 - SINGLE SELECT") -> 🧩🔢 - 13 - SINGLE SELECT
A5: 1 — Name | B5: 2 — Description | C5: 3 — Record ID | D5: 4 — Artifact ID | E5: 5 — Revision Number | F5: 6 — Project | G5: 7 — Payload Table | H5: 8 — Payload Record ID | I5: 9 — Previous Revision | J5: 10 — Producing Run | K5: 11 — Change Summary | L5: 12 — Evidence Origin | M5: 13 — Clone Treatment
A6: f01_name | B6: f02_description | C6: f03_record_id | D6: f04_artifact_id | E6: f05_revision_number | F6: f06_project | G6: f07_payload_table | H6: f08_payload_record_id | I6: f09_previous_revision | J6: f10_producing_run | K6: f11_change_summary | L6: f12_evidence_origin | M6: f13_clone_treatment
A7: Projects use | B7: One document-building project. | C7: R-I-T01 | D7: A-I-T01 | E7: 1 | F7: P-TEMPLATE | G7: T04 | H7: I-T01 | K7: Initial registered revision. | L7: CONTEMPORANEOUS | M7: KEEP AS REFERENCE
A8: Projects / 1 Name | B8: Readable name of this record. | C8: R-I-T01-F01 | D8: A-I-T01-F01 | E8: 1 | F8: P-TEMPLATE | G8: T04 | H8: I-T01-F01 | K8: Initial registered revision. | L8: CONTEMPORANEOUS | M8: KEEP AS REFERENCE
A9: Projects / 2 Description | B9: Purpose and relevant context of this record. | C9: R-I-T01-F02 | D9: A-I-T01-F02 | E9: 1 | F9: P-TEMPLATE | G9: T04 | H9: I-T01-F02 | K9: Initial registered revision. | L9: CONTEMPORANEOUS | M9: KEEP AS REFERENCE
A10: Projects / 3 Record ID | B10: Unique immutable ASCII record identifier. | C10: R-I-T01-F03 | D10: A-I-T01-F03 | E10: 1 | F10: P-TEMPLATE | G10: T04 | H10: I-T01-F03 | K10: Initial registered revision. | L10: CONTEMPORANEOUS | M10: KEEP AS REFERENCE
A11: Projects / 4 Template Release | B11: Link to one exact record in Releases. | C11: R-I-T01-F04 | D11: A-I-T01-F04 | E11: 1 | F11: P-TEMPLATE | G11: T04 | H11: I-T01-F04 | K11: Initial registered revision. | L11: CONTEMPORANEOUS | M11: KEEP AS REFERENCE
A12: Projects / 5 Project Mode | B12: Project Mode for Projects: One document-building project. | C12: R-I-T01-F05 | D12: A-I-T01-F05 | E12: 1 | F12: P-TEMPLATE | G12: T04 | H12: I-T01-F05 | K12: Initial registered revision. | L12: CONTEMPORANEOUS | M12: KEEP AS REFERENCE
A13: Projects / 6 Scope | B13: Scope for Projects: One document-building project. | C13: R-I-T01-F06 | D13: A-I-T01-F06 | E13: 1 | F13: P-TEMPLATE | G13: T04 | H13: I-T01-F06 | K13: Initial registered revision. | L13: CONTEMPORANEOUS | M13: KEEP AS REFERENCE
A14: Projects / 7 Active Pass Run | B14: Link to one exact record in Pass Runs. | C14: R-I-T01-F07 | D14: A-I-T01-F07 | E14: 1 | F14: P-TEMPLATE | G14: T04 | H14: I-T01-F07 | K14: Initial registered revision. | L14: CONTEMPORANEOUS | M14: KEEP AS REFERENCE
A15: Projects / 8 Current Candidate | B15: Link to one exact record in File Revisions. | C15: R-I-T01-F08 | D15: A-I-T01-F08 | E15: 1 | F15: P-TEMPLATE | G15: T04 | H15: I-T01-F08 | K15: Initial registered revision. | L15: CONTEMPORANEOUS | M15: KEEP AS REFERENCE
A16: Projects / 9 Current Release | B16: Link to one exact record in Releases. | C16: R-I-T01-F09 | D16: A-I-T01-F09 | E16: 1 | F16: P-TEMPLATE | G16: T04 | H16: I-T01-F09 | K16: Initial registered revision. | L16: CONTEMPORANEOUS | M16: KEEP AS REFERENCE
A17: Projects / 10 Work State | B17: Work State for Projects: One document-building project. | C17: R-I-T01-F10 | D17: A-I-T01-F10 | E17: 1 | F17: P-TEMPLATE | G17: T04 | H17: I-T01-F10 | K17: Initial registered revision. | L17: CONTEMPORANEOUS | M17: KEEP AS REFERENCE
A18: Projects / 11 Owner | B18: Owner for Projects: One document-building project. | C18: R-I-T01-F11 | D18: A-I-T01-F11 | E18: 1 | F18: P-TEMPLATE | G18: T04 | H18: I-T01-F11 | K18: Initial registered revision. | L18: CONTEMPORANEOUS | M18: KEEP AS REFERENCE
... A439: Document review render | B439: Reusable role to copy and specialize per project. | C439: R-ROLE-RENDER | D439: A-ROLE-RENDER | E439: 1 | F439: P-TEMPLATE | G439: T09 | H439: ROLE-RENDER | K439: Initial registered revision. | L439: CONTEMPORANEOUS | M439: COPY AS STARTER
A440: EFX_Figure_Set_Manifest_v0.1.json | B440: Exact preserved file, verified against local bytes. | C440: R-MANIFEST | D440: A-MANIFEST | E440: 1 | F440: P-EFX | G440: T10 | H440: MANIFEST | J440: RUN-6 | K440: Initial registered revision. | L440: IMPORTED | M440: CLEAR
A441: CERBERUS_EFFECTS64_Candidate_Specification_v0.1.docx | B441: Exact preserved file, verified against local bytes. | C441: R-DOC-FINAL | D441: A-DOC-FINAL | E441: 1 | F441: P-EFX | G441: T10 | H441: DOC-FINAL | J441: RUN-8 | K441: Initial registered revision. | L441: IMPORTED | M441: CLEAR
A442: EFFECTS Pass 6 figure manifest | B442: Preserved paths, captions, dependency roles, hashes, and Wave approval notes. | C442: R-SRC-MANIFEST | D442: A-SRC-MANIFEST | E442: 1 | F442: P-EFX | G442: T06 | H442: SRC-MANIFEST | K442: Initial registered revision. | L442: IMPORTED | M442: CLEAR
A443: F01 explanatory content | B443: Reconstructed from approved figure caption. | C443: R-CONTENT-F01 | D443: A-CONTENT-F01 | E443: 1 | F443: P-EFX | G443: T07 | H443: CONTENT-F01 | J443: RUN-3 | K443: Initial registered revision. | L443: RECONSTRUCTED | M443: CLEAR
A444: F01 contract | B444: Reconstructed explanatory obligation. | C444: R-CONTRACT-F01 | D444: A-CONTRACT-F01 | E444: 1 | F444: P-EFX | G444: T08 | H444: CONTRACT-F01 | J444: RUN-4 | K444: Initial registered revision. | L444: RECONSTRUCTED | M444: CLEAR
A445: EFX_F01_Common_Effect_Contract_v0.1.svg | B445: Exact preserved file, verified against local bytes. | C445: R-F01-SVG | D445: A-F01-SVG | E445: 1 | F445: P-EFX | G445: T10 | H445: F01-SVG | J445: RUN-6 | K445: Initial registered revision. | L445: IMPORTED | M445: CLEAR
A446: F01 svg role | B446: Editable visual construction. | C446: R-ASSET-F01-SVG | D446: A-ASSET-F01-SVG | E446: 1 | F446: P-EFX | G446: T09 | H446: ASSET-F01-SVG | J446: RUN-5 | K446: Initial registered revision. | L446: RECONSTRUCTED | M446: CLEAR
A447: EFX_F01_Common_Effect_Contract_v0.1.png | B447: Exact preserved file, verified against local bytes. | C447: R-F01-PNG | D447: A-F01-PNG | E447: 1 | F447: P-EFX | G447: T10 | H447: F01-PNG | J447: RUN-6 | K447: Initial registered revision. | L447: IMPORTED | M447: CLEAR
A448: F01 png role | B448: Document-ready raster representation. | C448: R-ASSET-F01-PNG | D448: A-ASSET-F01-PNG | E448: 1 | F448: P-EFX | G448: T09 | H448: ASSET-F01-PNG | J448: RUN-5 | K448: Initial registered revision. | L448: RECONSTRUCTED | M448: CLEAR
A449: F01 approved output | B449: Registered preserved figure implementation. | C449: R-OUTPUT-F01 | D449: A-OUTPUT-F01 | E449: 1 | F449: P-EFX | G449: T11 | H449: OUTPUT-F01 | J449: RUN-6 | K449: Initial registered revision. | L449: RECONSTRUCTED | M449: CLEAR
A450: F01 figure placement | B450: Reconstructed relative figure sequence in reviewed document. | C450: R-PLACE-F01 | D450: A-PLACE-F01 | E450: 1 | F450: P-EFX | G450: T12 | H450: PLACE-F01 | J450: RUN-7 | K450: Initial registered revision. | L450: RECONSTRUCTED | M450: CLEAR
A451: F02 explanatory content | B451: Reconstructed from approved figure caption. | C451: R-CONTENT-F02 | D451: A-CONTENT-F02 | E451: 1 | F451: P-EFX | G451: T07 | H451: CONTENT-F02 | J451: RUN-3 | K451: Initial registered revision. | L451: RECONSTRUCTED | M451: CLEAR
A452: F02 contract | B452: Reconstructed explanatory obligation. | C452: R-CONTRACT-F02 | D452: A-CONTRACT-F02 | E452: 1 | F452: P-EFX | G452: T08 | H452: CONTRACT-F02 | J452: RUN-4 | K452: Initial registered revision. | L452: RECONSTRUCTED | M452: CLEAR
A453: EFX_F02_Physical_Allocation_v0.1.svg | B453: Exact preserved file, verified against local bytes. | C453: R-F02-SVG | D453: A-F02-SVG | E453: 1 | F453: P-EFX | G453: T10 | H453: F02-SVG | J453: RUN-6 | K453: Initial registered revision. | L453: IMPORTED | M453: CLEAR
A454: F02 svg role | B454: Editable visual construction. | C454: R-ASSET-F02-SVG | D454: A-ASSET-F02-SVG | E454: 1 | F454: P-EFX | G454: T09 | H454: ASSET-F02-SVG | J454: RUN-5 | K454: Initial registered revision. | L454: RECONSTRUCTED | M454: CLEAR
... A507: EFFECTS reviewed candidate reference | B507: Worked-example reference release, reconstructed from preserved output. | C507: R-REL-EFX | D507: A-REL-EFX | E507: 1 | F507: P-EFX | G507: T17 | H507: REL-EFX | J507: RUN-8 | K507: Initial registered revision. | L507: RECONSTRUCTED | M507: CLEAR
A508: Preserve registered meaning | B508: One atomic constraint and its repair instruction. | C508: R-RULE-SEM | D508: A-RULE-SEM | E508: 1 | F508: P-TEMPLATE | G508: T29 | H508: RULE-SEM | K508: Initial registered revision. | L508: CONTEMPORANEOUS | M508: KEEP AS REFERENCE
A509: Reuse before recreation | B509: One atomic constraint and its repair instruction. | C509: R-RULE-REUSE | D509: A-RULE-REUSE | E509: 1 | F509: P-TEMPLATE | G509: T29 | H509: RULE-REUSE | K509: Initial registered revision. | L509: CONTEMPORANEOUS | M509: KEEP AS REFERENCE
A510: Legible technical layout | B510: One atomic constraint and its repair instruction. | C510: R-RULE-LAYOUT | D510: A-RULE-LAYOUT | E510: 1 | F510: P-TEMPLATE | G510: T29 | H510: RULE-LAYOUT | K510: Initial registered revision. | L510: CONTEMPORANEOUS | M510: KEEP AS REFERENCE
A511: Technical document rules | B511: One ordered set of reusable behavioral Rules. | C511: R-RULESET-TECH | D511: A-RULESET-TECH | E511: 1 | F511: P-TEMPLATE | G511: T28 | H511: RULESET-TECH | K511: Initial registered revision. | L511: CONTEMPORANEOUS | M511: KEEP AS REFERENCE
A512: Dark technical reference | B512: One visual vocabulary with separate retrieval and generation channels. | C512: R-THEME-NEON | D512: A-THEME-NEON | E512: 1 | F512: P-TEMPLATE | G512: T30 | H512: THEME-NEON | K512: Initial registered revision. | L512: CONTEMPORANEOUS | M512: KEEP AS REFERENCE
A513: Technical paper starting template | B513: One reusable presentation and assembly contract. | C513: R-TPL-TECH | D513: A-TPL-TECH | E513: 1 | F513: P-TEMPLATE | G513: T26 | H513: TPL-TECH | K513: Initial registered revision. | L513: CONTEMPORANEOUS | M513: KEEP AS REFERENCE
A514: HEADER slot | B514: One typed region and fit contract inside a Template. | C514: R-SLOT-HEADER | D514: A-SLOT-HEADER | E514: 1 | F514: P-TEMPLATE | G514: T27 | H514: SLOT-HEADER | K514: Initial registered revision. | L514: CONTEMPORANEOUS | M514: KEEP AS REFERENCE
A515: CONTINUANCE slot | B515: One typed region and fit contract inside a Template. | C515: R-SLOT-CONTINUANCE | D515: A-SLOT-CONTINUANCE | E515: 1 | F515: P-TEMPLATE | G515: T27 | H515: SLOT-CONTINUANCE | K515: Initial registered revision. | L515: CONTEMPORANEOUS | M515: KEEP AS REFERENCE
